BEGIN:VCALENDAR
VERSION:2.0
PRODID:-//Ordinariato Castrense - ECPv6.15.20//NONSGML v1.0//EN
CALSCALE:GREGORIAN
METHOD:PUBLISH
X-ORIGINAL-URL:https://ordinariato.castrense.pt
X-WR-CALDESC:Eventos para Ordinariato Castrense
REFRESH-INTERVAL;VALUE=DURATION:PT1H
X-Robots-Tag:noindex
X-PUBLISHED-TTL:PT1H
BEGIN:VTIMEZONE
TZID:UTC
BEGIN:STANDARD
TZOFFSETFROM:+0000
TZOFFSETTO:+0000
TZNAME:UTC
DTSTART:20170101T000000
END:STANDARD
END:VTIMEZONE
BEGIN:VEVENT
DTSTART;TZID=UTC:20180911T093000
DTEND;TZID=UTC:20180911T130000
DTSTAMP:20260423T082917
CREATED:20180801T092833Z
LAST-MODIFIED:20180801T092833Z
UID:5264-1536658200-1536670800@ordinariato.castrense.pt
SUMMARY:Conselho de Consultores
DESCRIPTION:MDN
URL:https://ordinariato.castrense.pt/evento/conselho-de-consultores-26/
END:VEVENT
BEGIN:VEVENT
DTSTART;TZID=UTC:20180906T180000
DTEND;TZID=UTC:20180906T183000
DTSTAMP:20260423T082917
CREATED:20180801T092452Z
LAST-MODIFIED:20180801T092452Z
UID:5262-1536256800-1536258600@ordinariato.castrense.pt
SUMMARY:Missa 1ª Quinta-feira
DESCRIPTION:Igreja da Memória \n 
URL:https://ordinariato.castrense.pt/evento/missa-1a-quinta-feira/
END:VEVENT
BEGIN:VEVENT
DTSTART;VALUE=DATE:20180822
DTEND;VALUE=DATE:20180823
DTSTAMP:20260423T082917
CREATED:20180417T103940Z
LAST-MODIFIED:20180417T103951Z
UID:4864-1534896000-1534982399@ordinariato.castrense.pt
SUMMARY:Comemoração da Batalha do Vimeiro
DESCRIPTION:Vimeiro \nEA
URL:https://ordinariato.castrense.pt/evento/comemoracao-da-batalha-do-vimeiro/
END:VEVENT
BEGIN:VEVENT
DTSTART;VALUE=DATE:20180815
DTEND;VALUE=DATE:20180816
DTSTAMP:20260423T082917
CREATED:20180417T103830Z
LAST-MODIFIED:20180417T103839Z
UID:4862-1534291200-1534377599@ordinariato.castrense.pt
SUMMARY:Comemoração da Batalha de Aljubarrota
DESCRIPTION:Aljubarrota \nRA4
URL:https://ordinariato.castrense.pt/evento/comemoracao-da-batalha-de-aljubarrota/
END:VEVENT
BEGIN:VEVENT
DTSTART;VALUE=DATE:20180814
DTEND;VALUE=DATE:20180815
DTSTAMP:20260423T082917
CREATED:20180417T103707Z
LAST-MODIFIED:20180417T103717Z
UID:4860-1534204800-1534291199@ordinariato.castrense.pt
SUMMARY:Dia da Infantaria
DESCRIPTION:
URL:https://ordinariato.castrense.pt/evento/dia-da-infantaria/
END:VEVENT
BEGIN:VEVENT
DTSTART;VALUE=DATE:20180716
DTEND;VALUE=DATE:20180717
DTSTAMP:20260423T082917
CREATED:20180417T103609Z
LAST-MODIFIED:20180417T103621Z
UID:4858-1531699200-1531785599@ordinariato.castrense.pt
SUMMARY:Dia de Nossa Senhora do Carmo\, Padroeira da GNR
DESCRIPTION:Lisboa
URL:https://ordinariato.castrense.pt/evento/dia-de-nossa-senhora-do-carmo-padroeira-da-gnr/
END:VEVENT
BEGIN:VEVENT
DTSTART;VALUE=DATE:20180708
DTEND;VALUE=DATE:20180709
DTSTAMP:20260423T082917
CREATED:20180417T103132Z
LAST-MODIFIED:20180417T103421Z
UID:4855-1531008000-1531094399@ordinariato.castrense.pt
SUMMARY:Evocação do acidente que vitimou pilotos da FA
DESCRIPTION:Coimbra \nCelebra o Pe. Martins
URL:https://ordinariato.castrense.pt/evento/evocacao-do-acidente-que-vitimou-pilotos-da-fa/
END:VEVENT
BEGIN:VEVENT
DTSTART;TZID=UTC:20180705T183000
DTEND;TZID=UTC:20180705T200000
DTSTAMP:20260423T082917
CREATED:20180417T102730Z
LAST-MODIFIED:20180417T102739Z
UID:4851-1530815400-1530820800@ordinariato.castrense.pt
SUMMARY:Missa da 1ª Quinta Feira
DESCRIPTION:Igreja da Memória \nCelebrada pelos Capelães
URL:https://ordinariato.castrense.pt/evento/missa-da-1a-quinta-feira-8/
END:VEVENT
BEGIN:VEVENT
DTSTART;TZID=UTC:20180703T093000
DTEND;TZID=UTC:20180703T130000
DTSTAMP:20260423T082917
CREATED:20180417T102504Z
LAST-MODIFIED:20180417T102517Z
UID:4849-1530610200-1530622800@ordinariato.castrense.pt
SUMMARY:Conselho de Consultores
DESCRIPTION:MDN
URL:https://ordinariato.castrense.pt/evento/conselho-de-consultores-25/
END:VEVENT
BEGIN:VEVENT
DTSTART;VALUE=DATE:20180702
DTEND;VALUE=DATE:20180703
DTSTAMP:20260423T082917
CREATED:20180417T102243Z
LAST-MODIFIED:20180417T102255Z
UID:4847-1530489600-1530575999@ordinariato.castrense.pt
SUMMARY:Dia da Polícia de Segurança Pública
DESCRIPTION:
URL:https://ordinariato.castrense.pt/evento/dia-da-policia-de-seguranca-publica/
END:VEVENT
BEGIN:VEVENT
DTSTART;VALUE=DATE:20180701
DTEND;VALUE=DATE:20180702
DTSTAMP:20260423T082917
CREATED:20180417T102136Z
LAST-MODIFIED:20180417T102147Z
UID:4845-1530403200-1530489599@ordinariato.castrense.pt
SUMMARY:Dia da Força Aérea
DESCRIPTION:
URL:https://ordinariato.castrense.pt/evento/dia-da-forca-aerea/
END:VEVENT
BEGIN:VEVENT
DTSTART;TZID=UTC:20180626T093000
DTEND;TZID=UTC:20180626T123000
DTSTAMP:20260423T082917
CREATED:20180129T121008Z
LAST-MODIFIED:20180612T095731Z
UID:4319-1530005400-1530016200@ordinariato.castrense.pt
SUMMARY:Conselho de Consultores
DESCRIPTION:MDN
URL:https://ordinariato.castrense.pt/evento/conselho-de-consultores-24/
END:VEVENT
BEGIN:VEVENT
DTSTART;VALUE=DATE:20180622
DTEND;VALUE=DATE:20180623
DTSTAMP:20260423T082917
CREATED:20180129T121531Z
LAST-MODIFIED:20180129T121531Z
UID:4327-1529625600-1529711999@ordinariato.castrense.pt
SUMMARY:37ª Peregrinação Militar Nacional a Fátima
DESCRIPTION:Fátima \nSaudação – Policia de Segurança Pública \nMissa – Marinha
URL:https://ordinariato.castrense.pt/evento/37a-peregrinacao-militar-nacional-a-fatima-2/
END:VEVENT
BEGIN:VEVENT
DTSTART;VALUE=DATE:20180621
DTEND;VALUE=DATE:20180622
DTSTAMP:20260423T082917
CREATED:20180129T121355Z
LAST-MODIFIED:20180129T121355Z
UID:4325-1529539200-1529625599@ordinariato.castrense.pt
SUMMARY:37ª Peregrinação Militar Nacional a Fátima
DESCRIPTION:Fátima \nVia Sacra – Força Aérea Portuguesa
URL:https://ordinariato.castrense.pt/evento/37a-peregrinacao-militar-nacional-a-fatima/
END:VEVENT
BEGIN:VEVENT
DTSTART;VALUE=DATE:20180617
DTEND;VALUE=DATE:20180618
DTSTAMP:20260423T082917
CREATED:20180129T121132Z
LAST-MODIFIED:20180129T121132Z
UID:4321-1529193600-1529279999@ordinariato.castrense.pt
SUMMARY:Comemoração da Batalha dos Montes Claros
DESCRIPTION:Borba \nCelebra Pe. Matos
URL:https://ordinariato.castrense.pt/evento/comemoracao-da-batalha-dos-montes-claros/
END:VEVENT
BEGIN:VEVENT
DTSTART;VALUE=DATE:20180610
DTEND;VALUE=DATE:20180611
DTSTAMP:20260423T082917
CREATED:20180129T120844Z
LAST-MODIFIED:20180129T120844Z
UID:4317-1528588800-1528675199@ordinariato.castrense.pt
SUMMARY:Encontro Nacional de Antigos Combatentes
DESCRIPTION:Jerónimos e Belém \nCapelão do Exército
URL:https://ordinariato.castrense.pt/evento/encontro-nacional-de-antigos-combatentes/
END:VEVENT
BEGIN:VEVENT
DTSTART;VALUE=DATE:20180610
DTEND;VALUE=DATE:20180611
DTSTAMP:20260423T082917
CREATED:20180129T120730Z
LAST-MODIFIED:20180129T120730Z
UID:4315-1528588800-1528675199@ordinariato.castrense.pt
SUMMARY:Dia de Camões e das Comunidades Portuguesas
DESCRIPTION:Homenagem aos Mortos \nOrganização do Exército \nCapelão do Exército
URL:https://ordinariato.castrense.pt/evento/dia-de-camoes-e-das-comunidades-portuguesas/
END:VEVENT
BEGIN:VEVENT
DTSTART;TZID=UTC:20180607T180000
DTEND;TZID=UTC:20180607T193000
DTSTAMP:20260423T082917
CREATED:20180129T120544Z
LAST-MODIFIED:20180129T120544Z
UID:4313-1528394400-1528399800@ordinariato.castrense.pt
SUMMARY:Missa da 1ª Quinta-Feira
DESCRIPTION:Igreja da Memória \nCelebra D. Manuel e Capelães
URL:https://ordinariato.castrense.pt/evento/missa-da-1a-quinta-feira-7/
END:VEVENT
BEGIN:VEVENT
DTSTART;VALUE=DATE:20180606
DTEND;VALUE=DATE:20180607
DTSTAMP:20260423T082917
CREATED:20180129T120410Z
LAST-MODIFIED:20180129T120410Z
UID:4311-1528243200-1528329599@ordinariato.castrense.pt
SUMMARY:SIC-FAP
DESCRIPTION:
URL:https://ordinariato.castrense.pt/evento/sic-fap/
END:VEVENT
BEGIN:VEVENT
DTSTART;VALUE=DATE:20180601
DTEND;VALUE=DATE:20180602
DTSTAMP:20260423T082917
CREATED:20180129T120324Z
LAST-MODIFIED:20180129T120324Z
UID:4309-1527811200-1527897599@ordinariato.castrense.pt
SUMMARY:Missa dos Combatentes
DESCRIPTION:Forte Bom Sucesso \nCelebra Pe. Martins
URL:https://ordinariato.castrense.pt/evento/missa-dos-combatentes/
END:VEVENT
BEGIN:VEVENT
DTSTART;TZID=UTC:20180527T100000
DTEND;TZID=UTC:20180527T120000
DTSTAMP:20260423T082917
CREATED:20180129T120108Z
LAST-MODIFIED:20180129T120217Z
UID:4307-1527415200-1527422400@ordinariato.castrense.pt
SUMMARY:Administração do Crisma no Alfeite
DESCRIPTION:Alfeite
URL:https://ordinariato.castrense.pt/evento/administracao-do-crisma-no-alfeite/
END:VEVENT
BEGIN:VEVENT
DTSTART;TZID=UTC:20180522T000000
DTEND;TZID=UTC:20180522T000000
DTSTAMP:20260423T082917
CREATED:20180129T115933Z
LAST-MODIFIED:20180129T115946Z
UID:4305-1526947200-1526947200@ordinariato.castrense.pt
SUMMARY:60ª PMI a Lurdes
DESCRIPTION:Chegada dos Peregrinos \nAlfragide
URL:https://ordinariato.castrense.pt/evento/60a-pmi-a-lurdes-6/
END:VEVENT
BEGIN:VEVENT
DTSTART;VALUE=DATE:20180521
DTEND;VALUE=DATE:20180522
DTSTAMP:20260423T082917
CREATED:20180129T115750Z
LAST-MODIFIED:20180129T115803Z
UID:4303-1526860800-1526947199@ordinariato.castrense.pt
SUMMARY:60ª PMI a Lurdes
DESCRIPTION:
URL:https://ordinariato.castrense.pt/evento/60a-pmi-a-lurdes-5/
END:VEVENT
BEGIN:VEVENT
DTSTART;VALUE=DATE:20180520
DTEND;VALUE=DATE:20180521
DTSTAMP:20260423T082917
CREATED:20180129T115557Z
LAST-MODIFIED:20180129T115652Z
UID:4301-1526774400-1526860799@ordinariato.castrense.pt
SUMMARY:Dia da Marinha
DESCRIPTION:
URL:https://ordinariato.castrense.pt/evento/dia-da-marinha/
END:VEVENT
BEGIN:VEVENT
DTSTART;VALUE=DATE:20180520
DTEND;VALUE=DATE:20180521
DTSTAMP:20260423T082917
CREATED:20180129T115511Z
LAST-MODIFIED:20180129T115522Z
UID:4299-1526774400-1526860799@ordinariato.castrense.pt
SUMMARY:60ª PMI a Lurdes
DESCRIPTION:
URL:https://ordinariato.castrense.pt/evento/60a-pmi-a-lurdes-4/
END:VEVENT
BEGIN:VEVENT
DTSTART;VALUE=DATE:20180519
DTEND;VALUE=DATE:20180520
DTSTAMP:20260423T082917
CREATED:20180129T115417Z
LAST-MODIFIED:20180129T115434Z
UID:4297-1526688000-1526774399@ordinariato.castrense.pt
SUMMARY:60ª PMI a Lurdes
DESCRIPTION:
URL:https://ordinariato.castrense.pt/evento/60a-pmi-a-lurdes-3/
END:VEVENT
BEGIN:VEVENT
DTSTART;VALUE=DATE:20180518
DTEND;VALUE=DATE:20180519
DTSTAMP:20260423T082917
CREATED:20180129T115246Z
LAST-MODIFIED:20180129T115257Z
UID:4295-1526601600-1526687999@ordinariato.castrense.pt
SUMMARY:60ª PMI a Lurdes
DESCRIPTION:
URL:https://ordinariato.castrense.pt/evento/60a-pmi-a-lurdes-2/
END:VEVENT
BEGIN:VEVENT
DTSTART;TZID=UTC:20180517T070000
DTEND;TZID=UTC:20180517T070000
DTSTAMP:20260423T082917
CREATED:20180129T115145Z
LAST-MODIFIED:20180129T115157Z
UID:4293-1526540400-1526540400@ordinariato.castrense.pt
SUMMARY:60ª PMI a Lurdes
DESCRIPTION:Partida dos Peregrinos \nAlfragide
URL:https://ordinariato.castrense.pt/evento/60a-pmi-a-lurdes/
END:VEVENT
BEGIN:VEVENT
DTSTART;TZID=UTC:20180515T093000
DTEND;TZID=UTC:20180515T123000
DTSTAMP:20260423T082917
CREATED:20180129T114629Z
LAST-MODIFIED:20180129T114942Z
UID:4291-1526376600-1526387400@ordinariato.castrense.pt
SUMMARY:Conselho de Consultores
DESCRIPTION:MDN
URL:https://ordinariato.castrense.pt/evento/conselho-de-consultores-23/
END:VEVENT
BEGIN:VEVENT
DTSTART;TZID=UTC:20180506T110000
DTEND;TZID=UTC:20180506T160000
DTSTAMP:20260423T082917
CREATED:20180129T114421Z
LAST-MODIFIED:20180129T114432Z
UID:4289-1525604400-1525622400@ordinariato.castrense.pt
SUMMARY:Missa e Procissão da Senhora da Saúde
DESCRIPTION:Igreja de S. Domingos
URL:https://ordinariato.castrense.pt/evento/missa-e-procissao-da-senhora-da-saude/
END:VEVENT
END:VCALENDAR