BEGIN:VCALENDAR
VERSION:2.0
PRODID:-//Ordinariato Castrense - ECPv6.15.20//NONSGML v1.0//EN
CALSCALE:GREGORIAN
METHOD:PUBLISH
X-ORIGINAL-URL:https://ordinariato.castrense.pt
X-WR-CALDESC:Eventos para Ordinariato Castrense
REFRESH-INTERVAL;VALUE=DURATION:PT1H
X-Robots-Tag:noindex
X-PUBLISHED-TTL:PT1H
BEGIN:VTIMEZONE
TZID:UTC
BEGIN:STANDARD
TZOFFSETFROM:+0000
TZOFFSETTO:+0000
TZNAME:UTC
DTSTART:20170101T000000
END:STANDARD
END:VTIMEZONE
BEGIN:VEVENT
DTSTART;VALUE=DATE:20180504
DTEND;VALUE=DATE:20180505
DTSTAMP:20260423T135131
CREATED:20180129T113528Z
LAST-MODIFIED:20180129T114238Z
UID:4287-1525392000-1525478399@ordinariato.castrense.pt
SUMMARY:Missa Liga dos Combatentes
DESCRIPTION:Forte Bom Sucesso \nCelebra Pe. Matos
URL:https://ordinariato.castrense.pt/evento/missa-liga-dos-combatentes-5/
END:VEVENT
BEGIN:VEVENT
DTSTART;TZID=UTC:20180503T180000
DTEND;TZID=UTC:20180503T193000
DTSTAMP:20260423T135131
CREATED:20180129T113331Z
LAST-MODIFIED:20180129T113356Z
UID:4285-1525370400-1525375800@ordinariato.castrense.pt
SUMMARY:Missa da 1ª Quinta-Feira
DESCRIPTION:Igreja da Memória \nCelebra D. Manuel e Capelães
URL:https://ordinariato.castrense.pt/evento/missa-da-1a-quinta-feira-6/
END:VEVENT
BEGIN:VEVENT
DTSTART;VALUE=DATE:20180427
DTEND;VALUE=DATE:20180428
DTSTAMP:20260423T135131
CREATED:20180129T112927Z
LAST-MODIFIED:20180129T112957Z
UID:4283-1524787200-1524873599@ordinariato.castrense.pt
SUMMARY:Missa no Dia da Guarda Nacional Republicana
DESCRIPTION:Basílica dos Mártires
URL:https://ordinariato.castrense.pt/evento/missa-no-dia-da-guarda-nacional-republicana/
END:VEVENT
BEGIN:VEVENT
DTSTART;TZID=UTC:20180426T180000
DTEND;TZID=UTC:20180426T193000
DTSTAMP:20260423T135131
CREATED:20180129T112752Z
LAST-MODIFIED:20180129T112803Z
UID:4281-1524765600-1524771000@ordinariato.castrense.pt
SUMMARY:Bênção dos Finalistas das ESM e ISCPSI
DESCRIPTION:ISCPSI
URL:https://ordinariato.castrense.pt/evento/bencao-dos-finalistas-das-esm-e-iscpsi/
END:VEVENT
BEGIN:VEVENT
DTSTART;TZID=UTC:20180417T093000
DTEND;TZID=UTC:20180417T123000
DTSTAMP:20260423T135131
CREATED:20180129T112200Z
LAST-MODIFIED:20180129T112619Z
UID:4279-1523957400-1523968200@ordinariato.castrense.pt
SUMMARY:Conselho de Consultores
DESCRIPTION:MDN
URL:https://ordinariato.castrense.pt/evento/conselho-de-consultores-22/
END:VEVENT
BEGIN:VEVENT
DTSTART;VALUE=DATE:20180413
DTEND;VALUE=DATE:20180414
DTSTAMP:20260423T135131
CREATED:20180129T112028Z
LAST-MODIFIED:20180129T112038Z
UID:4277-1523577600-1523663999@ordinariato.castrense.pt
SUMMARY:XII Peregrinação a Fátima a pé
DESCRIPTION:Fátima \nCelebração da Missa
URL:https://ordinariato.castrense.pt/evento/xii-peregrinacao-a-fatima-a-pe-4/
END:VEVENT
BEGIN:VEVENT
DTSTART;VALUE=DATE:20180412
DTEND;VALUE=DATE:20180413
DTSTAMP:20260423T135131
CREATED:20180129T111848Z
LAST-MODIFIED:20180129T111900Z
UID:4275-1523491200-1523577599@ordinariato.castrense.pt
SUMMARY:XII Peregrinação a Fátima a pé
DESCRIPTION:
URL:https://ordinariato.castrense.pt/evento/xii-peregrinacao-a-fatima-a-pe-3/
END:VEVENT
BEGIN:VEVENT
DTSTART;VALUE=DATE:20180411
DTEND;VALUE=DATE:20180412
DTSTAMP:20260423T135131
CREATED:20180129T111758Z
LAST-MODIFIED:20180129T111811Z
UID:4273-1523404800-1523491199@ordinariato.castrense.pt
SUMMARY:XII Peregrinação a Fátima a pé
DESCRIPTION:
URL:https://ordinariato.castrense.pt/evento/xii-peregrinacao-a-fatima-a-pe-2/
END:VEVENT
BEGIN:VEVENT
DTSTART;VALUE=DATE:20180410
DTEND;VALUE=DATE:20180411
DTSTAMP:20260423T135131
CREATED:20180129T111716Z
LAST-MODIFIED:20180129T111716Z
UID:4271-1523318400-1523404799@ordinariato.castrense.pt
SUMMARY:XII Peregrinação a Fátima a pé
DESCRIPTION:Concentração e partida \nIgreja Sra.dos Navegantes (Parque das Nações)
URL:https://ordinariato.castrense.pt/evento/xii-peregrinacao-a-fatima-a-pe/
END:VEVENT
BEGIN:VEVENT
DTSTART;VALUE=DATE:20180406
DTEND;VALUE=DATE:20180407
DTSTAMP:20260423T135131
CREATED:20180129T110140Z
LAST-MODIFIED:20180129T110140Z
UID:4269-1522972800-1523059199@ordinariato.castrense.pt
SUMMARY:Missa Liga dos Combatentes
DESCRIPTION:Forte Bom Sucesso \nCelebra Pe. Ilídio
URL:https://ordinariato.castrense.pt/evento/missa-liga-dos-combatentes-4/
END:VEVENT
BEGIN:VEVENT
DTSTART;VALUE=DATE:20180406
DTEND;VALUE=DATE:20180407
DTSTAMP:20260423T135131
CREATED:20180129T110006Z
LAST-MODIFIED:20180129T110022Z
UID:4267-1522972800-1523059199@ordinariato.castrense.pt
SUMMARY:Comemoração Batalha dos Atoleiros
DESCRIPTION:Homenagem aos Mortos \nIgreja de Fronteira \nCelebra Pe. Matos
URL:https://ordinariato.castrense.pt/evento/comemoracao-batalha-dos-atoleiros/
END:VEVENT
BEGIN:VEVENT
DTSTART;TZID=UTC:20180405T180000
DTEND;TZID=UTC:20180405T193000
DTSTAMP:20260423T135131
CREATED:20180129T104938Z
LAST-MODIFIED:20180129T104957Z
UID:4265-1522951200-1522956600@ordinariato.castrense.pt
SUMMARY:Missa da 1ª Quinta-Feira
DESCRIPTION:Igreja da Memória \nCelebram D. Manuel e Capelães
URL:https://ordinariato.castrense.pt/evento/missa-da-1a-quinta-feira-5/
END:VEVENT
BEGIN:VEVENT
DTSTART;TZID=UTC:20180328T110000
DTEND;TZID=UTC:20180328T130000
DTSTAMP:20260423T135131
CREATED:20180102T230525Z
LAST-MODIFIED:20180102T230535Z
UID:4090-1522234800-1522242000@ordinariato.castrense.pt
SUMMARY:Missa Crismal com todos os Capelães - Bênção dos óleos
DESCRIPTION:Igreja da Memória \nCoro da Guarda Nacional Republicana
URL:https://ordinariato.castrense.pt/evento/missa-crismal-com-todos-os-capelaes-bencao-dos-oleos/
END:VEVENT
BEGIN:VEVENT
DTSTART;VALUE=DATE:20180323
DTEND;VALUE=DATE:20180324
DTSTAMP:20260423T135131
CREATED:20180102T230256Z
LAST-MODIFIED:20180102T230326Z
UID:4088-1521763200-1521849599@ordinariato.castrense.pt
SUMMARY:Celebração Pascal - AM
DESCRIPTION:Academia Militar
URL:https://ordinariato.castrense.pt/evento/celebracao-pascal-am/
END:VEVENT
BEGIN:VEVENT
DTSTART;TZID=UTC:20180322T160000
DTEND;TZID=UTC:20180322T180000
DTSTAMP:20260423T135131
CREATED:20180102T230004Z
LAST-MODIFIED:20180102T230014Z
UID:4084-1521734400-1521741600@ordinariato.castrense.pt
SUMMARY:Confissões na Igreja da Memória
DESCRIPTION:Igreja da Memória \nPe. Fanha
URL:https://ordinariato.castrense.pt/evento/confissoes-na-igreja-da-memoria-6/
END:VEVENT
BEGIN:VEVENT
DTSTART;VALUE=DATE:20180322
DTEND;VALUE=DATE:20180323
DTSTAMP:20260423T135131
CREATED:20180102T230142Z
LAST-MODIFIED:20180102T230155Z
UID:4086-1521676800-1521763199@ordinariato.castrense.pt
SUMMARY:Celebração Pascal - AFA e AT1
DESCRIPTION:Academia da Força Aérea
URL:https://ordinariato.castrense.pt/evento/celebracao-pascal-afa-e-at1/
END:VEVENT
BEGIN:VEVENT
DTSTART;VALUE=DATE:20180321
DTEND;VALUE=DATE:20180322
DTSTAMP:20260423T135131
CREATED:20180102T225826Z
LAST-MODIFIED:20180102T225836Z
UID:4082-1521590400-1521676799@ordinariato.castrense.pt
SUMMARY:Celebração Pascal - EN
DESCRIPTION:Escola Naval \n 
URL:https://ordinariato.castrense.pt/evento/celebracao-pascal-en/
END:VEVENT
BEGIN:VEVENT
DTSTART;TZID=UTC:20180320T093000
DTEND;TZID=UTC:20180320T123000
DTSTAMP:20260423T135131
CREATED:20180102T225625Z
LAST-MODIFIED:20180102T225635Z
UID:4080-1521538200-1521549000@ordinariato.castrense.pt
SUMMARY:Conselho de Consultores
DESCRIPTION:MDN \n 
URL:https://ordinariato.castrense.pt/evento/conselho-de-consultores-21/
END:VEVENT
BEGIN:VEVENT
DTSTART;TZID=UTC:20180315T160000
DTEND;TZID=UTC:20180315T180000
DTSTAMP:20260423T135131
CREATED:20180102T225509Z
LAST-MODIFIED:20180102T225529Z
UID:4078-1521129600-1521136800@ordinariato.castrense.pt
SUMMARY:Confissões na Igreja da Memória
DESCRIPTION:Igreja da Memória \nPe. Agostinho
URL:https://ordinariato.castrense.pt/evento/confissoes-na-igreja-da-memoria-5/
END:VEVENT
BEGIN:VEVENT
DTSTART;TZID=UTC:20180314T210000
DTEND;TZID=UTC:20180314T230000
DTSTAMP:20260423T135131
CREATED:20180102T225345Z
LAST-MODIFIED:20180102T225355Z
UID:4076-1521061200-1521068400@ordinariato.castrense.pt
SUMMARY:Via Sacra Diocesana no RAAA 1
DESCRIPTION:Queluz
URL:https://ordinariato.castrense.pt/evento/via-sacra-diocesana-no-raaa-1/
END:VEVENT
BEGIN:VEVENT
DTSTART;TZID=UTC:20180308T160000
DTEND;TZID=UTC:20180308T180000
DTSTAMP:20260423T135131
CREATED:20180102T225146Z
LAST-MODIFIED:20180102T225155Z
UID:4074-1520524800-1520532000@ordinariato.castrense.pt
SUMMARY:Confissões na Igreja da Memória
DESCRIPTION:Igreja da Memória \nPe. Martins
URL:https://ordinariato.castrense.pt/evento/confissoes-na-igreja-da-memoria-4/
END:VEVENT
BEGIN:VEVENT
DTSTART;VALUE=DATE:20180302
DTEND;VALUE=DATE:20180303
DTSTAMP:20260423T135131
CREATED:20180102T225003Z
LAST-MODIFIED:20180102T225017Z
UID:4072-1519948800-1520035199@ordinariato.castrense.pt
SUMMARY:Missa da Liga dos Combatentes
DESCRIPTION:Forte do Bom Sucesso \nCelebra Pe. Fanha
URL:https://ordinariato.castrense.pt/evento/missa-da-liga-dos-combatentes-2/
END:VEVENT
BEGIN:VEVENT
DTSTART;TZID=UTC:20180301T180000
DTEND;TZID=UTC:20180301T193000
DTSTAMP:20260423T135131
CREATED:20180102T224320Z
LAST-MODIFIED:20180102T224330Z
UID:4070-1519927200-1519932600@ordinariato.castrense.pt
SUMMARY:Missa da 1ª Quinta-Feira
DESCRIPTION:Igreja da Memória \nD. Manuel Linda e Capelães
URL:https://ordinariato.castrense.pt/evento/missa-da-1a-quinta-feira-4/
END:VEVENT
BEGIN:VEVENT
DTSTART;TZID=UTC:20180301T160000
DTEND;TZID=UTC:20180301T180000
DTSTAMP:20260423T135131
CREATED:20180102T224147Z
LAST-MODIFIED:20180102T224158Z
UID:4068-1519920000-1519927200@ordinariato.castrense.pt
SUMMARY:Confissões na Igreja da Memória
DESCRIPTION:Igreja da Memória \nPe. Matos
URL:https://ordinariato.castrense.pt/evento/confissoes-na-igreja-da-memoria-3/
END:VEVENT
BEGIN:VEVENT
DTSTART;VALUE=DATE:20180301
DTEND;VALUE=DATE:20180310
DTSTAMP:20260423T135131
CREATED:20171109T120702Z
LAST-MODIFIED:20171109T120702Z
UID:3785-1519862400-1520639999@ordinariato.castrense.pt
SUMMARY:Peregrinação à Terra Santa e Jordânia
DESCRIPTION:Peregrinação do Ordinariato Castrense. \n 
URL:https://ordinariato.castrense.pt/evento/peregrinacao-a-terra-santa-e-jordania/
END:VEVENT
BEGIN:VEVENT
DTSTART;TZID=UTC:20180228T093000
DTEND;TZID=UTC:20180228T163000
DTSTAMP:20260423T135131
CREATED:20180102T223855Z
LAST-MODIFIED:20180102T223904Z
UID:4066-1519810200-1519835400@ordinariato.castrense.pt
SUMMARY:Conselho Presbiteral
DESCRIPTION:MDN \nD. Manuel Linda e Capelães
URL:https://ordinariato.castrense.pt/evento/conselho-presbiteral-5/
END:VEVENT
BEGIN:VEVENT
DTSTART;TZID=UTC:20180225T100000
DTEND;TZID=UTC:20180225T140000
DTSTAMP:20260423T135131
CREATED:20180102T223643Z
LAST-MODIFIED:20180102T223703Z
UID:4064-1519552800-1519567200@ordinariato.castrense.pt
SUMMARY:Encontro de famílias militares - Casais
DESCRIPTION:Monsanto
URL:https://ordinariato.castrense.pt/evento/encontro-de-familias-militares-casais/
END:VEVENT
BEGIN:VEVENT
DTSTART;TZID=UTC:20180222T160000
DTEND;TZID=UTC:20180222T180000
DTSTAMP:20260423T135131
CREATED:20180102T223432Z
LAST-MODIFIED:20180102T223441Z
UID:4062-1519315200-1519322400@ordinariato.castrense.pt
SUMMARY:Confissões na Igreja da Memória
DESCRIPTION:Igreja da Memória \nPe. José Ilídio
URL:https://ordinariato.castrense.pt/evento/confissoes-na-igreja-da-memoria-2/
END:VEVENT
BEGIN:VEVENT
DTSTART;TZID=UTC:20180215T160000
DTEND;TZID=UTC:20180215T180000
DTSTAMP:20260423T135131
CREATED:20180102T223156Z
LAST-MODIFIED:20180102T223205Z
UID:4060-1518710400-1518717600@ordinariato.castrense.pt
SUMMARY:Confissões na Igreja da Memória
DESCRIPTION:Igreja da Memória \nD. Manuel Linda
URL:https://ordinariato.castrense.pt/evento/confissoes-na-igreja-da-memoria/
END:VEVENT
BEGIN:VEVENT
DTSTART;TZID=UTC:20180214T143000
DTEND;TZID=UTC:20180214T183000
DTSTAMP:20260423T135131
CREATED:20180102T222149Z
LAST-MODIFIED:20180102T222211Z
UID:4054-1518618600-1518633000@ordinariato.castrense.pt
SUMMARY:Conselho de Consultores
DESCRIPTION:MDN
URL:https://ordinariato.castrense.pt/evento/conselho-de-consultores-20/
END:VEVENT
END:VCALENDAR