BEGIN:VCALENDAR
VERSION:2.0
PRODID:-//Ordinariato Castrense - ECPv6.15.20//NONSGML v1.0//EN
CALSCALE:GREGORIAN
METHOD:PUBLISH
X-ORIGINAL-URL:https://ordinariato.castrense.pt
X-WR-CALDESC:Eventos para Ordinariato Castrense
REFRESH-INTERVAL;VALUE=DURATION:PT1H
X-Robots-Tag:noindex
X-PUBLISHED-TTL:PT1H
BEGIN:VTIMEZONE
TZID:UTC
BEGIN:STANDARD
TZOFFSETFROM:+0000
TZOFFSETTO:+0000
TZNAME:UTC
DTSTART:20160101T000000
END:STANDARD
END:VTIMEZONE
BEGIN:VEVENT
DTSTART;TZID=UTC:20171219T110000
DTEND;TZID=UTC:20171219T123000
DTSTAMP:20260423T211336
CREATED:20171213T222031Z
LAST-MODIFIED:20171213T222043Z
UID:3971-1513681200-1513686600@ordinariato.castrense.pt
SUMMARY:Missa de Natal da ES
DESCRIPTION:Oferta de generos para a CSV Paulo \nPóvoa do Varzim \nCelebra o capelão da unidade \n 
URL:https://ordinariato.castrense.pt/evento/missa-de-natal-da-es/
END:VEVENT
BEGIN:VEVENT
DTSTART;TZID=UTC:20171219T110000
DTEND;TZID=UTC:20171219T110000
DTSTAMP:20260423T211336
CREATED:20171213T221212Z
LAST-MODIFIED:20171213T221222Z
UID:3965-1513681200-1513681200@ordinariato.castrense.pt
SUMMARY:Missa de Natal Reg. de Transportes
DESCRIPTION:Lisboa \nCelebra o Pe. Catarino
URL:https://ordinariato.castrense.pt/evento/missa-de-natal-reg-de-transportes/
END:VEVENT
BEGIN:VEVENT
DTSTART;TZID=UTC:20171219T100000
DTEND;TZID=UTC:20171219T110000
DTSTAMP:20260423T211336
CREATED:20171113T222757Z
LAST-MODIFIED:20171213T205616Z
UID:3856-1513677600-1513681200@ordinariato.castrense.pt
SUMMARY:Missa de Natal no Comando Geral da GNR
DESCRIPTION:Largo do Carmo \nCelebra o Pe. Agostinho
URL:https://ordinariato.castrense.pt/evento/missa-de-natal-no-comando-geral-da-gnr/
END:VEVENT
BEGIN:VEVENT
DTSTART;TZID=UTC:20171218T110000
DTEND;TZID=UTC:20171218T123000
DTSTAMP:20260423T211336
CREATED:20171213T220630Z
LAST-MODIFIED:20171213T220644Z
UID:3961-1513594800-1513600200@ordinariato.castrense.pt
SUMMARY:Reunião com Capelão do RI 1
DESCRIPTION:Beja \nPe. Matos
URL:https://ordinariato.castrense.pt/evento/reuniao-com-capelao-do-ri-1/
END:VEVENT
BEGIN:VEVENT
DTSTART;TZID=UTC:20171218T110000
DTEND;TZID=UTC:20171218T123000
DTSTAMP:20260423T211336
CREATED:20171113T222159Z
LAST-MODIFIED:20171113T222159Z
UID:3854-1513594800-1513600200@ordinariato.castrense.pt
SUMMARY:Missa de Natal no AT1 e no EMFA
DESCRIPTION:Celebra o Pe. Martins
URL:https://ordinariato.castrense.pt/evento/missa-de-natal-no-at1-e-no-emfa/
END:VEVENT
BEGIN:VEVENT
DTSTART;TZID=UTC:20171218T110000
DTEND;TZID=UTC:20171218T110000
DTSTAMP:20260423T211336
CREATED:20171213T220955Z
LAST-MODIFIED:20171213T221012Z
UID:3963-1513594800-1513594800@ordinariato.castrense.pt
SUMMARY:Missa de Natal RI 10
DESCRIPTION:S. Jacinto \nCapazes de natal aos pobres \nCapelão da unidade
URL:https://ordinariato.castrense.pt/evento/missa-de-natal-ri-10/
END:VEVENT
BEGIN:VEVENT
DTSTART;TZID=UTC:20171218T090000
DTEND;TZID=UTC:20171218T110000
DTSTAMP:20260423T211336
CREATED:20171113T221858Z
LAST-MODIFIED:20171113T221930Z
UID:3852-1513587600-1513594800@ordinariato.castrense.pt
SUMMARY:Missa de Natal no Comando Aéreo
DESCRIPTION:Monsanto \nCelebra o Pe. Martins
URL:https://ordinariato.castrense.pt/evento/missa-de-natal-no-comando-aereo/
END:VEVENT
BEGIN:VEVENT
DTSTART;TZID=UTC:20171216T090000
DTEND;TZID=UTC:20171216T103000
DTSTAMP:20260423T211336
CREATED:20171113T221547Z
LAST-MODIFIED:20171113T221623Z
UID:3850-1513414800-1513420200@ordinariato.castrense.pt
SUMMARY:Celebração de Natal na Fóia
DESCRIPTION:Fóia \nCelebra o Pe. Martins
URL:https://ordinariato.castrense.pt/evento/celebracao-de-natal-na-foia/
END:VEVENT
BEGIN:VEVENT
DTSTART;TZID=UTC:20171215T110000
DTEND;TZID=UTC:20171215T123000
DTSTAMP:20260423T211336
CREATED:20171213T203142Z
LAST-MODIFIED:20171213T203153Z
UID:3952-1513335600-1513341000@ordinariato.castrense.pt
SUMMARY:Dia do Regimento de Transportes
DESCRIPTION:Homenagem aos Mortos \nCelebra o Pe. Catarino \nLisboa
URL:https://ordinariato.castrense.pt/evento/dia-do-regimento-de-transportes/
END:VEVENT
BEGIN:VEVENT
DTSTART;TZID=UTC:20171215T110000
DTEND;TZID=UTC:20171215T120000
DTSTAMP:20260423T211336
CREATED:20171213T203549Z
LAST-MODIFIED:20171213T203615Z
UID:3954-1513335600-1513339200@ordinariato.castrense.pt
SUMMARY:Missa de Natal na Escola Naval
DESCRIPTION:Celebra D. Manuel Linda
URL:https://ordinariato.castrense.pt/evento/missa-de-natal-na-escola-naval/
END:VEVENT
BEGIN:VEVENT
DTSTART;TZID=UTC:20171215T090000
DTEND;TZID=UTC:20171215T110000
DTSTAMP:20260423T211336
CREATED:20171113T221210Z
LAST-MODIFIED:20171113T221252Z
UID:3848-1513328400-1513335600@ordinariato.castrense.pt
SUMMARY:Missa Liga dos Combatentes
DESCRIPTION:Forte do Bom Sucesso \nCelebra o Pe. Matos
URL:https://ordinariato.castrense.pt/evento/missa-liga-dos-combatentes-2/
END:VEVENT
BEGIN:VEVENT
DTSTART;TZID=UTC:20171214T180000
DTEND;TZID=UTC:20171214T193000
DTSTAMP:20260423T211336
CREATED:20171213T202540Z
LAST-MODIFIED:20171213T202553Z
UID:3948-1513274400-1513279800@ordinariato.castrense.pt
SUMMARY:Missa de Natal
DESCRIPTION:RI 1 – Beja \nCelebra o capelão da unidade
URL:https://ordinariato.castrense.pt/evento/missa-de-natal/
END:VEVENT
BEGIN:VEVENT
DTSTART;TZID=UTC:20171214T113000
DTEND;TZID=UTC:20171214T130000
DTSTAMP:20260423T211336
CREATED:20171213T195323Z
LAST-MODIFIED:20171213T195854Z
UID:3946-1513251000-1513256400@ordinariato.castrense.pt
SUMMARY:Missa Natal da DCSI
DESCRIPTION:Igreja da Glória \nCelebra o Pe. Matos
URL:https://ordinariato.castrense.pt/evento/missa-natal-da-dcsi/
END:VEVENT
BEGIN:VEVENT
DTSTART;TZID=UTC:20171214T110000
DTEND;TZID=UTC:20171214T123000
DTSTAMP:20260423T211336
CREATED:20171213T202825Z
LAST-MODIFIED:20171213T202838Z
UID:3950-1513249200-1513254600@ordinariato.castrense.pt
SUMMARY:Missa de Natal
DESCRIPTION:RI 14 – Viseu \nCelebra o capelão da unidade
URL:https://ordinariato.castrense.pt/evento/missa-de-natal-2/
END:VEVENT
BEGIN:VEVENT
DTSTART;TZID=UTC:20171214T110000
DTEND;TZID=UTC:20171214T123000
DTSTAMP:20260423T211336
CREATED:20171113T215158Z
LAST-MODIFIED:20171113T215233Z
UID:3844-1513249200-1513254600@ordinariato.castrense.pt
SUMMARY:Missa Natal da DGRDN
DESCRIPTION:Igreja da Memória
URL:https://ordinariato.castrense.pt/evento/missa-natal-da-dgrdn/
END:VEVENT
BEGIN:VEVENT
DTSTART;TZID=UTC:20171213T180000
DTEND;TZID=UTC:20171213T213000
DTSTAMP:20260423T211336
CREATED:20171113T214519Z
LAST-MODIFIED:20171113T214623Z
UID:3840-1513188000-1513200600@ordinariato.castrense.pt
SUMMARY:Missa e Ceia de Natal dos Capelães
DESCRIPTION:Igreja da Memória
URL:https://ordinariato.castrense.pt/evento/missa-e-ceia-de-natal-dos-capelaes/
END:VEVENT
BEGIN:VEVENT
DTSTART;TZID=UTC:20171213T143000
DTEND;TZID=UTC:20171213T160000
DTSTAMP:20260423T211336
CREATED:20171113T212217Z
LAST-MODIFIED:20171113T212252Z
UID:3836-1513175400-1513180800@ordinariato.castrense.pt
SUMMARY:Conselho de Consultores
DESCRIPTION:MDN
URL:https://ordinariato.castrense.pt/evento/conselho-de-consultores-18/
END:VEVENT
BEGIN:VEVENT
DTSTART;TZID=UTC:20171212T180000
DTEND;TZID=UTC:20171212T190000
DTSTAMP:20260423T211336
CREATED:20171113T211925Z
LAST-MODIFIED:20171113T211956Z
UID:3834-1513101600-1513105200@ordinariato.castrense.pt
SUMMARY:Conferência de D. Manuel Clemente na Academia de Marinha
DESCRIPTION:Academia de Marinha
URL:https://ordinariato.castrense.pt/evento/conferencia-de-d-manuel-clemente-na-academia-de-marinha/
END:VEVENT
BEGIN:VEVENT
DTSTART;TZID=UTC:20171212T090000
DTEND;TZID=UTC:20171212T100000
DTSTAMP:20260423T211336
CREATED:20171113T211747Z
LAST-MODIFIED:20171113T211759Z
UID:3832-1513069200-1513072800@ordinariato.castrense.pt
SUMMARY:Celebração de Natal
DESCRIPTION:Paços de Ferreira \nCelebra o Pe. Martins
URL:https://ordinariato.castrense.pt/evento/celebracao-de-natal/
END:VEVENT
BEGIN:VEVENT
DTSTART;TZID=UTC:20171207T180000
DTEND;TZID=UTC:20171207T190000
DTSTAMP:20260423T211336
CREATED:20171113T211542Z
LAST-MODIFIED:20171113T211554Z
UID:3830-1512669600-1512673200@ordinariato.castrense.pt
SUMMARY:Missa da 1ª Quinta feira
DESCRIPTION:Igreja da Memória
URL:https://ordinariato.castrense.pt/evento/missa-da-1a-quinta-feira/
END:VEVENT
BEGIN:VEVENT
DTSTART;TZID=UTC:20171204T090000
DTEND;TZID=UTC:20171204T100000
DTSTAMP:20260423T211336
CREATED:20171113T211408Z
LAST-MODIFIED:20171113T211420Z
UID:3828-1512378000-1512381600@ordinariato.castrense.pt
SUMMARY:Dia da Artilharia no RA5 – Missa e H. Mortos
DESCRIPTION:Vendas Novas \nCelebra o Pe. Matos
URL:https://ordinariato.castrense.pt/evento/dia-da-artilharia-no-ra5-missa-e-h-mortos/
END:VEVENT
BEGIN:VEVENT
DTSTART;TZID=UTC:20171126T100000
DTEND;TZID=UTC:20171126T120000
DTSTAMP:20260423T211336
CREATED:20171113T210610Z
LAST-MODIFIED:20171113T210622Z
UID:3826-1511690400-1511697600@ordinariato.castrense.pt
SUMMARY:Encontro de famílias militares
DESCRIPTION:Colónia Férias GNR
URL:https://ordinariato.castrense.pt/evento/encontro-de-familias-militares/
END:VEVENT
BEGIN:VEVENT
DTSTART;TZID=UTC:20171122T110000
DTEND;TZID=UTC:20171122T123000
DTSTAMP:20260423T211336
CREATED:20171113T210408Z
LAST-MODIFIED:20171113T210421Z
UID:3824-1511348400-1511353800@ordinariato.castrense.pt
SUMMARY:Celebração Eucarística nos 700 anos da Marinha Portuguesa
DESCRIPTION:Jerónimos \nCelebra D. Manuel Linda
URL:https://ordinariato.castrense.pt/evento/celebracao-eucaristica-nos-700-anos-da-marinha-portuguesa/
END:VEVENT
BEGIN:VEVENT
DTSTART;TZID=UTC:20171121T170000
DTEND;TZID=UTC:20171121T180000
DTSTAMP:20260423T211336
CREATED:20171113T205705Z
LAST-MODIFIED:20171113T205717Z
UID:3822-1511283600-1511287200@ordinariato.castrense.pt
SUMMARY:Conselho Pastoral
DESCRIPTION:MDN
URL:https://ordinariato.castrense.pt/evento/conselho-pastoral/
END:VEVENT
BEGIN:VEVENT
DTSTART;TZID=UTC:20171121T143000
DTEND;TZID=UTC:20171121T170000
DTSTAMP:20260423T211336
CREATED:20171113T205544Z
LAST-MODIFIED:20171113T205556Z
UID:3820-1511274600-1511283600@ordinariato.castrense.pt
SUMMARY:Conselho de Consultores
DESCRIPTION:MDN \n 
URL:https://ordinariato.castrense.pt/evento/conselho-de-consultores-17/
END:VEVENT
BEGIN:VEVENT
DTSTART;TZID=UTC:20171121T090000
DTEND;TZID=UTC:20171121T220000
DTSTAMP:20260423T211336
CREATED:20171113T205013Z
LAST-MODIFIED:20171113T205024Z
UID:3815-1511254800-1511301600@ordinariato.castrense.pt
SUMMARY:Dia do Comando de Pessoal do Exército - Eucaristia
DESCRIPTION:Porto \nCelebra o Pe. Matos
URL:https://ordinariato.castrense.pt/evento/dia-do-comando-de-pessoal-do-exercito-eucaristia/
END:VEVENT
BEGIN:VEVENT
DTSTART;TZID=UTC:20171121T090000
DTEND;TZID=UTC:20171121T100000
DTSTAMP:20260423T211336
CREATED:20171113T205344Z
LAST-MODIFIED:20171113T205357Z
UID:3818-1511254800-1511258400@ordinariato.castrense.pt
SUMMARY:Reunião CCA'S
DESCRIPTION:Messe de Monsanto
URL:https://ordinariato.castrense.pt/evento/reuniao-ccas/
END:VEVENT
BEGIN:VEVENT
DTSTART;TZID=UTC:20171117T090000
DTEND;TZID=UTC:20171117T210000
DTSTAMP:20260423T211336
CREATED:20171113T194622Z
LAST-MODIFIED:20171113T194633Z
UID:3812-1510909200-1510952400@ordinariato.castrense.pt
SUMMARY:Dia da Unidade do RC3
DESCRIPTION:Estremoz \nCelebra o Pe. Matos
URL:https://ordinariato.castrense.pt/evento/dia-da-unidade-do-rc3/
END:VEVENT
BEGIN:VEVENT
DTSTART;TZID=UTC:20171116T090000
DTEND;TZID=UTC:20171116T090000
DTSTAMP:20260423T211336
CREATED:20171113T194000Z
LAST-MODIFIED:20171113T194236Z
UID:3808-1510822800-1510822800@ordinariato.castrense.pt
SUMMARY:Armistício - Liga dos Combatentes
DESCRIPTION:Évora \nCelebra o Pe. Matos
URL:https://ordinariato.castrense.pt/evento/armisticio-liga-dos-combatentes/
LOCATION:Évora
END:VEVENT
BEGIN:VEVENT
DTSTART;TZID=UTC:20171110T110000
DTEND;TZID=UTC:20171110T110000
DTSTAMP:20260423T211336
CREATED:20171109T120245Z
LAST-MODIFIED:20171109T120245Z
UID:3783-1510311600-1510311600@ordinariato.castrense.pt
SUMMARY:Missa Liga dos Combatentes
DESCRIPTION:No Forte do Bom Sucesso. \nCelebra o Pe. José Ilídio
URL:https://ordinariato.castrense.pt/evento/missa-liga-dos-combatentes/
END:VEVENT
END:VCALENDAR