BEGIN:VCALENDAR
VERSION:2.0
PRODID:-//Ordinariato Castrense - ECPv6.15.20//NONSGML v1.0//EN
CALSCALE:GREGORIAN
METHOD:PUBLISH
X-WR-CALNAME:Ordinariato Castrense
X-ORIGINAL-URL:https://ordinariato.castrense.pt
X-WR-CALDESC:Eventos para Ordinariato Castrense
REFRESH-INTERVAL;VALUE=DURATION:PT1H
X-Robots-Tag:noindex
X-PUBLISHED-TTL:PT1H
BEGIN:VTIMEZONE
TZID:UTC
BEGIN:STANDARD
TZOFFSETFROM:+0000
TZOFFSETTO:+0000
TZNAME:UTC
DTSTART:20160101T000000
END:STANDARD
END:VTIMEZONE
BEGIN:VEVENT
DTSTART;VALUE=DATE:20170409
DTEND;VALUE=DATE:20170410
DTSTAMP:20260424T024506
CREATED:20170210T192339Z
LAST-MODIFIED:20170321T225149Z
UID:2927-1491696000-1491782399@ordinariato.castrense.pt
SUMMARY:Comemoração da Batalha de La Lys (Batalha)
DESCRIPTION:
URL:https://ordinariato.castrense.pt/evento/comemoracao-da-batalha-de-la-lys-batalha/
END:VEVENT
BEGIN:VEVENT
DTSTART;VALUE=DATE:20170407
DTEND;VALUE=DATE:20170408
DTSTAMP:20260424T024506
CREATED:20170210T192257Z
LAST-MODIFIED:20170210T192257Z
UID:2925-1491523200-1491609599@ordinariato.castrense.pt
SUMMARY:Celebração pascal na Academia da Força Aérea
DESCRIPTION:
URL:https://ordinariato.castrense.pt/evento/celebracao-pascal-na-academia-da-forca-aerea/
END:VEVENT
BEGIN:VEVENT
DTSTART;TZID=UTC:20170406T160000
DTEND;TZID=UTC:20170406T180000
DTSTAMP:20260424T024506
CREATED:20170210T185837Z
LAST-MODIFIED:20170210T185837Z
UID:2913-1491494400-1491501600@ordinariato.castrense.pt
SUMMARY:Confissões quaresmais\, na igreja da Memória
DESCRIPTION:
URL:https://ordinariato.castrense.pt/evento/confissoes-quaresmais-na-igreja-da-memoria-4/
END:VEVENT
BEGIN:VEVENT
DTSTART;VALUE=DATE:20170405
DTEND;VALUE=DATE:20170406
DTSTAMP:20260424T024506
CREATED:20170210T192137Z
LAST-MODIFIED:20170210T192137Z
UID:2921-1491350400-1491436799@ordinariato.castrense.pt
SUMMARY:Celebração pascal na Escola Naval
DESCRIPTION:
URL:https://ordinariato.castrense.pt/evento/celebracao-pascal-na-escola-naval/
END:VEVENT
BEGIN:VEVENT
DTSTART;TZID=UTC:20170404T180000
DTEND;TZID=UTC:20170404T235900
DTSTAMP:20260424T024506
CREATED:20170210T192223Z
LAST-MODIFIED:20170321T225820Z
UID:2923-1491328800-1491350340@ordinariato.castrense.pt
SUMMARY:Celebração pascal na Academia Militar
DESCRIPTION:
URL:https://ordinariato.castrense.pt/evento/celebracao-pascal-na-academia-militar/
END:VEVENT
BEGIN:VEVENT
DTSTART;TZID=UTC:20170404T093000
DTEND;TZID=UTC:20170404T130000
DTSTAMP:20260424T024506
CREATED:20170210T192103Z
LAST-MODIFIED:20170210T192110Z
UID:2919-1491298200-1491310800@ordinariato.castrense.pt
SUMMARY:Conselho de Consultores
DESCRIPTION:
URL:https://ordinariato.castrense.pt/evento/conselho-de-consultores-16/
END:VEVENT
BEGIN:VEVENT
DTSTART;TZID=UTC:20170402T120000
DTEND;TZID=UTC:20170402T130000
DTSTAMP:20260424T024506
CREATED:20170321T224943Z
LAST-MODIFIED:20170321T224943Z
UID:3038-1491134400-1491138000@ordinariato.castrense.pt
SUMMARY:Cruz de Malta: Missa no Farol da Guia
DESCRIPTION:D. Manuel Linda\, assistente espiritual da Cruz de malta\, celebra a Eucaristia para esta Instituição de beneficência\, ao meio dia
URL:https://ordinariato.castrense.pt/evento/cruz-de-malta-missa-no-farol-da-guia/
END:VEVENT
BEGIN:VEVENT
DTSTART;VALUE=DATE:20170331
DTEND;VALUE=DATE:20170401
DTSTAMP:20260424T024506
CREATED:20170321T224737Z
LAST-MODIFIED:20170321T224737Z
UID:3036-1490918400-1491004799@ordinariato.castrense.pt
SUMMARY:Dia do Comando Aéreo
DESCRIPTION:Bispo marcará presença. De manhã\, às 9h00\, o Capelão Adjunto para a Força Aérea celebra a Missa de acção de graças.
URL:https://ordinariato.castrense.pt/evento/dia-do-comando-aereo/
END:VEVENT
BEGIN:VEVENT
DTSTART;TZID=UTC:20170330T160000
DTEND;TZID=UTC:20170330T180000
DTSTAMP:20260424T024506
CREATED:20170210T185737Z
LAST-MODIFIED:20170210T185737Z
UID:2911-1490889600-1490896800@ordinariato.castrense.pt
SUMMARY:Confissões quaresmais\, na igreja da Memória
DESCRIPTION:
URL:https://ordinariato.castrense.pt/evento/confissoes-quaresmais-na-igreja-da-memoria-3/
END:VEVENT
BEGIN:VEVENT
DTSTART;TZID=UTC:20170330T113000
DTEND;TZID=UTC:20170330T170000
DTSTAMP:20260424T024506
CREATED:20170321T224634Z
LAST-MODIFIED:20170321T224634Z
UID:3034-1490873400-1490893200@ordinariato.castrense.pt
SUMMARY:Bispo visita Estado-Maior da Armada
DESCRIPTION:E celebra a Missa às 11h30\, na capela de S. Roque dos Carpinteiros de Machado.
URL:https://ordinariato.castrense.pt/evento/bispo-visita-estado-maior-da-armada/
END:VEVENT
BEGIN:VEVENT
DTSTART;TZID=UTC:20170329T210000
DTEND;TZID=UTC:20170329T220000
DTSTAMP:20260424T024506
CREATED:20160924T161056Z
LAST-MODIFIED:20160924T161056Z
UID:2294-1490821200-1490824800@ordinariato.castrense.pt
SUMMARY:Via Sacra Diocesana
DESCRIPTION:Como tradicionalmente\, para militares de todos os Ramos e para as Forças de Segurança. No Regimento de Artilharia Anti-Aérea Nº 1\, em Queluz.
URL:https://ordinariato.castrense.pt/evento/via-sacra-diocesana-2/
END:VEVENT
BEGIN:VEVENT
DTSTART;VALUE=DATE:20170329
DTEND;VALUE=DATE:20170330
DTSTAMP:20260424T024506
CREATED:20170321T224432Z
LAST-MODIFIED:20170321T224432Z
UID:3032-1490745600-1490831999@ordinariato.castrense.pt
SUMMARY:Visita Pastoral à ETNA
DESCRIPTION:Bispo visita a Escola de Tecnologias Navais do Alfeite. Fala aos alunos e celebra a Eucaristia.
URL:https://ordinariato.castrense.pt/evento/visita-pastoral-a-etna/
END:VEVENT
BEGIN:VEVENT
DTSTART;TZID=UTC:20170328T100000
DTEND;TZID=UTC:20170328T100000
DTSTAMP:20260424T024506
CREATED:20170321T224302Z
LAST-MODIFIED:20170321T224302Z
UID:3030-1490695200-1490695200@ordinariato.castrense.pt
SUMMARY:Reunião da Equipa Coordenadora do Seminário sobre a paz
DESCRIPTION:Na Capelania Mor
URL:https://ordinariato.castrense.pt/evento/reuniao-da-equipa-coordenadora-do-seminario-sobre-a-paz/
END:VEVENT
BEGIN:VEVENT
DTSTART;VALUE=DATE:20170324
DTEND;VALUE=DATE:20170325
DTSTAMP:20260424T024506
CREATED:20170210T191916Z
LAST-MODIFIED:20170210T191916Z
UID:2917-1490313600-1490399999@ordinariato.castrense.pt
SUMMARY:Missa no 1º aniversário do falecimento do P. Assunção (Coimbra)
DESCRIPTION:
URL:https://ordinariato.castrense.pt/evento/missa-no-1o-aniversario-do-falecimento-do-p-assuncao-coimbra/
END:VEVENT
BEGIN:VEVENT
DTSTART;TZID=UTC:20170323T160000
DTEND;TZID=UTC:20170323T180000
DTSTAMP:20260424T024506
CREATED:20170210T185659Z
LAST-MODIFIED:20170210T185659Z
UID:2909-1490284800-1490292000@ordinariato.castrense.pt
SUMMARY:Confissões quaresmais\, na igreja da Memória
DESCRIPTION:
URL:https://ordinariato.castrense.pt/evento/confissoes-quaresmais-na-igreja-da-memoria-2/
END:VEVENT
BEGIN:VEVENT
DTSTART;TZID=UTC:20170318T090000
DTEND;TZID=UTC:20170318T100000
DTSTAMP:20260424T024506
CREATED:20170210T185434Z
LAST-MODIFIED:20170210T185441Z
UID:2905-1489827600-1489831200@ordinariato.castrense.pt
SUMMARY:Comemoração dos 150 anos do Comando Metropolitano de Lisboa da PSP
DESCRIPTION:Com Missa
URL:https://ordinariato.castrense.pt/evento/comemoracao-dos-150-anos-do-comando-metropolitano-de-lisboa-da-psp/
END:VEVENT
BEGIN:VEVENT
DTSTART;TZID=UTC:20170317T093000
DTEND;TZID=UTC:20170317T130000
DTSTAMP:20260424T024506
CREATED:20170210T191815Z
LAST-MODIFIED:20170210T191815Z
UID:2915-1489743000-1489755600@ordinariato.castrense.pt
SUMMARY:Conselho de Consultores
DESCRIPTION:
URL:https://ordinariato.castrense.pt/evento/conselho-de-consultores-15/
END:VEVENT
BEGIN:VEVENT
DTSTART;TZID=UTC:20170316T160000
DTEND;TZID=UTC:20170316T180000
DTSTAMP:20260424T024506
CREATED:20170210T185611Z
LAST-MODIFIED:20170210T185611Z
UID:2907-1489680000-1489687200@ordinariato.castrense.pt
SUMMARY:Confissões quaresmais\, na igreja da Memória
DESCRIPTION:
URL:https://ordinariato.castrense.pt/evento/confissoes-quaresmais-na-igreja-da-memoria/
END:VEVENT
BEGIN:VEVENT
DTSTART;TZID=UTC:20170306T093000
DTEND;TZID=UTC:20170306T143000
DTSTAMP:20260424T024506
CREATED:20160924T160906Z
LAST-MODIFIED:20161118T104246Z
UID:2292-1488792600-1488810600@ordinariato.castrense.pt
SUMMARY:Encontro de Famílias
DESCRIPTION:O tradicional encontro de formação e convívio\, promovido pela Pastoral Familiar. Na Colónia de Férias da Guarda Nacional Republicana\, na Costa da Caparica.
URL:https://ordinariato.castrense.pt/evento/encontro-de-familias/
END:VEVENT
BEGIN:VEVENT
DTSTART;TZID=UTC:20170306T080000
DTEND;TZID=UTC:20170310T170000
DTSTAMP:20260424T024506
CREATED:20161228T165426Z
LAST-MODIFIED:20161228T165426Z
UID:2765-1488787200-1489165200@ordinariato.castrense.pt
SUMMARY:Retiro do Episcopado
DESCRIPTION:Em Fátima. Para todos os bispos.
URL:https://ordinariato.castrense.pt/evento/retiro-do-episcopado/
END:VEVENT
BEGIN:VEVENT
DTSTART;TZID=UTC:20170305T100000
DTEND;TZID=UTC:20170305T160000
DTSTAMP:20260424T024506
CREATED:20161228T165327Z
LAST-MODIFIED:20161228T165327Z
UID:2763-1488708000-1488729600@ordinariato.castrense.pt
SUMMARY:Encontro de Famílias
DESCRIPTION:Habitual encontro de início de Quaresma. Na Messe de Monsanto\, da Força Aérea.
URL:https://ordinariato.castrense.pt/evento/encontro-de-familias-2/
END:VEVENT
BEGIN:VEVENT
DTSTART;TZID=UTC:20170301T180000
DTEND;TZID=UTC:20170301T190000
DTSTAMP:20260424T024506
CREATED:20170210T185102Z
LAST-MODIFIED:20170210T185102Z
UID:2903-1488391200-1488394800@ordinariato.castrense.pt
SUMMARY:Imposição das cinzas
DESCRIPTION:Na igreja da Memória.
URL:https://ordinariato.castrense.pt/evento/imposicao-das-cinzas-2/
END:VEVENT
BEGIN:VEVENT
DTSTART;VALUE=DATE:20170225
DTEND;VALUE=DATE:20170305
DTSTAMP:20260424T024506
CREATED:20161228T165100Z
LAST-MODIFIED:20161228T165100Z
UID:2761-1487980800-1488671999@ordinariato.castrense.pt
SUMMARY:Peregrinação à Terra Santa
DESCRIPTION:
URL:https://ordinariato.castrense.pt/evento/peregrinacao-a-terra-santa/
END:VEVENT
BEGIN:VEVENT
DTSTART;TZID=UTC:20170218T184500
DTEND;TZID=UTC:20170218T194500
DTSTAMP:20260424T024506
CREATED:20160924T160708Z
LAST-MODIFIED:20160924T160708Z
UID:2290-1487443500-1487447100@ordinariato.castrense.pt
SUMMARY:Encontro de Universitários Finalistas
DESCRIPTION:Também para alunos das nossas Escolas Superiores Militares e Policial. No CEUC
URL:https://ordinariato.castrense.pt/evento/encontro-de-universitarios-finalistas/
END:VEVENT
BEGIN:VEVENT
DTSTART;VALUE=DATE:20170208
DTEND;VALUE=DATE:20170209
DTSTAMP:20260424T024506
CREATED:20161228T164953Z
LAST-MODIFIED:20161228T164953Z
UID:2759-1486512000-1486598399@ordinariato.castrense.pt
SUMMARY:Conselho Presbiteral
DESCRIPTION:Ao longo de todo o dia.
URL:https://ordinariato.castrense.pt/evento/conselho-presbiteral-4/
END:VEVENT
BEGIN:VEVENT
DTSTART;TZID=UTC:20170203T000000
DTEND;TZID=UTC:20170203T150000
DTSTAMP:20260424T024506
CREATED:20161228T164913Z
LAST-MODIFIED:20161228T164913Z
UID:2757-1486080000-1486134000@ordinariato.castrense.pt
SUMMARY:Reunião com CCA\,s
DESCRIPTION:
URL:https://ordinariato.castrense.pt/evento/reuniao-com-ccas/
END:VEVENT
BEGIN:VEVENT
DTSTART;VALUE=DATE:20170120
DTEND;VALUE=DATE:20170121
DTSTAMP:20260424T024506
CREATED:20161228T164704Z
LAST-MODIFIED:20161228T164704Z
UID:2755-1484870400-1484956799@ordinariato.castrense.pt
SUMMARY:Reunião Geral de Capelães
DESCRIPTION:Em Fátima.
URL:https://ordinariato.castrense.pt/evento/reuniao-geral-de-capelaes-2/
END:VEVENT
BEGIN:VEVENT
DTSTART;TZID=UTC:20170116T180000
DTEND;TZID=UTC:20170119T200000
DTSTAMP:20260424T024506
CREATED:20161228T164620Z
LAST-MODIFIED:20161228T164620Z
UID:2753-1484589600-1484856000@ordinariato.castrense.pt
SUMMARY:Retiro de Capelães
DESCRIPTION:Em Fátima. Orienta D. José Cordeiro\, Bispo de Bragança.
URL:https://ordinariato.castrense.pt/evento/retiro-de-capelaes/
END:VEVENT
BEGIN:VEVENT
DTSTART;TZID=UTC:20170116T150000
DTEND;TZID=UTC:20170116T180000
DTSTAMP:20260424T024506
CREATED:20161228T164459Z
LAST-MODIFIED:20161228T164459Z
UID:2751-1484578800-1484589600@ordinariato.castrense.pt
SUMMARY:Conselho de Consultores
DESCRIPTION:Desta vez\, em Fátima\, no início do retiro dos capelães.
URL:https://ordinariato.castrense.pt/evento/conselho-de-consultores-14/
END:VEVENT
BEGIN:VEVENT
DTSTART;TZID=UTC:20170116T100000
DTEND;TZID=UTC:20170116T140000
DTSTAMP:20260424T024506
CREATED:20161228T164347Z
LAST-MODIFIED:20161228T164347Z
UID:2749-1484560800-1484575200@ordinariato.castrense.pt
SUMMARY:ER Montejunto: Nossa Senhora do Ar
DESCRIPTION:A costumada Missa e procissão\, na Estação de Radar de Montejunto.
URL:https://ordinariato.castrense.pt/evento/er-montejunto-nossa-senhora-do-ar/
END:VEVENT
END:VCALENDAR