BEGIN:VCALENDAR
VERSION:2.0
PRODID:-//Ordinariato Castrense - ECPv6.15.20//NONSGML v1.0//EN
CALSCALE:GREGORIAN
METHOD:PUBLISH
X-ORIGINAL-URL:https://ordinariato.castrense.pt
X-WR-CALDESC:Eventos para Ordinariato Castrense
REFRESH-INTERVAL;VALUE=DURATION:PT1H
X-Robots-Tag:noindex
X-PUBLISHED-TTL:PT1H
BEGIN:VTIMEZONE
TZID:UTC
BEGIN:STANDARD
TZOFFSETFROM:+0000
TZOFFSETTO:+0000
TZNAME:UTC
DTSTART:20150101T000000
END:STANDARD
END:VTIMEZONE
BEGIN:VEVENT
DTSTART;TZID=UTC:20170305T100000
DTEND;TZID=UTC:20170305T160000
DTSTAMP:20260424T050249
CREATED:20161228T165327Z
LAST-MODIFIED:20161228T165327Z
UID:2763-1488708000-1488729600@ordinariato.castrense.pt
SUMMARY:Encontro de Famílias
DESCRIPTION:Habitual encontro de início de Quaresma. Na Messe de Monsanto\, da Força Aérea.
URL:https://ordinariato.castrense.pt/evento/encontro-de-familias-2/
END:VEVENT
BEGIN:VEVENT
DTSTART;TZID=UTC:20170301T180000
DTEND;TZID=UTC:20170301T190000
DTSTAMP:20260424T050249
CREATED:20170210T185102Z
LAST-MODIFIED:20170210T185102Z
UID:2903-1488391200-1488394800@ordinariato.castrense.pt
SUMMARY:Imposição das cinzas
DESCRIPTION:Na igreja da Memória.
URL:https://ordinariato.castrense.pt/evento/imposicao-das-cinzas-2/
END:VEVENT
BEGIN:VEVENT
DTSTART;VALUE=DATE:20170225
DTEND;VALUE=DATE:20170305
DTSTAMP:20260424T050249
CREATED:20161228T165100Z
LAST-MODIFIED:20161228T165100Z
UID:2761-1487980800-1488671999@ordinariato.castrense.pt
SUMMARY:Peregrinação à Terra Santa
DESCRIPTION:
URL:https://ordinariato.castrense.pt/evento/peregrinacao-a-terra-santa/
END:VEVENT
BEGIN:VEVENT
DTSTART;TZID=UTC:20170218T184500
DTEND;TZID=UTC:20170218T194500
DTSTAMP:20260424T050249
CREATED:20160924T160708Z
LAST-MODIFIED:20160924T160708Z
UID:2290-1487443500-1487447100@ordinariato.castrense.pt
SUMMARY:Encontro de Universitários Finalistas
DESCRIPTION:Também para alunos das nossas Escolas Superiores Militares e Policial. No CEUC
URL:https://ordinariato.castrense.pt/evento/encontro-de-universitarios-finalistas/
END:VEVENT
BEGIN:VEVENT
DTSTART;VALUE=DATE:20170208
DTEND;VALUE=DATE:20170209
DTSTAMP:20260424T050249
CREATED:20161228T164953Z
LAST-MODIFIED:20161228T164953Z
UID:2759-1486512000-1486598399@ordinariato.castrense.pt
SUMMARY:Conselho Presbiteral
DESCRIPTION:Ao longo de todo o dia.
URL:https://ordinariato.castrense.pt/evento/conselho-presbiteral-4/
END:VEVENT
BEGIN:VEVENT
DTSTART;TZID=UTC:20170203T000000
DTEND;TZID=UTC:20170203T150000
DTSTAMP:20260424T050249
CREATED:20161228T164913Z
LAST-MODIFIED:20161228T164913Z
UID:2757-1486080000-1486134000@ordinariato.castrense.pt
SUMMARY:Reunião com CCA\,s
DESCRIPTION:
URL:https://ordinariato.castrense.pt/evento/reuniao-com-ccas/
END:VEVENT
BEGIN:VEVENT
DTSTART;VALUE=DATE:20170120
DTEND;VALUE=DATE:20170121
DTSTAMP:20260424T050249
CREATED:20161228T164704Z
LAST-MODIFIED:20161228T164704Z
UID:2755-1484870400-1484956799@ordinariato.castrense.pt
SUMMARY:Reunião Geral de Capelães
DESCRIPTION:Em Fátima.
URL:https://ordinariato.castrense.pt/evento/reuniao-geral-de-capelaes-2/
END:VEVENT
BEGIN:VEVENT
DTSTART;TZID=UTC:20170116T180000
DTEND;TZID=UTC:20170119T200000
DTSTAMP:20260424T050249
CREATED:20161228T164620Z
LAST-MODIFIED:20161228T164620Z
UID:2753-1484589600-1484856000@ordinariato.castrense.pt
SUMMARY:Retiro de Capelães
DESCRIPTION:Em Fátima. Orienta D. José Cordeiro\, Bispo de Bragança.
URL:https://ordinariato.castrense.pt/evento/retiro-de-capelaes/
END:VEVENT
BEGIN:VEVENT
DTSTART;TZID=UTC:20170116T150000
DTEND;TZID=UTC:20170116T180000
DTSTAMP:20260424T050249
CREATED:20161228T164459Z
LAST-MODIFIED:20161228T164459Z
UID:2751-1484578800-1484589600@ordinariato.castrense.pt
SUMMARY:Conselho de Consultores
DESCRIPTION:Desta vez\, em Fátima\, no início do retiro dos capelães.
URL:https://ordinariato.castrense.pt/evento/conselho-de-consultores-14/
END:VEVENT
BEGIN:VEVENT
DTSTART;TZID=UTC:20170116T100000
DTEND;TZID=UTC:20170116T140000
DTSTAMP:20260424T050249
CREATED:20161228T164347Z
LAST-MODIFIED:20161228T164347Z
UID:2749-1484560800-1484575200@ordinariato.castrense.pt
SUMMARY:ER Montejunto: Nossa Senhora do Ar
DESCRIPTION:A costumada Missa e procissão\, na Estação de Radar de Montejunto.
URL:https://ordinariato.castrense.pt/evento/er-montejunto-nossa-senhora-do-ar/
END:VEVENT
BEGIN:VEVENT
DTSTART;VALUE=DATE:20170103
DTEND;VALUE=DATE:20170104
DTSTAMP:20260424T050249
CREATED:20161228T164135Z
LAST-MODIFIED:20161228T164135Z
UID:2747-1483401600-1483487999@ordinariato.castrense.pt
SUMMARY:Inicio do Curso de Capelães Militares
DESCRIPTION:Na sede da Academia Militar.
URL:https://ordinariato.castrense.pt/evento/inicio-do-curso-de-capelaes-militares/
END:VEVENT
BEGIN:VEVENT
DTSTART;VALUE=DATE:20170101
DTEND;VALUE=DATE:20170102
DTSTAMP:20260424T050249
CREATED:20161228T164036Z
LAST-MODIFIED:20161228T164036Z
UID:2745-1483228800-1483315199@ordinariato.castrense.pt
SUMMARY:Dia Mundial da Paz
DESCRIPTION:A mensagem do Papa para este dia é de leitura «obrigatória».
URL:https://ordinariato.castrense.pt/evento/dia-mundial-da-paz-2/
END:VEVENT
BEGIN:VEVENT
DTSTART;TZID=UTC:20161222T180000
DTEND;TZID=UTC:20161222T210000
DTSTAMP:20260424T050249
CREATED:20161214T221838Z
LAST-MODIFIED:20161214T222221Z
UID:2631-1482429600-1482440400@ordinariato.castrense.pt
SUMMARY:Natal no RI19
DESCRIPTION:O Regimento de Infantaria Nº 19\, de Chaves\, celebra a sua festa de Natal\, na qual se insere a Eucaristia. Preside o  P. António Joaquim.
URL:https://ordinariato.castrense.pt/evento/natal-no-ri19/
END:VEVENT
BEGIN:VEVENT
DTSTART;VALUE=DATE:20161222
DTEND;VALUE=DATE:20161223
DTSTAMP:20260424T050249
CREATED:20161214T220326Z
LAST-MODIFIED:20161214T220326Z
UID:2620-1482364800-1482451199@ordinariato.castrense.pt
SUMMARY:Bispo visita detidos
DESCRIPTION:No Estabelecimento Prisional Militar de Tomar
URL:https://ordinariato.castrense.pt/evento/bispo-visita-detidos/
END:VEVENT
BEGIN:VEVENT
DTSTART;VALUE=DATE:20161221
DTEND;VALUE=DATE:20161222
DTSTAMP:20260424T050249
CREATED:20161214T223506Z
LAST-MODIFIED:20161214T223506Z
UID:2645-1482278400-1482364799@ordinariato.castrense.pt
SUMMARY:Início de Curso de Capelães
DESCRIPTION:Na Academia Militar (sede). 3 novos capelães iniciam a sua preparação.
URL:https://ordinariato.castrense.pt/evento/inicio-de-curso-de-capelaes/
END:VEVENT
BEGIN:VEVENT
DTSTART;TZID=UTC:20161220T233000
DTEND;TZID=UTC:20161220T233000
DTSTAMP:20260424T050249
CREATED:20161214T221031Z
LAST-MODIFIED:20161214T221630Z
UID:2626-1482276600-1482276600@ordinariato.castrense.pt
SUMMARY:Natal no RAME
DESCRIPTION:O Regimento de Apoio Militar de Emergência\, sediado em Abrantes\, celebra a sua festa de Natal\, na qual se insere a Eucaristia. Preside o senhor Bispo. Organiza o Capelão\, P. António Joaquim
URL:https://ordinariato.castrense.pt/evento/natal-no-re1/
END:VEVENT
BEGIN:VEVENT
DTSTART;TZID=UTC:20161220T033000
DTEND;TZID=UTC:20161220T190000
DTSTAMP:20260424T050249
CREATED:20161214T222330Z
LAST-MODIFIED:20161214T222342Z
UID:2636-1482204600-1482260400@ordinariato.castrense.pt
SUMMARY:Natal na BrigMec
DESCRIPTION:A Brigada Mecanizada\, de Santa Margarida\, celebra a sua festa de Natal\, na qual se insere a Eucaristia. Preside o senhor Bispo. Organiza o Capelão\, P. António Joaquim
URL:https://ordinariato.castrense.pt/evento/natal-na-brigmec/
END:VEVENT
BEGIN:VEVENT
DTSTART;TZID=UTC:20161219T110000
DTEND;TZID=UTC:20161219T150000
DTSTAMP:20260424T050249
CREATED:20161214T223355Z
LAST-MODIFIED:20161214T223355Z
UID:2643-1482145200-1482159600@ordinariato.castrense.pt
SUMMARY:Visita à Escola de Paraquedistas
DESCRIPTION:O senhor Bispo visita esta Unidade de Tancos\, no contexto da homenagem aos cinco paraquedistas que perderam a vida nos Balcãs\, em Missão de Paz.
URL:https://ordinariato.castrense.pt/evento/visita-a-escola-de-paraquedistas/
END:VEVENT
BEGIN:VEVENT
DTSTART;TZID=UTC:20161216T110000
DTEND;TZID=UTC:20161216T140000
DTSTAMP:20260424T050249
CREATED:20161214T223020Z
LAST-MODIFIED:20161214T223020Z
UID:2641-1481886000-1481896800@ordinariato.castrense.pt
SUMMARY:Natal na Escola Naval
DESCRIPTION:Missa seguida de Convívio\, ao almoço. A Eucaristia é presidida pelo senhor Bispo.
URL:https://ordinariato.castrense.pt/evento/natal-na-escola-naval/
END:VEVENT
BEGIN:VEVENT
DTSTART;VALUE=DATE:20161216
DTEND;VALUE=DATE:20161217
DTSTAMP:20260424T050249
CREATED:20160930T213144Z
LAST-MODIFIED:20160930T213144Z
UID:2356-1481846400-1481932799@ordinariato.castrense.pt
SUMMARY:Celebração do Natal no Colégio Militar
DESCRIPTION:Bispo celebra e participa na “Ceia de Natal” do Colégio
URL:https://ordinariato.castrense.pt/evento/celebracao-do-natal-no-colegio-militar/
END:VEVENT
BEGIN:VEVENT
DTSTART;VALUE=DATE:20161216
DTEND;VALUE=DATE:20161217
DTSTAMP:20260424T050249
CREATED:20161214T215553Z
LAST-MODIFIED:20161214T215553Z
UID:2614-1481846400-1481932799@ordinariato.castrense.pt
SUMMARY:Celebração de Natal na BA11
DESCRIPTION:Missa às 11.30\, seguida de almoço de confraternização. Antes da Missa\, confissões.\n 
URL:https://ordinariato.castrense.pt/evento/celebracao-de-natal-na-ba11/
END:VEVENT
BEGIN:VEVENT
DTSTART;VALUE=DATE:20161216
DTEND;VALUE=DATE:20161217
DTSTAMP:20260424T050249
CREATED:20161124T172522Z
LAST-MODIFIED:20161124T172522Z
UID:2569-1481846400-1481932799@ordinariato.castrense.pt
SUMMARY:Escola das Armas: Festa de Natal
DESCRIPTION:Em Mafra. Haverá a celebração da Missa\, mas também uma campanha de sensibilização de todas as pessoas e a boa vontade para angariar produtos doados (géneros alimentares\, brinquedos e roupas) com o intuito de serem entregues as pessoas mais carenciadas.
URL:https://ordinariato.castrense.pt/evento/escola-das-armas-festa-de-natal/
END:VEVENT
BEGIN:VEVENT
DTSTART;TZID=UTC:20161215T110000
DTEND;TZID=UTC:20161215T140000
DTSTAMP:20260424T050249
CREATED:20161214T222816Z
LAST-MODIFIED:20161214T222835Z
UID:2638-1481799600-1481810400@ordinariato.castrense.pt
SUMMARY:Natal do Comando Geral da Guarda
DESCRIPTION:Na basílica dos Mártires\, em Lisboa. Preside o senhor Bispo. Segue-se o convívio\, ao almoço.
URL:https://ordinariato.castrense.pt/evento/natal-do-comando-geral-da-guarda/
END:VEVENT
BEGIN:VEVENT
DTSTART;TZID=UTC:20161215T050000
DTEND;TZID=UTC:20161215T180000
DTSTAMP:20260424T050249
CREATED:20161214T220901Z
LAST-MODIFIED:20161214T220901Z
UID:2624-1481778000-1481824800@ordinariato.castrense.pt
SUMMARY:Natal no RMan
DESCRIPTION:O Regimento de Manutenção\, no Entroncamento\, celebra a sua festa de Natal\, na qual se insere a Eucaristia. Preside o Capelão\, P. Costa.
URL:https://ordinariato.castrense.pt/evento/natal-no-rman/
END:VEVENT
BEGIN:VEVENT
DTSTART;TZID=UTC:20161214T184500
DTEND;TZID=UTC:20161214T194500
DTSTAMP:20260424T050249
CREATED:20160924T160525Z
LAST-MODIFIED:20160924T160525Z
UID:2288-1481741100-1481744700@ordinariato.castrense.pt
SUMMARY:Missa de Natal dos Universitários
DESCRIPTION:Também aberta aos nossos alunos das Escolas Superiores Militares e Policial. No CEUC. \n 
URL:https://ordinariato.castrense.pt/evento/missa-de-natal-dos-universitarios/
END:VEVENT
BEGIN:VEVENT
DTSTART;TZID=UTC:20161214T110000
DTEND;TZID=UTC:20161214T150000
DTSTAMP:20260424T050249
CREATED:20161214T220639Z
LAST-MODIFIED:20161214T220639Z
UID:2622-1481713200-1481727600@ordinariato.castrense.pt
SUMMARY:Celebração conjunta\, em Viseu
DESCRIPTION:Promovida pelo Capelão do RI14\, na Sé\, bispo das Forças Armadas e das Forças de Segurança celebra a Eucaristia de Natal para o Exército\, Guarda\, Polícia e demais instituições de auxílio e socorro «fardadas» (Guardas Prisionais\, Bombeiros\, etc.)
URL:https://ordinariato.castrense.pt/evento/celebracao-conjunta-em-viseu/
END:VEVENT
BEGIN:VEVENT
DTSTART;VALUE=DATE:20161214
DTEND;VALUE=DATE:20161215
DTSTAMP:20260424T050249
CREATED:20161214T220210Z
LAST-MODIFIED:20161214T220210Z
UID:2618-1481673600-1481759999@ordinariato.castrense.pt
SUMMARY:Natal do Estabelecimento Prisional
DESCRIPTION:Capelão celebra a Missa de Natal no EPM de Tomar\, às 11h30. No dia 22\, bispo das Forças Armadas e das Forças de Segurança visitará os detidos. \n 
URL:https://ordinariato.castrense.pt/evento/natal-do-estabelecimento-prisional/
END:VEVENT
BEGIN:VEVENT
DTSTART;VALUE=DATE:20161214
DTEND;VALUE=DATE:20161215
DTSTAMP:20260424T050249
CREATED:20161214T215931Z
LAST-MODIFIED:20161214T215931Z
UID:2616-1481673600-1481759999@ordinariato.castrense.pt
SUMMARY:RI1 celebra cristamente o Natal
DESCRIPTION:Em Beja. Às 19 horas\, Missa\, seguida de jantar-convívio com militares e familiares. Da parte da manhã\, confissões.
URL:https://ordinariato.castrense.pt/evento/ri1-celebra-cristamente-o-natal/
END:VEVENT
BEGIN:VEVENT
DTSTART;TZID=UTC:20161213T123000
DTEND;TZID=UTC:20161213T140000
DTSTAMP:20260424T050249
CREATED:20161214T223837Z
LAST-MODIFIED:20161214T223837Z
UID:2649-1481632200-1481637600@ordinariato.castrense.pt
SUMMARY:Jantar de Natal da Capelania Mor
DESCRIPTION:Bispo e funcionários da Capelania Mor\, convivem em almoço\, após a Missa na igreja da Memória
URL:https://ordinariato.castrense.pt/evento/jantar-de-natal-da-capelania-mor/
END:VEVENT
BEGIN:VEVENT
DTSTART;TZID=UTC:20161213T110000
DTEND;TZID=UTC:20161213T120000
DTSTAMP:20260424T050249
CREATED:20161214T223729Z
LAST-MODIFIED:20161214T223729Z
UID:2647-1481626800-1481630400@ordinariato.castrense.pt
SUMMARY:Natal da DGRDN
DESCRIPTION:Celebração da Missa\, na Igreja da Memória\, para os trabalhadores da Direcção-Geral de Recursos da .Defesa Nacional
URL:https://ordinariato.castrense.pt/evento/natal-da-dgrdn/
END:VEVENT
END:VCALENDAR