BEGIN:VCALENDAR
VERSION:2.0
PRODID:-//Ordinariato Castrense - ECPv6.15.20//NONSGML v1.0//EN
CALSCALE:GREGORIAN
METHOD:PUBLISH
X-WR-CALNAME:Ordinariato Castrense
X-ORIGINAL-URL:https://ordinariato.castrense.pt
X-WR-CALDESC:Eventos para Ordinariato Castrense
REFRESH-INTERVAL;VALUE=DURATION:PT1H
X-Robots-Tag:noindex
X-PUBLISHED-TTL:PT1H
BEGIN:VTIMEZONE
TZID:UTC
BEGIN:STANDARD
TZOFFSETFROM:+0000
TZOFFSETTO:+0000
TZNAME:UTC
DTSTART:20150101T000000
END:STANDARD
END:VTIMEZONE
BEGIN:VEVENT
DTSTART;VALUE=DATE:20161216
DTEND;VALUE=DATE:20161217
DTSTAMP:20260424T073104
CREATED:20161214T215553Z
LAST-MODIFIED:20161214T215553Z
UID:2614-1481846400-1481932799@ordinariato.castrense.pt
SUMMARY:Celebração de Natal na BA11
DESCRIPTION:Missa às 11.30\, seguida de almoço de confraternização. Antes da Missa\, confissões.\n 
URL:https://ordinariato.castrense.pt/evento/celebracao-de-natal-na-ba11/
END:VEVENT
BEGIN:VEVENT
DTSTART;VALUE=DATE:20161216
DTEND;VALUE=DATE:20161217
DTSTAMP:20260424T073104
CREATED:20161124T172522Z
LAST-MODIFIED:20161124T172522Z
UID:2569-1481846400-1481932799@ordinariato.castrense.pt
SUMMARY:Escola das Armas: Festa de Natal
DESCRIPTION:Em Mafra. Haverá a celebração da Missa\, mas também uma campanha de sensibilização de todas as pessoas e a boa vontade para angariar produtos doados (géneros alimentares\, brinquedos e roupas) com o intuito de serem entregues as pessoas mais carenciadas.
URL:https://ordinariato.castrense.pt/evento/escola-das-armas-festa-de-natal/
END:VEVENT
BEGIN:VEVENT
DTSTART;TZID=UTC:20161215T110000
DTEND;TZID=UTC:20161215T140000
DTSTAMP:20260424T073104
CREATED:20161214T222816Z
LAST-MODIFIED:20161214T222835Z
UID:2638-1481799600-1481810400@ordinariato.castrense.pt
SUMMARY:Natal do Comando Geral da Guarda
DESCRIPTION:Na basílica dos Mártires\, em Lisboa. Preside o senhor Bispo. Segue-se o convívio\, ao almoço.
URL:https://ordinariato.castrense.pt/evento/natal-do-comando-geral-da-guarda/
END:VEVENT
BEGIN:VEVENT
DTSTART;TZID=UTC:20161215T050000
DTEND;TZID=UTC:20161215T180000
DTSTAMP:20260424T073104
CREATED:20161214T220901Z
LAST-MODIFIED:20161214T220901Z
UID:2624-1481778000-1481824800@ordinariato.castrense.pt
SUMMARY:Natal no RMan
DESCRIPTION:O Regimento de Manutenção\, no Entroncamento\, celebra a sua festa de Natal\, na qual se insere a Eucaristia. Preside o Capelão\, P. Costa.
URL:https://ordinariato.castrense.pt/evento/natal-no-rman/
END:VEVENT
BEGIN:VEVENT
DTSTART;TZID=UTC:20161214T184500
DTEND;TZID=UTC:20161214T194500
DTSTAMP:20260424T073104
CREATED:20160924T160525Z
LAST-MODIFIED:20160924T160525Z
UID:2288-1481741100-1481744700@ordinariato.castrense.pt
SUMMARY:Missa de Natal dos Universitários
DESCRIPTION:Também aberta aos nossos alunos das Escolas Superiores Militares e Policial. No CEUC. \n 
URL:https://ordinariato.castrense.pt/evento/missa-de-natal-dos-universitarios/
END:VEVENT
BEGIN:VEVENT
DTSTART;TZID=UTC:20161214T110000
DTEND;TZID=UTC:20161214T150000
DTSTAMP:20260424T073104
CREATED:20161214T220639Z
LAST-MODIFIED:20161214T220639Z
UID:2622-1481713200-1481727600@ordinariato.castrense.pt
SUMMARY:Celebração conjunta\, em Viseu
DESCRIPTION:Promovida pelo Capelão do RI14\, na Sé\, bispo das Forças Armadas e das Forças de Segurança celebra a Eucaristia de Natal para o Exército\, Guarda\, Polícia e demais instituições de auxílio e socorro «fardadas» (Guardas Prisionais\, Bombeiros\, etc.)
URL:https://ordinariato.castrense.pt/evento/celebracao-conjunta-em-viseu/
END:VEVENT
BEGIN:VEVENT
DTSTART;VALUE=DATE:20161214
DTEND;VALUE=DATE:20161215
DTSTAMP:20260424T073104
CREATED:20161214T220210Z
LAST-MODIFIED:20161214T220210Z
UID:2618-1481673600-1481759999@ordinariato.castrense.pt
SUMMARY:Natal do Estabelecimento Prisional
DESCRIPTION:Capelão celebra a Missa de Natal no EPM de Tomar\, às 11h30. No dia 22\, bispo das Forças Armadas e das Forças de Segurança visitará os detidos. \n 
URL:https://ordinariato.castrense.pt/evento/natal-do-estabelecimento-prisional/
END:VEVENT
BEGIN:VEVENT
DTSTART;VALUE=DATE:20161214
DTEND;VALUE=DATE:20161215
DTSTAMP:20260424T073104
CREATED:20161214T215931Z
LAST-MODIFIED:20161214T215931Z
UID:2616-1481673600-1481759999@ordinariato.castrense.pt
SUMMARY:RI1 celebra cristamente o Natal
DESCRIPTION:Em Beja. Às 19 horas\, Missa\, seguida de jantar-convívio com militares e familiares. Da parte da manhã\, confissões.
URL:https://ordinariato.castrense.pt/evento/ri1-celebra-cristamente-o-natal/
END:VEVENT
BEGIN:VEVENT
DTSTART;TZID=UTC:20161213T123000
DTEND;TZID=UTC:20161213T140000
DTSTAMP:20260424T073104
CREATED:20161214T223837Z
LAST-MODIFIED:20161214T223837Z
UID:2649-1481632200-1481637600@ordinariato.castrense.pt
SUMMARY:Jantar de Natal da Capelania Mor
DESCRIPTION:Bispo e funcionários da Capelania Mor\, convivem em almoço\, após a Missa na igreja da Memória
URL:https://ordinariato.castrense.pt/evento/jantar-de-natal-da-capelania-mor/
END:VEVENT
BEGIN:VEVENT
DTSTART;TZID=UTC:20161213T110000
DTEND;TZID=UTC:20161213T120000
DTSTAMP:20260424T073104
CREATED:20161214T223729Z
LAST-MODIFIED:20161214T223729Z
UID:2647-1481626800-1481630400@ordinariato.castrense.pt
SUMMARY:Natal da DGRDN
DESCRIPTION:Celebração da Missa\, na Igreja da Memória\, para os trabalhadores da Direcção-Geral de Recursos da .Defesa Nacional
URL:https://ordinariato.castrense.pt/evento/natal-da-dgrdn/
END:VEVENT
BEGIN:VEVENT
DTSTART;TZID=UTC:20161210T193000
DTEND;TZID=UTC:20161210T230000
DTSTAMP:20260424T073104
CREATED:20161124T173214Z
LAST-MODIFIED:20161124T173214Z
UID:2571-1481398200-1481410800@ordinariato.castrense.pt
SUMMARY:Chaves: Ceia de Natal dos Comandos
DESCRIPTION:A Direcção da Delegação Regional de Chaves da Associação de Comandos promover a habitual Ceia de Natal da família Comando. A 10/12/16 – 19H30 – Missa na Capela do hotel\, pelo associado\, Padre Tó Quim.  20H00 – Ceia típica de Natal no Forte de S. Francisco Hotel \n 
URL:https://ordinariato.castrense.pt/evento/chaves-ceia-de-natal-dos-comandos/
END:VEVENT
BEGIN:VEVENT
DTSTART;VALUE=DATE:20161208
DTEND;VALUE=DATE:20161209
DTSTAMP:20260424T073104
CREATED:20160930T213042Z
LAST-MODIFIED:20160930T213052Z
UID:2354-1481155200-1481241599@ordinariato.castrense.pt
SUMMARY:Padroeira de Portugal
DESCRIPTION:Imaculada Conceição de Nossa Senhora.
URL:https://ordinariato.castrense.pt/evento/padroeira-de-portugal/
END:VEVENT
BEGIN:VEVENT
DTSTART;TZID=UTC:20161206T180000
DTEND;TZID=UTC:20161206T220000
DTSTAMP:20260424T073104
CREATED:20160802T184554Z
LAST-MODIFIED:20160802T184554Z
UID:2219-1481047200-1481061600@ordinariato.castrense.pt
SUMMARY:Ceia de Natal dos Capelães Militares
DESCRIPTION:Com o bispo.
URL:https://ordinariato.castrense.pt/evento/ceia-de-natal-dos-capelaes-militares/
END:VEVENT
BEGIN:VEVENT
DTSTART;TZID=UTC:20161206T093000
DTEND;TZID=UTC:20161206T170000
DTSTAMP:20260424T073104
CREATED:20160802T184453Z
LAST-MODIFIED:20160802T184453Z
UID:2218-1481016600-1481043600@ordinariato.castrense.pt
SUMMARY:Conselho de Consultores
DESCRIPTION:
URL:https://ordinariato.castrense.pt/evento/conselho-de-consultores-13/
END:VEVENT
BEGIN:VEVENT
DTSTART;TZID=UTC:20161201T180000
DTEND;TZID=UTC:20161201T190000
DTSTAMP:20260424T073104
CREATED:20160802T184359Z
LAST-MODIFIED:20160802T184359Z
UID:2217-1480615200-1480618800@ordinariato.castrense.pt
SUMMARY:Primeira Quinta feira de Dezembro: Missa na Memória
DESCRIPTION:
URL:https://ordinariato.castrense.pt/evento/primeira-quinta-feira-de-dezembro-missa-na-memoria/
END:VEVENT
BEGIN:VEVENT
DTSTART;VALUE=DATE:20161201
DTEND;VALUE=DATE:20161202
DTSTAMP:20260424T073104
CREATED:20161115T190357Z
LAST-MODIFIED:20161115T190357Z
UID:2549-1480550400-1480636799@ordinariato.castrense.pt
SUMMARY:V Encontro de Núcleos Transmontanos da Liga dos Combatentes
DESCRIPTION:Será a 1 de Dezembro\, em Vila Real. Às 11h00\, haverá a celebração da Missa.
URL:https://ordinariato.castrense.pt/evento/v-encontro-de-nucleos-transmontanos-da-liga-dos-combatentes/
END:VEVENT
BEGIN:VEVENT
DTSTART;VALUE=DATE:20161130
DTEND;VALUE=DATE:20161205
DTSTAMP:20260424T073104
CREATED:20160930T212834Z
LAST-MODIFIED:20160930T212834Z
UID:2352-1480464000-1480895999@ordinariato.castrense.pt
SUMMARY:Sínodo Diocesano de Lisboa
DESCRIPTION:Ordinário Militar para Portugal é um dos convidados para o Sínodo Diocesano de Lisboa.
URL:https://ordinariato.castrense.pt/evento/sinodo-diocesano-de-lisboa/
END:VEVENT
BEGIN:VEVENT
DTSTART;VALUE=DATE:20161127
DTEND;VALUE=DATE:20161128
DTSTAMP:20260424T073104
CREATED:20160802T184300Z
LAST-MODIFIED:20161118T104503Z
UID:2216-1480204800-1480291199@ordinariato.castrense.pt
SUMMARY:Encontro de Casais de militares e polícias
DESCRIPTION:O tradicional encontro da Pastoral Familiar. Participação livre\, mas supõe inscrição junto dos capelães.
URL:https://ordinariato.castrense.pt/evento/monsanto-encontro-de-casais-de-militares-e-policias/
END:VEVENT
BEGIN:VEVENT
DTSTART;VALUE=DATE:20161126
DTEND;VALUE=DATE:20161127
DTSTAMP:20260424T073104
CREATED:20161006T221825Z
LAST-MODIFIED:20161006T221825Z
UID:2383-1480118400-1480204799@ordinariato.castrense.pt
SUMMARY:BODO DOS COMBATENTES (Liga dos Combatentes - Núcleo de Chaves)
DESCRIPTION:Vimos por este meio divulgar a realização pelo 9º ano consecutivo BODO DOS COMBATENTES. \nEncontro a realizar em 26 de novembro de 2016\, no RI 19\, com o seguinte programa: \n11H00 – Concentração dos participantes junto à porta de armas; \n11H15 – Cerimónia de Homenagem aos Mortos\, com deposição de flores e foto de família nas escadas do edifício de comando; \n11H30 – Missa na capela do Regimento; \n12H15 – Visita à Unidade; \n12H45 – Almoço no rancho geral com animação.
URL:https://ordinariato.castrense.pt/evento/bodo-dos-combatentes-liga-dos-combatentes-nucleo-de-chaves/
END:VEVENT
BEGIN:VEVENT
DTSTART;VALUE=DATE:20161126
DTEND;VALUE=DATE:20161127
DTSTAMP:20260424T073104
CREATED:20160930T212640Z
LAST-MODIFIED:20160930T212640Z
UID:2350-1480118400-1480204799@ordinariato.castrense.pt
SUMMARY:Bragança: Formação do Clero
DESCRIPTION:Bispo das Forças Armadas e das Forças de Segurança apresenta comunicações na formação contínua do Clero da Diocese de Bragança.
URL:https://ordinariato.castrense.pt/evento/braganca-formacao-do-clero/
END:VEVENT
BEGIN:VEVENT
DTSTART;TZID=UTC:20161117T160000
DTEND;TZID=UTC:20161117T170000
DTSTAMP:20260424T073104
CREATED:20160802T184122Z
LAST-MODIFIED:20160802T184122Z
UID:2215-1479398400-1479402000@ordinariato.castrense.pt
SUMMARY:Encerramento do Ano Santo da Misericórdia
DESCRIPTION:Na Igreja da Memória\, Sé do Ordinariato Castrense para Portugal
URL:https://ordinariato.castrense.pt/evento/encerramento-do-ano-santo-da-misericordia/
END:VEVENT
BEGIN:VEVENT
DTSTART;TZID=UTC:20161117T093000
DTEND;TZID=UTC:20161117T140000
DTSTAMP:20260424T073104
CREATED:20160802T184000Z
LAST-MODIFIED:20160802T184000Z
UID:2214-1479375000-1479391200@ordinariato.castrense.pt
SUMMARY:Conselho de Consultores
DESCRIPTION:
URL:https://ordinariato.castrense.pt/evento/conselho-de-consultores-12/
END:VEVENT
BEGIN:VEVENT
DTSTART;VALUE=DATE:20161116
DTEND;VALUE=DATE:20161117
DTSTAMP:20260424T073104
CREATED:20160930T212450Z
LAST-MODIFIED:20160930T212450Z
UID:2348-1479254400-1479340799@ordinariato.castrense.pt
SUMMARY:Missa na Escola de Fuzileiros
DESCRIPTION:Bispo celebra Missa de acção de graças por mais um Curso de Fuzileiros.
URL:https://ordinariato.castrense.pt/evento/missa-na-escola-de-fuzileiros-2/
END:VEVENT
BEGIN:VEVENT
DTSTART;TZID=UTC:20161115T180000
DTEND;TZID=UTC:20161115T220000
DTSTAMP:20260424T073104
CREATED:20160802T183903Z
LAST-MODIFIED:20160908T212533Z
UID:2213-1479232800-1479247200@ordinariato.castrense.pt
SUMMARY:Reunião com Comandantes dos Corpos de Alunos dos EMES
DESCRIPTION:Bispo\, Comandantes\, Capelães Adjuntos e Capelães dos EMES e ISCPSI reúnem para convívio e troca de impressões.
URL:https://ordinariato.castrense.pt/evento/reuniao-com-comandantes-dos-corpos-de-alunos-dos-emes/
END:VEVENT
BEGIN:VEVENT
DTSTART;VALUE=DATE:20161111
DTEND;VALUE=DATE:20161112
DTSTAMP:20260424T073104
CREATED:20160930T212243Z
LAST-MODIFIED:20160930T212243Z
UID:2346-1478822400-1478908799@ordinariato.castrense.pt
SUMMARY:Abertura do Ano Académico na Escola Naval
DESCRIPTION:Bispo participa neste evento presidido pelo Presidente da República.
URL:https://ordinariato.castrense.pt/evento/abertura-do-ano-academico-na-escola-naval/
END:VEVENT
BEGIN:VEVENT
DTSTART;TZID=UTC:20161107T160000
DTEND;TZID=UTC:20161110T140000
DTSTAMP:20260424T073104
CREATED:20160802T183702Z
LAST-MODIFIED:20160802T183702Z
UID:2212-1478534400-1478786400@ordinariato.castrense.pt
SUMMARY:Conferência Episcopal Portuguesa
DESCRIPTION:A primeira das duas reuniões plenárias anuais.
URL:https://ordinariato.castrense.pt/evento/conferencia-episcopal-portuguesa-2/
END:VEVENT
BEGIN:VEVENT
DTSTART;TZID=UTC:20161107T100000
DTEND;TZID=UTC:20161107T150000
DTSTAMP:20260424T073104
CREATED:20160802T183522Z
LAST-MODIFIED:20160802T183522Z
UID:2211-1478512800-1478530800@ordinariato.castrense.pt
SUMMARY:Reunião da Província Eclesiástica de Lisboa
DESCRIPTION:Reúnem os bispos pertencentes a esta circunscrição eclesiástica. O das Forças Armadas e Forças de Segurança também pertence.
URL:https://ordinariato.castrense.pt/evento/reuniao-da-provincia-eclesiastica-de-lisboa-2/
END:VEVENT
BEGIN:VEVENT
DTSTART;TZID=UTC:20161104T110000
DTEND;TZID=UTC:20161104T120000
DTSTAMP:20260424T073104
CREATED:20160802T183328Z
LAST-MODIFIED:20160802T183328Z
UID:2210-1478257200-1478260800@ordinariato.castrense.pt
SUMMARY:Porto: Fiéis defuntos das FF AA e FF SS
DESCRIPTION:Celebração conjunta para militares e polícias do Norte. Preside o senhor Bispo.
URL:https://ordinariato.castrense.pt/evento/porto-fieis-defuntos-das-ff-aa-e-ff-ss/
END:VEVENT
BEGIN:VEVENT
DTSTART;TZID=UTC:20161103T110000
DTEND;TZID=UTC:20161103T120000
DTSTAMP:20260424T073104
CREATED:20160802T183212Z
LAST-MODIFIED:20160802T183212Z
UID:2209-1478170800-1478174400@ordinariato.castrense.pt
SUMMARY:Forças Armadas e de segurança: Fiéis Defuntos
DESCRIPTION:Nos Jerónimos\, como habitualmente. Preside o senhor Bispo.
URL:https://ordinariato.castrense.pt/evento/forcas-armadas-e-de-seguranca-fieis-defuntos/
END:VEVENT
BEGIN:VEVENT
DTSTART;TZID=UTC:20161102T110000
DTEND;TZID=UTC:20161102T123000
DTSTAMP:20260424T073104
CREATED:20160905T165557Z
LAST-MODIFIED:20160905T165557Z
UID:2267-1478084400-1478089800@ordinariato.castrense.pt
SUMMARY:Fiéis Defuntos - PSP
DESCRIPTION:Celebração da Missa e romagem às sepulturas no Cemitério dos Prazeres\, em Lisboa.
URL:https://ordinariato.castrense.pt/evento/fieis-defuntos-psp/
END:VEVENT
END:VCALENDAR