BEGIN:VCALENDAR
VERSION:2.0
PRODID:-//Ordinariato Castrense - ECPv6.15.20//NONSGML v1.0//EN
CALSCALE:GREGORIAN
METHOD:PUBLISH
X-ORIGINAL-URL:https://ordinariato.castrense.pt
X-WR-CALDESC:Eventos para Ordinariato Castrense
REFRESH-INTERVAL;VALUE=DURATION:PT1H
X-Robots-Tag:noindex
X-PUBLISHED-TTL:PT1H
BEGIN:VTIMEZONE
TZID:UTC
BEGIN:STANDARD
TZOFFSETFROM:+0000
TZOFFSETTO:+0000
TZNAME:UTC
DTSTART:20150101T000000
END:STANDARD
END:VTIMEZONE
BEGIN:VEVENT
DTSTART;TZID=UTC:20161102T110000
DTEND;TZID=UTC:20161102T120000
DTSTAMP:20260424T115841
CREATED:20160802T183042Z
LAST-MODIFIED:20160802T183042Z
UID:2208-1478084400-1478088000@ordinariato.castrense.pt
SUMMARY:Força Aérea: Fiéis Defuntos
DESCRIPTION:Na Igreja da Força Aérea. Preside o senhor Bispo.
URL:https://ordinariato.castrense.pt/evento/forca-aerea-fieis-defuntos/
END:VEVENT
BEGIN:VEVENT
DTSTART;VALUE=DATE:20161030
DTEND;VALUE=DATE:20161031
DTSTAMP:20260424T115841
CREATED:20160930T212123Z
LAST-MODIFIED:20160930T212123Z
UID:2344-1477785600-1477871999@ordinariato.castrense.pt
SUMMARY:Póvoa de Varzim: "Lírio Azul"
DESCRIPTION:Bispo das Forças Armadas e das Forças de Segurança é o convidado de honra e conferencista no encontro de Outono desta Instituição de Solidariedade feminina.
URL:https://ordinariato.castrense.pt/evento/povoa-de-varzim-lirio-azul/
END:VEVENT
BEGIN:VEVENT
DTSTART;TZID=UTC:20161026T180000
DTEND;TZID=UTC:20161026T220000
DTSTAMP:20260424T115841
CREATED:20160802T182924Z
LAST-MODIFIED:20160802T182924Z
UID:2207-1477504800-1477519200@ordinariato.castrense.pt
SUMMARY:Encontro dos novos alunos dos EMES
DESCRIPTION:Celebração e convívio dos novos alunos da Escola Naval\, Academia Militar (Exército e Guarda Nacional Republicana)\, Academia da Força Aérea e Instituto Superior de Ciências Policiais e Segurança Interna.
URL:https://ordinariato.castrense.pt/evento/encontro-dos-novos-alunos-dos-emes/
END:VEVENT
BEGIN:VEVENT
DTSTART;VALUE=DATE:20161024
DTEND;VALUE=DATE:20161025
DTSTAMP:20260424T115841
CREATED:20160802T182710Z
LAST-MODIFIED:20160802T182710Z
UID:2206-1477267200-1477353599@ordinariato.castrense.pt
SUMMARY:Coimbra: Missa no dia do patrono do Exército
DESCRIPTION:Na Igreja de Santa Cruz\, onde está sepultado D. Afonso Henriques. Preside o Bispo das FF AA e FF SS.
URL:https://ordinariato.castrense.pt/evento/coimbra-missa-no-dia-do-patrono-do-exercito/
END:VEVENT
BEGIN:VEVENT
DTSTART;VALUE=DATE:20161023
DTEND;VALUE=DATE:20161024
DTSTAMP:20260424T115841
CREATED:20160802T182550Z
LAST-MODIFIED:20160802T182550Z
UID:2205-1477180800-1477267199@ordinariato.castrense.pt
SUMMARY:Dia Mundial das Missões
DESCRIPTION:
URL:https://ordinariato.castrense.pt/evento/dia-mundial-das-missoes/
END:VEVENT
BEGIN:VEVENT
DTSTART;VALUE=DATE:20161023
DTEND;VALUE=DATE:20161024
DTSTAMP:20260424T115841
CREATED:20160802T182516Z
LAST-MODIFIED:20160802T182516Z
UID:2204-1477180800-1477267199@ordinariato.castrense.pt
SUMMARY:Elvas: Missa no Dia do Exército
DESCRIPTION:Preside o bispo das FF AA e FF SS.
URL:https://ordinariato.castrense.pt/evento/elvas-missa-no-dia-do-exercito/
END:VEVENT
BEGIN:VEVENT
DTSTART;TZID=UTC:20161022T180000
DTEND;TZID=UTC:20161022T180000
DTSTAMP:20260424T115841
CREATED:20160930T211811Z
LAST-MODIFIED:20160930T211811Z
UID:2342-1477159200-1477159200@ordinariato.castrense.pt
SUMMARY:Mafra: celebração dos 300 anos do início das obras
DESCRIPTION:Missa e Concerto. Presente o Presidente da República e o Bispo das Forças Armadas e das Forças de Segurança.
URL:https://ordinariato.castrense.pt/evento/mafra-celebracao-dos-300-anos-do-inicio-das-obras/
END:VEVENT
BEGIN:VEVENT
DTSTART;TZID=UTC:20161021T213000
DTEND;TZID=UTC:20161021T230000
DTSTAMP:20260424T115841
CREATED:20160930T211133Z
LAST-MODIFIED:20160930T211133Z
UID:2340-1477085400-1477090800@ordinariato.castrense.pt
SUMMARY:Pax Christi: educação para a paz
DESCRIPTION:Na Paróquia de Santo António dos Cavaleiros. Acção orientada pelo Bispo das Forças Armadas e das Forças de Segurança\, Presidente da Secção Portuguesa da Pax Christi.
URL:https://ordinariato.castrense.pt/evento/pax-christi-educacao-para-a-paz/
END:VEVENT
BEGIN:VEVENT
DTSTART;TZID=UTC:20161020T184500
DTEND;TZID=UTC:20161020T194500
DTSTAMP:20260424T115841
CREATED:20160924T155727Z
LAST-MODIFIED:20160924T155727Z
UID:2286-1476989100-1476992700@ordinariato.castrense.pt
SUMMARY:Missa das Universidades
DESCRIPTION:Na Igreja do sagrado Coração de Jesus. São convidados os alunos das nossas Escolas Superiores Militares e Policial.
URL:https://ordinariato.castrense.pt/evento/missa-das-universidades/
END:VEVENT
BEGIN:VEVENT
DTSTART;VALUE=DATE:20161020
DTEND;VALUE=DATE:20161021
DTSTAMP:20260424T115841
CREATED:20160802T182411Z
LAST-MODIFIED:20160802T182411Z
UID:2203-1476921600-1477007999@ordinariato.castrense.pt
SUMMARY:Celebração do patrono dos capelães militares
DESCRIPTION:Em Viseu\, juntam-se bispo e todos os capelães ao serviço das Forças Armadas e das Forças de Segurança\, para oração e convívio\, no dia litúrgico de S. João de Capistrano.
URL:https://ordinariato.castrense.pt/evento/celebracao-do-patrono-dos-capelaes-militares/
END:VEVENT
BEGIN:VEVENT
DTSTART;VALUE=DATE:20161019
DTEND;VALUE=DATE:20161020
DTSTAMP:20260424T115841
CREATED:20160930T210826Z
LAST-MODIFIED:20160930T210826Z
UID:2338-1476835200-1476921599@ordinariato.castrense.pt
SUMMARY:Curso de Suporte Básico de Vida
DESCRIPTION:Para dar exemplo\, o Bispo das Forças Armadas e mais uma dúzia de capelães vão frequentar este curso\, administrado na Escola de Saúde Militar
URL:https://ordinariato.castrense.pt/evento/curso-de-suporte-basico-de-vida/
END:VEVENT
BEGIN:VEVENT
DTSTART;TZID=UTC:20161018T180000
DTEND;TZID=UTC:20161018T190000
DTSTAMP:20260424T115841
CREATED:20160930T210626Z
LAST-MODIFIED:20160930T210626Z
UID:2336-1476813600-1476817200@ordinariato.castrense.pt
SUMMARY:Aniversário do funeral do P. Amorim
DESCRIPTION:D. Manuel Linda e capelães celebram por alma do P. Manuel Amorim. Na Memória.
URL:https://ordinariato.castrense.pt/evento/aniversario-do-funeral-do-p-amorim/
END:VEVENT
BEGIN:VEVENT
DTSTART;VALUE=DATE:20161018
DTEND;VALUE=DATE:20161019
DTSTAMP:20260424T115841
CREATED:20160802T182218Z
LAST-MODIFIED:20160802T182218Z
UID:2202-1476748800-1476835199@ordinariato.castrense.pt
SUMMARY:Conselho de Consultores
DESCRIPTION:
URL:https://ordinariato.castrense.pt/evento/conselho-de-consultores-11/
END:VEVENT
BEGIN:VEVENT
DTSTART;TZID=UTC:20161016T100000
DTEND;TZID=UTC:20161016T110000
DTSTAMP:20260424T115841
CREATED:20160930T210447Z
LAST-MODIFIED:20160930T210447Z
UID:2334-1476612000-1476615600@ordinariato.castrense.pt
SUMMARY:1º aniversário da morte do P. Manuel Amorim
DESCRIPTION:D. Manuel Linda preside à Missa da capela da base naval de Lisboa\, no Alfeite\, e D. Januário Torgal Ferreira\, na igreja da Memória.
URL:https://ordinariato.castrense.pt/evento/1o-aniversario-da-morte-do-p-manuel-amorim/
END:VEVENT
BEGIN:VEVENT
DTSTART;TZID=UTC:20161013T190000
DTEND;TZID=UTC:20161013T210000
DTSTAMP:20260424T115841
CREATED:20160930T210234Z
LAST-MODIFIED:20160930T210234Z
UID:2332-1476385200-1476392400@ordinariato.castrense.pt
SUMMARY:Apresentação do Docat
DESCRIPTION:A Editora Paulus escolheu o Ordinariato Castrense para a apresentação nacional do novo Compêndio da Doutrina Social da Igreja para Jovens\, o Docat. Apresentação está confiada ao Bispo das Forças Armadas e das Forças de Segurança. No recinto do Estado-Maior da Armada\, na Ribeira das Naus (junto á Praça do Comércio).
URL:https://ordinariato.castrense.pt/evento/apresentacao-do-docat/
END:VEVENT
BEGIN:VEVENT
DTSTART;VALUE=DATE:20161013
DTEND;VALUE=DATE:20161014
DTSTAMP:20260424T115841
CREATED:20160802T182147Z
LAST-MODIFIED:20160802T182147Z
UID:2201-1476316800-1476403199@ordinariato.castrense.pt
SUMMARY:Peregrinação de antigos combatentes
DESCRIPTION:Integrada na peregrinação aniversária.
URL:https://ordinariato.castrense.pt/evento/peregrinacao-de-antigos-combatentes/
END:VEVENT
BEGIN:VEVENT
DTSTART;TZID=UTC:20161012T110000
DTEND;TZID=UTC:20161012T150000
DTSTAMP:20260424T115841
CREATED:20161007T215541Z
LAST-MODIFIED:20161007T215541Z
UID:2399-1476270000-1476284400@ordinariato.castrense.pt
SUMMARY:Visita ao Comando das Forças Terrestres
DESCRIPTION:A convite do CFT\, GEN Meneses\, Bispo das Forças Armadas e das Forças de Segurança visita os homens e as mulheres que servem o Exército neste Órgão coordenador da actividade operacional.
URL:https://ordinariato.castrense.pt/evento/visita-ao-comando-das-forcas-terrestres/
END:VEVENT
BEGIN:VEVENT
DTSTART;VALUE=DATE:20161012
DTEND;VALUE=DATE:20161014
DTSTAMP:20260424T115841
CREATED:20160802T182051Z
LAST-MODIFIED:20160802T182051Z
UID:2200-1476230400-1476403199@ordinariato.castrense.pt
SUMMARY:Fátima: Peregrinação Aniversária de Outubro
DESCRIPTION:Participa o bispo\, cadetes da Academia e antigos combatentes do Ultramar.
URL:https://ordinariato.castrense.pt/evento/fatima-peregrinacao-aniversaria-de-outubro/
END:VEVENT
BEGIN:VEVENT
DTSTART;VALUE=DATE:20161010
DTEND;VALUE=DATE:20161011
DTSTAMP:20260424T115841
CREATED:20160802T181924Z
LAST-MODIFIED:20160802T181924Z
UID:2199-1476057600-1476143999@ordinariato.castrense.pt
SUMMARY:Entronização de Nossa Senhora do Ar no Pico do Areeiro (Madeira)
DESCRIPTION:Bispo e capelão chefe da Força Aérea vão entronizar a imagem da Padroeira na Estação de Radar do Pico do Areeiro.
URL:https://ordinariato.castrense.pt/evento/entronizacao-de-nossa-senhora-do-ar-no-pico-do-areeiro-madeira/
END:VEVENT
BEGIN:VEVENT
DTSTART;VALUE=DATE:20161006
DTEND;VALUE=DATE:20161007
DTSTAMP:20260424T115841
CREATED:20160930T205534Z
LAST-MODIFIED:20160930T205623Z
UID:2327-1475712000-1475798399@ordinariato.castrense.pt
SUMMARY:Visita ao antigo Hospital da Marinha
DESCRIPTION:Bispo visita a arte sacra deste antigo espaço militar.
URL:https://ordinariato.castrense.pt/evento/visita-ao-antigo-hospital-da-marinha/
END:VEVENT
BEGIN:VEVENT
DTSTART;VALUE=DATE:20161005
DTEND;VALUE=DATE:20161006
DTSTAMP:20260424T115841
CREATED:20160930T205452Z
LAST-MODIFIED:20160930T205452Z
UID:2325-1475625600-1475711999@ordinariato.castrense.pt
SUMMARY:Bênção dos símbolos do Comando\, na AM
DESCRIPTION:habitualmente conhecida como “Bênção das Espadas”. Com a presença do Presidente da República.
URL:https://ordinariato.castrense.pt/evento/bencao-dos-simbolos-do-comando-na-am/
END:VEVENT
BEGIN:VEVENT
DTSTART;TZID=UTC:20161002T150000
DTEND;TZID=UTC:20161002T170000
DTSTAMP:20260424T115841
CREATED:20160802T181722Z
LAST-MODIFIED:20160802T185245Z
UID:2198-1475420400-1475427600@ordinariato.castrense.pt
SUMMARY:Missa e procissão de S. Roque
DESCRIPTION:Bispo das FF AA e FF SS preside à Missa na igreja de S. Roque (Misericórdia de Lisboa). Segue-se procissão que termina na capela de S. Roque do Arsenal da Marinha (Estado-Maior da Armada)\, já que o culto de S. Roque está muito ligado à Confraria dos Carpinteiros de Machado\, isto é\, aos antigos construtores navais.
URL:https://ordinariato.castrense.pt/evento/missa-e-procissao-de-s-roque/
END:VEVENT
BEGIN:VEVENT
DTSTART;TZID=UTC:20160930T100000
DTEND;TZID=UTC:20160930T140000
DTSTAMP:20260424T115841
CREATED:20160930T205749Z
LAST-MODIFIED:20160930T205749Z
UID:2330-1475229600-1475244000@ordinariato.castrense.pt
SUMMARY:Visita Pastoral ao CFT
DESCRIPTION:Bispo visita o Comando das Forças Terrestres.
URL:https://ordinariato.castrense.pt/evento/visita-pastoral-ao-cft/
END:VEVENT
BEGIN:VEVENT
DTSTART;VALUE=DATE:20160929
DTEND;VALUE=DATE:20160930
DTSTAMP:20260424T115841
CREATED:20160802T181335Z
LAST-MODIFIED:20160802T181335Z
UID:2197-1475107200-1475193599@ordinariato.castrense.pt
SUMMARY:Padroeiro da PSP
DESCRIPTION:Em Belas\, bispo preside à celebração da festa litúrgica de S. Miguel Arcanjo
URL:https://ordinariato.castrense.pt/evento/padroeiro-da-psp/
END:VEVENT
BEGIN:VEVENT
DTSTART;TZID=UTC:20160924T143000
DTEND;TZID=UTC:20160924T190000
DTSTAMP:20260424T115841
CREATED:20160802T181231Z
LAST-MODIFIED:20160802T181231Z
UID:2196-1474727400-1474743600@ordinariato.castrense.pt
SUMMARY:Encontro Nacional da Pax Christi
DESCRIPTION:
URL:https://ordinariato.castrense.pt/evento/encontro-nacional-da-pax-christi/
END:VEVENT
BEGIN:VEVENT
DTSTART;VALUE=DATE:20160923
DTEND;VALUE=DATE:20160924
DTSTAMP:20260424T115841
CREATED:20160802T181139Z
LAST-MODIFIED:20160802T181139Z
UID:2195-1474588800-1474675199@ordinariato.castrense.pt
SUMMARY:Conselho Presbiteral
DESCRIPTION:Numa Unidade Naval (Alfeite)
URL:https://ordinariato.castrense.pt/evento/conselho-presbiteral-3/
END:VEVENT
BEGIN:VEVENT
DTSTART;TZID=UTC:20160922T173000
DTEND;TZID=UTC:20160922T210000
DTSTAMP:20260424T115841
CREATED:20160802T181040Z
LAST-MODIFIED:20160802T181040Z
UID:2194-1474565400-1474578000@ordinariato.castrense.pt
SUMMARY:Conselho Pastoral Diocesano
DESCRIPTION:Primeira reunião deste novo órgão. decorrerá nas instalações do Centro de Assistência Religiosa do Exército.
URL:https://ordinariato.castrense.pt/evento/conselho-pastoral-diocesano/
END:VEVENT
BEGIN:VEVENT
DTSTART;TZID=UTC:20160922T093000
DTEND;TZID=UTC:20160922T170000
DTSTAMP:20260424T115841
CREATED:20160802T180802Z
LAST-MODIFIED:20160802T180802Z
UID:2192-1474536600-1474563600@ordinariato.castrense.pt
SUMMARY:Conselho de Consultores
DESCRIPTION:
URL:https://ordinariato.castrense.pt/evento/conselho-de-consultores-10/
END:VEVENT
BEGIN:VEVENT
DTSTART;VALUE=DATE:20160920
DTEND;VALUE=DATE:20160921
DTSTAMP:20260424T115841
CREATED:20160802T180632Z
LAST-MODIFIED:20160802T180632Z
UID:2191-1474329600-1474415999@ordinariato.castrense.pt
SUMMARY:7º aniversário da ordenação episcopal de D. Manuel Linda
DESCRIPTION:
URL:https://ordinariato.castrense.pt/evento/7o-aniversario-da-ordenacao-episcopal-de-d-manuel-linda/
END:VEVENT
BEGIN:VEVENT
DTSTART;VALUE=DATE:20160917
DTEND;VALUE=DATE:20160919
DTSTAMP:20260424T115841
CREATED:20160802T180511Z
LAST-MODIFIED:20160802T180511Z
UID:2190-1474070400-1474243199@ordinariato.castrense.pt
SUMMARY:Jornadas Missionárias
DESCRIPTION:Em Fátima. Abertas a todos\, mediante inscrição.
URL:https://ordinariato.castrense.pt/evento/jornadas-missionarias/
END:VEVENT
END:VCALENDAR