BEGIN:VCALENDAR
VERSION:2.0
PRODID:-//Ordinariato Castrense - ECPv6.15.20//NONSGML v1.0//EN
CALSCALE:GREGORIAN
METHOD:PUBLISH
X-ORIGINAL-URL:https://ordinariato.castrense.pt
X-WR-CALDESC:Eventos para Ordinariato Castrense
REFRESH-INTERVAL;VALUE=DURATION:PT1H
X-Robots-Tag:noindex
X-PUBLISHED-TTL:PT1H
BEGIN:VTIMEZONE
TZID:UTC
BEGIN:STANDARD
TZOFFSETFROM:+0000
TZOFFSETTO:+0000
TZNAME:UTC
DTSTART:20150101T000000
END:STANDARD
END:VTIMEZONE
BEGIN:VEVENT
DTSTART;TZID=UTC:20160709T160000
DTEND;TZID=UTC:20160709T170000
DTSTAMP:20260424T180858
CREATED:20160623T181005Z
LAST-MODIFIED:20160623T181005Z
UID:2111-1468080000-1468083600@ordinariato.castrense.pt
SUMMARY:Crisma na Paróquia de Carcavelos
DESCRIPTION:
URL:https://ordinariato.castrense.pt/evento/crisma-na-paroquia-de-carcavelos/
END:VEVENT
BEGIN:VEVENT
DTSTART;TZID=UTC:20160707T180000
DTEND;TZID=UTC:20160707T190000
DTSTAMP:20260424T180858
CREATED:20160502T230325Z
LAST-MODIFIED:20160502T230325Z
UID:1901-1467914400-1467918000@ordinariato.castrense.pt
SUMMARY:Missa dos Capelães na igreja da Memória
DESCRIPTION:Costumada Missa mensal dos capelães da Guarnição de Lisboa.
URL:https://ordinariato.castrense.pt/evento/missa-dos-capelaes-na-igreja-da-memoria/
END:VEVENT
BEGIN:VEVENT
DTSTART;TZID=UTC:20160705T093000
DTEND;TZID=UTC:20160705T140000
DTSTAMP:20260424T180858
CREATED:20160119T124004Z
LAST-MODIFIED:20160119T124004Z
UID:1354-1467711000-1467727200@ordinariato.castrense.pt
SUMMARY:Conselho de Consultores
DESCRIPTION:Reunião habitual mensal.
URL:https://ordinariato.castrense.pt/evento/conselho-de-consultores-9/
LOCATION:Capelania Mor
END:VEVENT
BEGIN:VEVENT
DTSTART;TZID=UTC:20160704T110000
DTEND;TZID=UTC:20160704T120000
DTSTAMP:20260424T180858
CREATED:20160623T180843Z
LAST-MODIFIED:20160623T180843Z
UID:2110-1467630000-1467633600@ordinariato.castrense.pt
SUMMARY:Missa no Dia da PSP
DESCRIPTION:Na Igreja de São Miguel\, em Belas (Sintra)
URL:https://ordinariato.castrense.pt/evento/missa-no-dia-da-psp-2/
END:VEVENT
BEGIN:VEVENT
DTSTART;TZID=UTC:20160702T103000
DTEND;TZID=UTC:20160702T233000
DTSTAMP:20260424T180858
CREATED:20160114T181154Z
LAST-MODIFIED:20160114T181154Z
UID:1254-1467455400-1467502200@ordinariato.castrense.pt
SUMMARY:Missa no Dia do Fuzileiro
DESCRIPTION:Na Escola de Fuzileiros.
URL:https://ordinariato.castrense.pt/evento/missa-no-dia-do-fuzileiro/
END:VEVENT
BEGIN:VEVENT
DTSTART;TZID=UTC:20160701T090000
DTEND;TZID=UTC:20160701T100000
DTSTAMP:20260424T180858
CREATED:20160119T123839Z
LAST-MODIFIED:20160119T123839Z
UID:1353-1467363600-1467367200@ordinariato.castrense.pt
SUMMARY:Missa no Dia da PSP
DESCRIPTION:Na igreja da Penha de França. Preside o Bispo das Forças Armadas e das Forças de Segurança.
URL:https://ordinariato.castrense.pt/evento/missa-no-dia-da-psp/
END:VEVENT
BEGIN:VEVENT
DTSTART;VALUE=DATE:20160628
DTEND;VALUE=DATE:20160629
DTSTAMP:20260424T180858
CREATED:20160119T123719Z
LAST-MODIFIED:20160119T123719Z
UID:1351-1467072000-1467158399@ordinariato.castrense.pt
SUMMARY:Conselho Presbiteral
DESCRIPTION:Reunião de final de ano pastoral deste órgão consultivo.
URL:https://ordinariato.castrense.pt/evento/conselho-presbiteral-2/
LOCATION:Capelania Mor
END:VEVENT
BEGIN:VEVENT
DTSTART;TZID=UTC:20160626T110000
DTEND;TZID=UTC:20160626T120000
DTSTAMP:20260424T180858
CREATED:20160119T123623Z
LAST-MODIFIED:20160119T123623Z
UID:1349-1466938800-1466942400@ordinariato.castrense.pt
SUMMARY:Missa no Dia da Força Aérea
DESCRIPTION:Bispo preside à Eucaristia no Dia da Força Aérea. Na igreja deste Ramo.
URL:https://ordinariato.castrense.pt/evento/missa-no-dia-da-forca-aerea/
LOCATION:Benfica
END:VEVENT
BEGIN:VEVENT
DTSTART;VALUE=DATE:20160626
DTEND;VALUE=DATE:20160627
DTSTAMP:20260424T180858
CREATED:20160114T181028Z
LAST-MODIFIED:20160114T181028Z
UID:1253-1466899200-1466985599@ordinariato.castrense.pt
SUMMARY:Alfeite: reunião de catequistas
DESCRIPTION:Para avaliação do ano pastoral. Termina com o almoço de confraternização.
URL:https://ordinariato.castrense.pt/evento/alfeite-reuniao-de-catequistas/
END:VEVENT
BEGIN:VEVENT
DTSTART;VALUE=DATE:20160626
DTEND;VALUE=DATE:20160627
DTSTAMP:20260424T180858
CREATED:20160114T180926Z
LAST-MODIFIED:20160114T180926Z
UID:1252-1466899200-1466985599@ordinariato.castrense.pt
SUMMARY:Ofertório para a Santa Sé
DESCRIPTION:Para ajuda da pastoral mundial do sucessor de Pedro
URL:https://ordinariato.castrense.pt/evento/ofertorio-para-a-santa-se/
END:VEVENT
BEGIN:VEVENT
DTSTART;TZID=UTC:20160624T180000
DTEND;TZID=UTC:20160624T200000
DTSTAMP:20260424T180858
CREATED:20160119T123420Z
LAST-MODIFIED:20160119T123420Z
UID:1347-1466791200-1466798400@ordinariato.castrense.pt
SUMMARY:Runa: São João Baptista
DESCRIPTION:Bispo das Forças Armadas e das Forças de Segurança preside à celebração do Padroeiro da Runa\, já que o Pároco presta assistência voluntária ao Centro de Apoio Social (IASFA). Atitude de agradecimento pelo zeloso trabalho.
URL:https://ordinariato.castrense.pt/evento/runa-sao-joao-baptista/
LOCATION:Runa
END:VEVENT
BEGIN:VEVENT
DTSTART;TZID=UTC:20160624T103000
DTEND;TZID=UTC:20160624T140000
DTSTAMP:20260424T180858
CREATED:20160119T123203Z
LAST-MODIFIED:20160119T123203Z
UID:1346-1466764200-1466776800@ordinariato.castrense.pt
SUMMARY:Centro de Formação de Portalegre da GNR
DESCRIPTION:Habitual celebração dos Sacramentos da Iniciação Cristã dos alunos que terminam o curso da Guarda Nacional Republicana.
URL:https://ordinariato.castrense.pt/evento/centro-de-formacao-de-portalegre-da-gnr/
END:VEVENT
BEGIN:VEVENT
DTSTART;VALUE=DATE:20160620
DTEND;VALUE=DATE:20160623
DTSTAMP:20260424T180858
CREATED:20160119T122950Z
LAST-MODIFIED:20160119T122950Z
UID:1344-1466380800-1466639999@ordinariato.castrense.pt
SUMMARY:Jornadas Pastorais do Episcopado
DESCRIPTION:Habituais Jornadas de Formação Contínua. Participam o bispo e o vigário-geral.
URL:https://ordinariato.castrense.pt/evento/jornadas-pastorais-do-episcopado/
LOCATION:Fátima
END:VEVENT
BEGIN:VEVENT
DTSTART;VALUE=DATE:20160619
DTEND;VALUE=DATE:20160620
DTSTAMP:20260424T180858
CREATED:20160114T180819Z
LAST-MODIFIED:20160114T180819Z
UID:1251-1466294400-1466380799@ordinariato.castrense.pt
SUMMARY:Alfeite: convívio da comunidade
DESCRIPTION:Depois da Missa\, à tarde\, convívio dos cristãos que habitualmente frequentam a capela da Base Naval.
URL:https://ordinariato.castrense.pt/evento/alfeite-convivio-da-comunidade/
END:VEVENT
BEGIN:VEVENT
DTSTART;VALUE=DATE:20160616
DTEND;VALUE=DATE:20160618
DTSTAMP:20260424T180858
CREATED:20160114T180645Z
LAST-MODIFIED:20160114T180645Z
UID:1250-1466035200-1466207999@ordinariato.castrense.pt
SUMMARY:35ª Peregrinação Militar a Fátima
DESCRIPTION:Acontecimento importante na pastoral castrense. Inscrição junto dos capelães
URL:https://ordinariato.castrense.pt/evento/35a-peregrinacao-militar-a-fatima/
END:VEVENT
BEGIN:VEVENT
DTSTART;VALUE=DATE:20160615
DTEND;VALUE=DATE:20160616
DTSTAMP:20260424T180858
CREATED:20160502T230059Z
LAST-MODIFIED:20160502T230059Z
UID:1900-1465948800-1466035199@ordinariato.castrense.pt
SUMMARY:Crismas em Espinho
DESCRIPTION:Para militares deste Regimento de Engenharia
URL:https://ordinariato.castrense.pt/evento/crismas-em-espinho/
END:VEVENT
BEGIN:VEVENT
DTSTART;TZID=UTC:20160612T100000
DTEND;TZID=UTC:20160612T100000
DTSTAMP:20260424T180858
CREATED:20160114T180514Z
LAST-MODIFIED:20160114T180514Z
UID:1249-1465725600-1465725600@ordinariato.castrense.pt
SUMMARY:Primeira Comunhão e Profissão de Fé
DESCRIPTION:Na Capela da Base Naval de Lisboa\, no Alfeite.
URL:https://ordinariato.castrense.pt/evento/primeira-comunhao-e-profissao-de-fe/
END:VEVENT
BEGIN:VEVENT
DTSTART;TZID=UTC:20160611T150000
DTEND;TZID=UTC:20160611T170000
DTSTAMP:20260424T180858
CREATED:20160114T180410Z
LAST-MODIFIED:20160114T180410Z
UID:1248-1465657200-1465664400@ordinariato.castrense.pt
SUMMARY:Confissões no Alfeite
DESCRIPTION:Para a Primeira Comunhão e Profissão de Fé
URL:https://ordinariato.castrense.pt/evento/confissoes-no-alfeite-2/
END:VEVENT
BEGIN:VEVENT
DTSTART;VALUE=DATE:20160610
DTEND;VALUE=DATE:20160613
DTSTAMP:20260424T180858
CREATED:20160502T225956Z
LAST-MODIFIED:20160502T225956Z
UID:1899-1465516800-1465775999@ordinariato.castrense.pt
SUMMARY:Congresso Eucarístico nacional
DESCRIPTION:Na preparação do Centenário das Aparições de Fátima.
URL:https://ordinariato.castrense.pt/evento/congresso-eucaristico-nacional/
END:VEVENT
BEGIN:VEVENT
DTSTART;VALUE=DATE:20160608
DTEND;VALUE=DATE:20160609
DTSTAMP:20260424T180858
CREATED:20160502T225829Z
LAST-MODIFIED:20160502T225829Z
UID:1898-1465344000-1465430399@ordinariato.castrense.pt
SUMMARY:Visita Pastoral a AM de Ovar
DESCRIPTION:E celebração dos Sacramentos da Iniciação Cristã para estes militares da Força Aérea e para os do regimento de Engenharia de Espinho.
URL:https://ordinariato.castrense.pt/evento/visita-pastoral-a-am-de-ovar/
END:VEVENT
BEGIN:VEVENT
DTSTART;TZID=UTC:20160607T093000
DTEND;TZID=UTC:20160607T140000
DTSTAMP:20260424T180858
CREATED:20160119T122810Z
LAST-MODIFIED:20160119T122810Z
UID:1342-1465291800-1465308000@ordinariato.castrense.pt
SUMMARY:Conselho de Consultores
DESCRIPTION:Habitual reunião mensal.
URL:https://ordinariato.castrense.pt/evento/conselho-de-consultores-8/
LOCATION:Capelania Mor
END:VEVENT
BEGIN:VEVENT
DTSTART;TZID=UTC:20160603T100000
DTEND;TZID=UTC:20160603T110000
DTSTAMP:20260424T180858
CREATED:20160114T180255Z
LAST-MODIFIED:20160114T180255Z
UID:1247-1464948000-1464951600@ordinariato.castrense.pt
SUMMARY:Missa na Escola de Fuzileiros
DESCRIPTION:No Dia da Unidade.
URL:https://ordinariato.castrense.pt/evento/missa-na-escola-de-fuzileiros/
END:VEVENT
BEGIN:VEVENT
DTSTART;TZID=UTC:20160602T180000
DTEND;TZID=UTC:20160602T190000
DTSTAMP:20260424T180858
CREATED:20160502T225633Z
LAST-MODIFIED:20160502T225633Z
UID:1897-1464890400-1464894000@ordinariato.castrense.pt
SUMMARY:Missa na Igreja da Memória
DESCRIPTION:Encontro Mensal dos capelães da guarnição militar de Lisboa
URL:https://ordinariato.castrense.pt/evento/missa-na-igreja-da-memoria/
END:VEVENT
BEGIN:VEVENT
DTSTART;VALUE=DATE:20160602
DTEND;VALUE=DATE:20160603
DTSTAMP:20260424T180858
CREATED:20160502T225526Z
LAST-MODIFIED:20160502T225526Z
UID:1896-1464825600-1464911999@ordinariato.castrense.pt
SUMMARY:Sacramentos da Iniciação Cristã para a Força Aérea
DESCRIPTION:O Bispo das Forças Armadas e das Forças de Segurança administra o Baptismo e Crisma e admite fiéis à Eucaristia.
URL:https://ordinariato.castrense.pt/evento/sacramentos-da-iniciacao-crista-para-a-forca-aerea/
END:VEVENT
BEGIN:VEVENT
DTSTART;VALUE=DATE:20160531
DTEND;VALUE=DATE:20160601
DTSTAMP:20260424T180858
CREATED:20160502T225317Z
LAST-MODIFIED:20160502T225317Z
UID:1895-1464652800-1464739199@ordinariato.castrense.pt
SUMMARY:Bispo visita GNR e PSP de Beja
DESCRIPTION:Visita pastoral aos Comandos Territorial e Distrital do Bispo das Forças Armadas e das Forças de Segurança.
URL:https://ordinariato.castrense.pt/evento/bispo-visita-gnr-e-psp-de-beja/
END:VEVENT
BEGIN:VEVENT
DTSTART;VALUE=DATE:20160531
DTEND;VALUE=DATE:20160601
DTSTAMP:20260424T180858
CREATED:20160502T225216Z
LAST-MODIFIED:20160502T225216Z
UID:1894-1464652800-1464739199@ordinariato.castrense.pt
SUMMARY:Sacramentos da Iniciação Cristã\, em Beja
DESCRIPTION:D. Manuel Linda administra baptismos\, primeiras comunhões e crismas para militares do RI1 e BA11.
URL:https://ordinariato.castrense.pt/evento/sacramentos-da-iniciacao-crista-em-beja/
END:VEVENT
BEGIN:VEVENT
DTSTART;TZID=UTC:20160530T090000
DTEND;TZID=UTC:20160530T100000
DTSTAMP:20260424T180858
CREATED:20160502T225000Z
LAST-MODIFIED:20160502T225000Z
UID:1893-1464598800-1464602400@ordinariato.castrense.pt
SUMMARY:Missa no HFAR - Polo de Lisboa
DESCRIPTION:Bispo das Forças Armadas e das Forças de Segurança preside à celebração
URL:https://ordinariato.castrense.pt/evento/missa-no-hfar-polo-de-lisboa/
END:VEVENT
BEGIN:VEVENT
DTSTART;TZID=UTC:20160529T110000
DTEND;TZID=UTC:20160529T120000
DTSTAMP:20260424T180858
CREATED:20160119T122649Z
LAST-MODIFIED:20160123T095521Z
UID:1341-1464519600-1464523200@ordinariato.castrense.pt
SUMMARY:Missa no Aniversário do IPE
DESCRIPTION:O Instituto dos Pupilos do Exército celebra o seu Dia. Missa na Igreja de São Domingos da Baixa. Preside o senhor bispo.
URL:https://ordinariato.castrense.pt/evento/missa-no-aniversario-do-ipe/
END:VEVENT
BEGIN:VEVENT
DTSTART;VALUE=DATE:20160528
DTEND;VALUE=DATE:20160530
DTSTAMP:20260424T180858
CREATED:20160114T180136Z
LAST-MODIFIED:20160114T180136Z
UID:1246-1464393600-1464566399@ordinariato.castrense.pt
SUMMARY:Encontro de Adolescentes
DESCRIPTION:Na Base Naval de Lisboa\, no Alfeite. Orienta o Capelão\, P. Licínio.
URL:https://ordinariato.castrense.pt/evento/encontro-de-adolescentes/
END:VEVENT
BEGIN:VEVENT
DTSTART;VALUE=DATE:20160528
DTEND;VALUE=DATE:20160530
DTSTAMP:20260424T180858
CREATED:20160114T180011Z
LAST-MODIFIED:20160114T180011Z
UID:1245-1464393600-1464566399@ordinariato.castrense.pt
SUMMARY:Banco Alimentar na Escola Naval
DESCRIPTION:Sensibilização para a partilha dos futuros Comandantes.
URL:https://ordinariato.castrense.pt/evento/banco-alimentar-na-escola-naval/
END:VEVENT
END:VCALENDAR