BEGIN:VCALENDAR
VERSION:2.0
PRODID:-//Ordinariato Castrense - ECPv6.15.20//NONSGML v1.0//EN
CALSCALE:GREGORIAN
METHOD:PUBLISH
X-ORIGINAL-URL:https://ordinariato.castrense.pt
X-WR-CALDESC:Eventos para Ordinariato Castrense
REFRESH-INTERVAL;VALUE=DURATION:PT1H
X-Robots-Tag:noindex
X-PUBLISHED-TTL:PT1H
BEGIN:VTIMEZONE
TZID:UTC
BEGIN:STANDARD
TZOFFSETFROM:+0000
TZOFFSETTO:+0000
TZNAME:UTC
DTSTART:20150101T000000
END:STANDARD
END:VTIMEZONE
BEGIN:VEVENT
DTSTART;VALUE=DATE:20160423
DTEND;VALUE=DATE:20160425
DTSTAMP:20260425T011215
CREATED:20160114T174803Z
LAST-MODIFIED:20160114T174803Z
UID:1237-1461369600-1461542399@ordinariato.castrense.pt
SUMMARY:Retiro dos Crismandos da BNL - Alfeite
DESCRIPTION:Orienta o capelão\, P. Licínio
URL:https://ordinariato.castrense.pt/evento/retiro-dos-crismandos-da-bnl-alfeite/
END:VEVENT
BEGIN:VEVENT
DTSTART;TZID=UTC:20160419T093000
DTEND;TZID=UTC:20160419T130000
DTSTAMP:20260425T011215
CREATED:20160307T122920Z
LAST-MODIFIED:20160307T122920Z
UID:1580-1461058200-1461070800@ordinariato.castrense.pt
SUMMARY:Colégio de Consultores
DESCRIPTION:
URL:https://ordinariato.castrense.pt/evento/colegio-de-consultores/
END:VEVENT
BEGIN:VEVENT
DTSTART;TZID=UTC:20160414T110000
DTEND;TZID=UTC:20160414T111500
DTSTAMP:20260425T011215
CREATED:20160324T203355Z
LAST-MODIFIED:20160324T203355Z
UID:1697-1460631600-1460632500@ordinariato.castrense.pt
SUMMARY:Évora: comemoração da batalha de La Lys
DESCRIPTION:Oração pelos defuntos. Preside o P. Jorge Matos.
URL:https://ordinariato.castrense.pt/evento/evora-comemoracao-da-batalha-de-la-lys/
END:VEVENT
BEGIN:VEVENT
DTSTART;VALUE=DATE:20160414
DTEND;VALUE=DATE:20160415
DTSTAMP:20260425T011215
CREATED:20160324T203226Z
LAST-MODIFIED:20160324T203250Z
UID:1696-1460592000-1460678399@ordinariato.castrense.pt
SUMMARY:Santa Margarida: celebração pascal da Brigada Mecanizada
DESCRIPTION:Preside o capelão\, P. António Joaquim.
URL:https://ordinariato.castrense.pt/evento/santa-margarida-celebracao-pascal-da-brigada-mecanizada/
END:VEVENT
BEGIN:VEVENT
DTSTART;TZID=UTC:20160412T093000
DTEND;TZID=UTC:20160412T170000
DTSTAMP:20260425T011215
CREATED:20160119T121503Z
LAST-MODIFIED:20160119T121503Z
UID:1332-1460453400-1460480400@ordinariato.castrense.pt
SUMMARY:Conselho de Consultores
DESCRIPTION:Habitual reunião mensal.
URL:https://ordinariato.castrense.pt/evento/conselho-de-consultores-6/
LOCATION:Capelania Mor
END:VEVENT
BEGIN:VEVENT
DTSTART;TZID=UTC:20160409T100000
DTEND;TZID=UTC:20160409T110000
DTSTAMP:20260425T011215
CREATED:20160307T122739Z
LAST-MODIFIED:20160307T122739Z
UID:1579-1460196000-1460199600@ordinariato.castrense.pt
SUMMARY:Liga dos Combatentes: Missa na Batalha
DESCRIPTION:O tradicional dia da batalha de La Lys é assinalado com duas celebrações: a  religiosa e a militar. Preside o Bispo das Forças Armadas e das Forças de Segurança.
URL:https://ordinariato.castrense.pt/evento/liga-dos-combatentes-missa-na-batalha/
END:VEVENT
BEGIN:VEVENT
DTSTART;TZID=UTC:20160408T110000
DTEND;TZID=UTC:20160408T120000
DTSTAMP:20260425T011215
CREATED:20160316T010553Z
LAST-MODIFIED:20160316T010605Z
UID:1634-1460113200-1460116800@ordinariato.castrense.pt
SUMMARY:EPM (Tomar): Comunhão Pascal
DESCRIPTION:Estabelecimento Prisional Militar
URL:https://ordinariato.castrense.pt/evento/epm-tomar/
END:VEVENT
BEGIN:VEVENT
DTSTART;TZID=UTC:20160407T100000
DTEND;TZID=UTC:20160407T120000
DTSTAMP:20260425T011215
CREATED:20160324T203044Z
LAST-MODIFIED:20160324T203044Z
UID:1695-1460023200-1460030400@ordinariato.castrense.pt
SUMMARY:Estremoz: Ano da Misericórdia e Celebração Pascal
DESCRIPTION:Palestra e Eucaristia pelo P. Jorge Matos.
URL:https://ordinariato.castrense.pt/evento/estremoz-ano-da-misericordia-e-celebracao-pascal/
END:VEVENT
BEGIN:VEVENT
DTSTART;TZID=UTC:20160406T090000
DTEND;TZID=UTC:20160406T091500
DTSTAMP:20260425T011215
CREATED:20160324T202903Z
LAST-MODIFIED:20160324T202903Z
UID:1694-1459933200-1459934100@ordinariato.castrense.pt
SUMMARY:Fronteira: comemoração da batalha dos Atoleiros
DESCRIPTION:Oração pelos defuntos. Preside o P. Matos.
URL:https://ordinariato.castrense.pt/evento/fronteira-comemoracao-da-batalha-dos-atoleiros/
END:VEVENT
BEGIN:VEVENT
DTSTART;TZID=UTC:20160406T080000
DTEND;TZID=UTC:20160406T170000
DTSTAMP:20260425T011215
CREATED:20160307T122519Z
LAST-MODIFIED:20160307T122519Z
UID:1578-1459929600-1459962000@ordinariato.castrense.pt
SUMMARY:Reunião da Província Eclesiástica de Lisboa
DESCRIPTION:O Ordinariato pertence a esta Província Eclesiástica\, juntamente com Lisboa\, Leiria\, Santarém\, Guarda\, Portalegre e Castelo Branco\, Setúbal\, Funchal e Angra do Heroísmo.
URL:https://ordinariato.castrense.pt/evento/reuniao-da-provincia-eclesiastica-de-lisboa/
END:VEVENT
BEGIN:VEVENT
DTSTART;VALUE=DATE:20160405
DTEND;VALUE=DATE:20160409
DTSTAMP:20260425T011215
CREATED:20160324T203731Z
LAST-MODIFIED:20160324T203731Z
UID:1698-1459814400-1460159999@ordinariato.castrense.pt
SUMMARY:Grécia: Bispo visita Polícia Marítima e participa em reunião da FRONTEX
DESCRIPTION:Bispo acompanha delegação chefiada por sua Ex.cia o Secretário de Estado da Defesa.
URL:https://ordinariato.castrense.pt/evento/grecia-bispo-visita-policia-maritima-e-participa-em-reuniao-da-frontex/
END:VEVENT
BEGIN:VEVENT
DTSTART;TZID=UTC:20160404T110000
DTEND;TZID=UTC:20160404T120000
DTSTAMP:20260425T011215
CREATED:20160324T202714Z
LAST-MODIFIED:20160324T202723Z
UID:1693-1459767600-1459771200@ordinariato.castrense.pt
SUMMARY:vendas Novas: Celebração Pascal no RA5
DESCRIPTION:Preside o P. Jorge Matos
URL:https://ordinariato.castrense.pt/evento/vendas-novas-celebracao-pascal-no-ra5/
END:VEVENT
BEGIN:VEVENT
DTSTART;VALUE=DATE:20160404
DTEND;VALUE=DATE:20160408
DTSTAMP:20260425T011215
CREATED:20160119T121347Z
LAST-MODIFIED:20160119T121347Z
UID:1330-1459728000-1460073599@ordinariato.castrense.pt
SUMMARY:Conferência Episcopal Portuguesa
DESCRIPTION:Habitual reunião da primavera de todos os bispos de Portugal
URL:https://ordinariato.castrense.pt/evento/conferencia-episcopal-portuguesa/
LOCATION:Fátima
END:VEVENT
BEGIN:VEVENT
DTSTART;VALUE=DATE:20160403
DTEND;VALUE=DATE:20160404
DTSTAMP:20260425T011215
CREATED:20160114T173957Z
LAST-MODIFIED:20160114T173957Z
UID:1230-1459641600-1459727999@ordinariato.castrense.pt
SUMMARY:Domingo da Divina Misericórdia
DESCRIPTION:Celebração da misericórdia divina em Ano Santo da Misericórdia
URL:https://ordinariato.castrense.pt/evento/domingo-da-divina-misericordia/
END:VEVENT
BEGIN:VEVENT
DTSTART;TZID=UTC:20160401T123000
DTEND;TZID=UTC:20160401T133000
DTSTAMP:20260425T011215
CREATED:20160324T202529Z
LAST-MODIFIED:20160324T202540Z
UID:1692-1459513800-1459517400@ordinariato.castrense.pt
SUMMARY:Fátima: Eucaristia de encerramento da peregrinação
DESCRIPTION:Na capelinha das Aparições. Preside D. Manuel Linda.
URL:https://ordinariato.castrense.pt/evento/fatima-eucaristia-de-encerramento-da-peregrinacao/
END:VEVENT
BEGIN:VEVENT
DTSTART;TZID=UTC:20160401T093000
DTEND;TZID=UTC:20160401T103000
DTSTAMP:20260425T011215
CREATED:20160324T202327Z
LAST-MODIFIED:20160324T202337Z
UID:1691-1459503000-1459506600@ordinariato.castrense.pt
SUMMARY:Eucaristia no Dia da Unidade do Centro de Saúde Militar de Coimbra
DESCRIPTION:Preside o P. Jorge Matos
URL:https://ordinariato.castrense.pt/evento/eucaristia-no-dia-da-unidade-do-centro-de-saude-militar-de-coimbra/
END:VEVENT
BEGIN:VEVENT
DTSTART;TZID=UTC:20160331T160000
DTEND;TZID=UTC:20160331T180000
DTSTAMP:20260425T011215
CREATED:20160114T174341Z
LAST-MODIFIED:20160114T174341Z
UID:1235-1459440000-1459447200@ordinariato.castrense.pt
SUMMARY:Confissões na Memória
DESCRIPTION:No contexto do Jubileu do Ano santo e em tempo de Quaresma. No final\, a habitual celebração da Missa.
URL:https://ordinariato.castrense.pt/evento/confissoes-na-memoria-6/
END:VEVENT
BEGIN:VEVENT
DTSTART;TZID=UTC:20160331T113000
DTEND;TZID=UTC:20160331T123000
DTSTAMP:20260425T011215
CREATED:20160324T202150Z
LAST-MODIFIED:20160324T202150Z
UID:1690-1459423800-1459427400@ordinariato.castrense.pt
SUMMARY:Évora: Páscoa na Direcção de Formação e Centro de Saúde Militar
DESCRIPTION:Preside o P. Matos
URL:https://ordinariato.castrense.pt/evento/evora-pascoa-na-direccao-de-formacao-e-centro-de-saude-militar/
END:VEVENT
BEGIN:VEVENT
DTSTART;TZID=UTC:20160330T103000
DTEND;TZID=UTC:20160330T233000
DTSTAMP:20260425T011215
CREATED:20160308T100748Z
LAST-MODIFIED:20160308T100748Z
UID:1589-1459333800-1459380600@ordinariato.castrense.pt
SUMMARY:Porto: Páscoa do Comando do Pessoal
DESCRIPTION:Na Sé do Porto. Para os militares da Guarnição da cidade. Preside D. Manuel Linda.
URL:https://ordinariato.castrense.pt/evento/porto-pascoa-do-comando-do-pessoal/
END:VEVENT
BEGIN:VEVENT
DTSTART;VALUE=DATE:20160330
DTEND;VALUE=DATE:20160331
DTSTAMP:20260425T011215
CREATED:20160324T201938Z
LAST-MODIFIED:20160324T201938Z
UID:1689-1459296000-1459382399@ordinariato.castrense.pt
SUMMARY:Aveiro: imagem peregrina nas Forças de Segurança
DESCRIPTION:De manhã\, às 11 horas\, a imagem peregrina de Nossa Senhora de Fátima é recebida no Comando Distrital da PSP. De tarde\, às 16h30\, a mesma imagem entrará na parada do Comando Territorial de Aveiro da GNR
URL:https://ordinariato.castrense.pt/evento/aveiro-imagem-peregrina-nas-forcas-de-seguranca/
END:VEVENT
BEGIN:VEVENT
DTSTART;VALUE=DATE:20160330
DTEND;VALUE=DATE:20160331
DTSTAMP:20260425T011215
CREATED:20160206T111950Z
LAST-MODIFIED:20160206T111950Z
UID:1501-1459296000-1459382399@ordinariato.castrense.pt
SUMMARY:RI10 (São Jacinto): Visita da Imagem Peregrina
DESCRIPTION:Mais uma visita da imagem de Nossa Senhora de Fátima a um Regimento. A acompanhá-la\, estarão o Bispo das Forças Armadas e das Forças de Segurança e o Bispo de Aveiro.
URL:https://ordinariato.castrense.pt/evento/ri10-sao-jacinto-visita-da-imagem-peregrina/
END:VEVENT
BEGIN:VEVENT
DTSTART;VALUE=DATE:20160329
DTEND;VALUE=DATE:20160402
DTSTAMP:20260425T011215
CREATED:20160114T173751Z
LAST-MODIFIED:20160114T173831Z
UID:1229-1459209600-1459555199@ordinariato.castrense.pt
SUMMARY:Peregrinação a Fátima a Pé
DESCRIPTION:Peregrinação do Ordinariato Militar
URL:https://ordinariato.castrense.pt/evento/peregrinacao-a-fatima-a-pe/
END:VEVENT
BEGIN:VEVENT
DTSTART;TZID=UTC:20160327T110000
DTEND;TZID=UTC:20160327T120000
DTSTAMP:20260425T011215
CREATED:20160324T201645Z
LAST-MODIFIED:20160324T201645Z
UID:1688-1459076400-1459080000@ordinariato.castrense.pt
SUMMARY:CAS Oeiras: Comunhão Pascal
DESCRIPTION:Preside o Capelão\, P. António Teixeira\, OFM
URL:https://ordinariato.castrense.pt/evento/cas-oeiras-comunhao-pascal/
END:VEVENT
BEGIN:VEVENT
DTSTART;VALUE=DATE:20160327
DTEND;VALUE=DATE:20160328
DTSTAMP:20260425T011215
CREATED:20160119T121143Z
LAST-MODIFIED:20160119T121143Z
UID:1329-1459036800-1459123199@ordinariato.castrense.pt
SUMMARY:Domingo da Ressurreição
DESCRIPTION:Páscoa do Senhor. Por ter acontecido “no primeiro dia da semana” é que nós santificamos o Domingo como dia consagrado ao Senhor no qual a Missa ocupa o lugar central.
URL:https://ordinariato.castrense.pt/evento/domingo-da-ressurreicao/
END:VEVENT
BEGIN:VEVENT
DTSTART;VALUE=DATE:20160326
DTEND;VALUE=DATE:20160327
DTSTAMP:20260425T011215
CREATED:20160119T120954Z
LAST-MODIFIED:20160119T120954Z
UID:1328-1458950400-1459036799@ordinariato.castrense.pt
SUMMARY:Sábado Santo
DESCRIPTION:Dia de silêncio meditativo. Que puder\, participe na vigília pascal\, à noite.
URL:https://ordinariato.castrense.pt/evento/sabado-santo/
END:VEVENT
BEGIN:VEVENT
DTSTART;TZID=UTC:20160325T150000
DTEND;TZID=UTC:20160325T160000
DTSTAMP:20260425T011215
CREATED:20160119T120858Z
LAST-MODIFIED:20160119T120858Z
UID:1327-1458918000-1458921600@ordinariato.castrense.pt
SUMMARY:Celebração da Paixão do Senhor
DESCRIPTION:O bispo preside\, na Igreja da Memória\, à liturgia comemorativa da morte do Senhor\, à hora em que Ele morreu.
URL:https://ordinariato.castrense.pt/evento/celebracao-da-paixao-do-senhor/
END:VEVENT
BEGIN:VEVENT
DTSTART;VALUE=DATE:20160325
DTEND;VALUE=DATE:20160326
DTSTAMP:20260425T011215
CREATED:20160114T173635Z
LAST-MODIFIED:20160114T173635Z
UID:1228-1458864000-1458950399@ordinariato.castrense.pt
SUMMARY:Ofertório para os Lugares Santos
DESCRIPTION:Ofertório consignado a nível nacional. Para ajudar a conservar os edifícios que preservam a memória histórica de Jesus\, na Palestina.
URL:https://ordinariato.castrense.pt/evento/ofertorio-para-os-lugares-santos/
END:VEVENT
BEGIN:VEVENT
DTSTART;TZID=UTC:20160324T180000
DTEND;TZID=UTC:20160324T190000
DTSTAMP:20260425T011215
CREATED:20160119T120334Z
LAST-MODIFIED:20160119T120709Z
UID:1325-1458842400-1458846000@ordinariato.castrense.pt
SUMMARY:Missa da Ceia do Senhor\, na Memória
DESCRIPTION:O bispo preside a esta Missa comemorativa da Instituição da Eucaristia.
URL:https://ordinariato.castrense.pt/evento/missa-da-ceia-do-senhor-na-memoria/
LOCATION:Igreja da Memória
END:VEVENT
BEGIN:VEVENT
DTSTART;TZID=UTC:20160324T160000
DTEND;TZID=UTC:20160324T180000
DTSTAMP:20260425T011215
CREATED:20160114T174259Z
LAST-MODIFIED:20160114T174259Z
UID:1234-1458835200-1458842400@ordinariato.castrense.pt
SUMMARY:Confissões na Memória
DESCRIPTION:No contexto do Jubileu do Ano santo e em tempo de Quaresma. No final\, a habitual celebração da Missa.
URL:https://ordinariato.castrense.pt/evento/confissoes-na-memoria-5/
END:VEVENT
BEGIN:VEVENT
DTSTART;TZID=UTC:20160323T110000
DTEND;TZID=UTC:20160323T150000
DTSTAMP:20260425T011215
CREATED:20160119T120215Z
LAST-MODIFIED:20160119T120215Z
UID:1323-1458730800-1458745200@ordinariato.castrense.pt
SUMMARY:Missa Crismal do Ordinariato
DESCRIPTION:Todos os capelães de reúnem com o seu bispo para renovarem as promessas sacerdotais e consagrarem os Santos Óleos (dos Catecúmenos\, Enfermos e Crisma). Convidam-se todos os leigos do Ordinariato a participarem.
URL:https://ordinariato.castrense.pt/evento/missa-crismal-do-ordinariato/
LOCATION:Igreja da Memória
END:VEVENT
END:VCALENDAR