BEGIN:VCALENDAR
VERSION:2.0
PRODID:-//Ordinariato Castrense - ECPv6.15.20//NONSGML v1.0//EN
CALSCALE:GREGORIAN
METHOD:PUBLISH
X-ORIGINAL-URL:https://ordinariato.castrense.pt
X-WR-CALDESC:Eventos para Ordinariato Castrense
REFRESH-INTERVAL;VALUE=DURATION:PT1H
X-Robots-Tag:noindex
X-PUBLISHED-TTL:PT1H
BEGIN:VTIMEZONE
TZID:UTC
BEGIN:STANDARD
TZOFFSETFROM:+0000
TZOFFSETTO:+0000
TZNAME:UTC
DTSTART:20180101T000000
END:STANDARD
END:VTIMEZONE
BEGIN:VEVENT
DTSTART;VALUE=DATE:20190421
DTEND;VALUE=DATE:20190422
DTSTAMP:20260422T222856
CREATED:20180920T100214Z
LAST-MODIFIED:20180920T100214Z
UID:5365-1555804800-1555891199@ordinariato.castrense.pt
SUMMARY:Dia de Páscoa
DESCRIPTION:
URL:https://ordinariato.castrense.pt/evento/dia-de-pascoa/
END:VEVENT
BEGIN:VEVENT
DTSTART;TZID=UTC:20190417T110000
DTEND;TZID=UTC:20190417T123000
DTSTAMP:20260422T222856
CREATED:20180920T100039Z
LAST-MODIFIED:20180920T100039Z
UID:5362-1555498800-1555504200@ordinariato.castrense.pt
SUMMARY:Missa Crismal
DESCRIPTION:Igreja da Memória
URL:https://ordinariato.castrense.pt/evento/missa-crismal/
END:VEVENT
BEGIN:VEVENT
DTSTART;TZID=UTC:20190415T093000
DTEND;TZID=UTC:20190415T123000
DTSTAMP:20260422T222856
CREATED:20180920T095845Z
LAST-MODIFIED:20180920T095845Z
UID:5360-1555320600-1555331400@ordinariato.castrense.pt
SUMMARY:Conselho de Consultores
DESCRIPTION:MDN
URL:https://ordinariato.castrense.pt/evento/conselho-de-consultores-32/
END:VEVENT
BEGIN:VEVENT
DTSTART;VALUE=DATE:20190412
DTEND;VALUE=DATE:20190413
DTSTAMP:20260422T222856
CREATED:20180920T095514Z
LAST-MODIFIED:20180920T095514Z
UID:5358-1555027200-1555113599@ordinariato.castrense.pt
SUMMARY:Celebração Pascal na AFA
DESCRIPTION:Academia da Força Aérea
URL:https://ordinariato.castrense.pt/evento/celebracao-pascal-na-afa/
END:VEVENT
BEGIN:VEVENT
DTSTART;VALUE=DATE:20190410
DTEND;VALUE=DATE:20190411
DTSTAMP:20260422T222856
CREATED:20180920T094421Z
LAST-MODIFIED:20180920T094421Z
UID:5356-1554854400-1554940799@ordinariato.castrense.pt
SUMMARY:Celebração Pascal na EN
DESCRIPTION:Escola Naval
URL:https://ordinariato.castrense.pt/evento/celebracao-pascal-na-en/
END:VEVENT
BEGIN:VEVENT
DTSTART;VALUE=DATE:20190409
DTEND;VALUE=DATE:20190410
DTSTAMP:20260422T222856
CREATED:20180920T094156Z
LAST-MODIFIED:20180920T094156Z
UID:5354-1554768000-1554854399@ordinariato.castrense.pt
SUMMARY:Celebração Pascal na AM
DESCRIPTION:Academia Militar
URL:https://ordinariato.castrense.pt/evento/celebracao-pascal-na-am/
END:VEVENT
BEGIN:VEVENT
DTSTART;TZID=UTC:20190404T180000
DTEND;TZID=UTC:20190404T193000
DTSTAMP:20260422T222856
CREATED:20180920T094009Z
LAST-MODIFIED:20180920T094009Z
UID:5352-1554400800-1554406200@ordinariato.castrense.pt
SUMMARY:Missa da 1ª Quinta Feira
DESCRIPTION:Igreja da Memória
URL:https://ordinariato.castrense.pt/evento/missa-da-1a-quinta-feira-12/
END:VEVENT
BEGIN:VEVENT
DTSTART;TZID=UTC:20190403T210000
DTEND;TZID=UTC:20190403T230000
DTSTAMP:20260422T222856
CREATED:20180920T093836Z
LAST-MODIFIED:20180920T093836Z
UID:5350-1554325200-1554332400@ordinariato.castrense.pt
SUMMARY:Via Sacra Diocesana
DESCRIPTION:Queluz
URL:https://ordinariato.castrense.pt/evento/via-sacra-diocesana-3/
END:VEVENT
BEGIN:VEVENT
DTSTART;TZID=UTC:20190401T143000
DTEND;TZID=UTC:20190401T170000
DTSTAMP:20260422T222856
CREATED:20180920T093454Z
LAST-MODIFIED:20180920T093454Z
UID:5348-1554129000-1554138000@ordinariato.castrense.pt
SUMMARY:Reunião do Conselho de Consultores
DESCRIPTION:MDN
URL:https://ordinariato.castrense.pt/evento/reuniao-do-conselho-de-consultores-2/
END:VEVENT
BEGIN:VEVENT
DTSTART;VALUE=DATE:20190325
DTEND;VALUE=DATE:20190326
DTSTAMP:20260422T222856
CREATED:20190207T135644Z
LAST-MODIFIED:20190207T135710Z
UID:6139-1553472000-1553558399@ordinariato.castrense.pt
SUMMARY:Conselho Presbiteral
DESCRIPTION:Conselho Presbiteral
URL:https://ordinariato.castrense.pt/evento/conselho-presbiteral-6/
END:VEVENT
BEGIN:VEVENT
DTSTART;VALUE=DATE:20190325
DTEND;VALUE=DATE:20190326
DTSTAMP:20260422T222856
CREATED:20181204T143234Z
LAST-MODIFIED:20181204T143234Z
UID:5620-1553472000-1553558399@ordinariato.castrense.pt
SUMMARY:Dia do Comando Operacional dos Açores
DESCRIPTION:Com a presença de D. Rui Valério\, Bispo das Forças Armadas e de Segurança \nAçores
URL:https://ordinariato.castrense.pt/evento/dia-do-comando-operacional-dos-acores/
END:VEVENT
BEGIN:VEVENT
DTSTART;TZID=UTC:20190320T093000
DTEND;TZID=UTC:20190320T123000
DTSTAMP:20260422T222856
CREATED:20180920T093300Z
LAST-MODIFIED:20180920T093300Z
UID:5345-1553074200-1553085000@ordinariato.castrense.pt
SUMMARY:Conselho de Consultores
DESCRIPTION:MDN
URL:https://ordinariato.castrense.pt/evento/conselho-de-consultores-31/
END:VEVENT
BEGIN:VEVENT
DTSTART;VALUE=DATE:20190319
DTEND;VALUE=DATE:20190323
DTSTAMP:20260422T222856
CREATED:20190207T135551Z
LAST-MODIFIED:20190207T135551Z
UID:6137-1552953600-1553299199@ordinariato.castrense.pt
SUMMARY:PMNF 2019
DESCRIPTION:PMNF 2019
URL:https://ordinariato.castrense.pt/evento/pmnf-2019/
END:VEVENT
BEGIN:VEVENT
DTSTART;VALUE=DATE:20190319
DTEND;VALUE=DATE:20190323
DTSTAMP:20260422T222856
CREATED:20180920T093055Z
LAST-MODIFIED:20180920T093055Z
UID:5342-1552953600-1553299199@ordinariato.castrense.pt
SUMMARY:XIIIª Peregrinação Militar a Fátima a Pé
DESCRIPTION:
URL:https://ordinariato.castrense.pt/evento/xiiia-peregrinacao-militar-a-fatima-a-pe/
END:VEVENT
BEGIN:VEVENT
DTSTART;VALUE=DATE:20190311
DTEND;VALUE=DATE:20190316
DTSTAMP:20260422T222856
CREATED:20190207T135454Z
LAST-MODIFIED:20190207T135454Z
UID:6135-1552262400-1552694399@ordinariato.castrense.pt
SUMMARY:Retiro Bispos - Fátima
DESCRIPTION:Retiro Bispos – Fátima
URL:https://ordinariato.castrense.pt/evento/retiro-bispos-fatima/
END:VEVENT
BEGIN:VEVENT
DTSTART;VALUE=DATE:20190309
DTEND;VALUE=DATE:20190310
DTSTAMP:20260422T222856
CREATED:20190207T135212Z
LAST-MODIFIED:20190207T135212Z
UID:6131-1552089600-1552175999@ordinariato.castrense.pt
SUMMARY:Missa Antigas Alunas do Colégio de Odivelas - Carnide
DESCRIPTION:Missa Antigas Alunas do Colégio de Odivelas – Carnide
URL:https://ordinariato.castrense.pt/evento/missa-antigas-alunas-do-colegio-de-odivelas-carnide/
END:VEVENT
BEGIN:VEVENT
DTSTART;TZID=UTC:20190306T180000
DTEND;TZID=UTC:20190306T193000
DTSTAMP:20260422T222856
CREATED:20180920T092905Z
LAST-MODIFIED:20180920T092925Z
UID:5340-1551895200-1551900600@ordinariato.castrense.pt
SUMMARY:Missa de Cinzas
DESCRIPTION:Igreja da Memória
URL:https://ordinariato.castrense.pt/evento/missa-de-cinzas/
END:VEVENT
BEGIN:VEVENT
DTSTART;TZID=UTC:20190306T143000
DTEND;TZID=UTC:20190306T170000
DTSTAMP:20260422T222856
CREATED:20180920T092602Z
LAST-MODIFIED:20180920T092643Z
UID:5337-1551882600-1551891600@ordinariato.castrense.pt
SUMMARY:Reunião do Conselho de Consultores
DESCRIPTION:MDN
URL:https://ordinariato.castrense.pt/evento/reuniao-do-conselho-de-consultores/
END:VEVENT
BEGIN:VEVENT
DTSTART;TZID=UTC:20190306T100000
DTEND;TZID=UTC:20190306T113000
DTSTAMP:20260422T222856
CREATED:20190227T123910Z
LAST-MODIFIED:20190227T123918Z
UID:6307-1551866400-1551871800@ordinariato.castrense.pt
SUMMARY:Missa 4ª feira de Cinzas
DESCRIPTION:Igreja da Memória
URL:https://ordinariato.castrense.pt/evento/missa-4a-feira-de-cinzas/
END:VEVENT
BEGIN:VEVENT
DTSTART;TZID=UTC:20190304T080000
DTEND;TZID=UTC:20190311T170000
DTSTAMP:20260422T222856
CREATED:20190207T135321Z
LAST-MODIFIED:20190207T135321Z
UID:6133-1551686400-1552323600@ordinariato.castrense.pt
SUMMARY:Peregrinação Turquia
DESCRIPTION:Peregrinação Turquia
URL:https://ordinariato.castrense.pt/evento/peregrinacao-turquia/
END:VEVENT
BEGIN:VEVENT
DTSTART;TZID=UTC:20190303T123000
DTEND;TZID=UTC:20190303T140000
DTSTAMP:20260422T222856
CREATED:20190227T123706Z
LAST-MODIFIED:20190227T123721Z
UID:6305-1551616200-1551621600@ordinariato.castrense.pt
SUMMARY:Missa no Colégio Militar
DESCRIPTION:Igreja de S. Domingos \nPreside D. Rui Valério
URL:https://ordinariato.castrense.pt/evento/missa-no-colegio-militar/
END:VEVENT
BEGIN:VEVENT
DTSTART;TZID=UTC:20190302T100000
DTEND;TZID=UTC:20190302T123000
DTSTAMP:20260422T222856
CREATED:20190227T123429Z
LAST-MODIFIED:20190227T123507Z
UID:6303-1551520800-1551529800@ordinariato.castrense.pt
SUMMARY:Missa na Igreja da Memória
DESCRIPTION:Igreja da Memória
URL:https://ordinariato.castrense.pt/evento/missa-na-igreja-da-memoria-2/
END:VEVENT
BEGIN:VEVENT
DTSTART;VALUE=DATE:20190223
DTEND;VALUE=DATE:20190302
DTSTAMP:20260422T222856
CREATED:20190207T135014Z
LAST-MODIFIED:20190207T135014Z
UID:6129-1550880000-1551484799@ordinariato.castrense.pt
SUMMARY:Visita Unidades Militares nos Açores
DESCRIPTION:Visita Unidades Militares nos Açores
URL:https://ordinariato.castrense.pt/evento/visita-unidades-militares-nos-acores/
END:VEVENT
BEGIN:VEVENT
DTSTART;VALUE=DATE:20190220
DTEND;VALUE=DATE:20190221
DTSTAMP:20260422T222856
CREATED:20190207T134735Z
LAST-MODIFIED:20190207T134735Z
UID:6127-1550620800-1550707199@ordinariato.castrense.pt
SUMMARY:Visita ao Comando da Instrução e Doutrina - Évora
DESCRIPTION:Visita ao Comando da Instrução e Doutrina – Évora
URL:https://ordinariato.castrense.pt/evento/visita-ao-comando-da-instrucao-e-doutrina-evora/
END:VEVENT
BEGIN:VEVENT
DTSTART;VALUE=DATE:20190219
DTEND;VALUE=DATE:20190220
DTSTAMP:20260422T222856
CREATED:20190207T134351Z
LAST-MODIFIED:20190207T134351Z
UID:6125-1550534400-1550620799@ordinariato.castrense.pt
SUMMARY:Visita BA5 - Monte Real
DESCRIPTION:Visita BA5 – Monte Real
URL:https://ordinariato.castrense.pt/evento/visita-ba5-monte-real/
END:VEVENT
BEGIN:VEVENT
DTSTART;VALUE=DATE:20190218
DTEND;VALUE=DATE:20190219
DTSTAMP:20260422T222856
CREATED:20190207T134244Z
LAST-MODIFIED:20190207T134244Z
UID:6123-1550448000-1550534399@ordinariato.castrense.pt
SUMMARY:Bênção de Helicópteros - FAP
DESCRIPTION:Bênção de Helicópteros – FAP
URL:https://ordinariato.castrense.pt/evento/bencao-de-helicopteros-fap/
END:VEVENT
BEGIN:VEVENT
DTSTART;VALUE=DATE:20190217
DTEND;VALUE=DATE:20190218
DTSTAMP:20260422T222856
CREATED:20190207T134052Z
LAST-MODIFIED:20190207T134052Z
UID:6121-1550361600-1550447999@ordinariato.castrense.pt
SUMMARY:Tomada de Posse de D. Nuno Brás - Madeira
DESCRIPTION:Tomada de Posse de D. Nuno Brás – Madeira
URL:https://ordinariato.castrense.pt/evento/tomada-de-posse-de-d-nuno-bras-madeira/
END:VEVENT
BEGIN:VEVENT
DTSTART;VALUE=DATE:20190215
DTEND;VALUE=DATE:20190216
DTSTAMP:20260422T222856
CREATED:20190207T133922Z
LAST-MODIFIED:20190207T133922Z
UID:6119-1550188800-1550275199@ordinariato.castrense.pt
SUMMARY:Despedida do CEMFA
DESCRIPTION:Despedida do CEMFA
URL:https://ordinariato.castrense.pt/evento/despedida-do-cemfa/
END:VEVENT
BEGIN:VEVENT
DTSTART;VALUE=DATE:20190214
DTEND;VALUE=DATE:20190215
DTSTAMP:20260422T222856
CREATED:20190207T132109Z
LAST-MODIFIED:20190207T132109Z
UID:6117-1550102400-1550188799@ordinariato.castrense.pt
SUMMARY:Visita ao Museu Militar - Elvas
DESCRIPTION:Visita ao Museu Militar – Elvas
URL:https://ordinariato.castrense.pt/evento/visita-ao-museu-militar-elvas/
END:VEVENT
BEGIN:VEVENT
DTSTART;VALUE=DATE:20190214
DTEND;VALUE=DATE:20190215
DTSTAMP:20260422T222856
CREATED:20190207T131931Z
LAST-MODIFIED:20190207T131938Z
UID:6115-1550102400-1550188799@ordinariato.castrense.pt
SUMMARY:Visita ao RC3 - Estremoz
DESCRIPTION:Visita ao RC3 – Estremoz
URL:https://ordinariato.castrense.pt/evento/visita-ao-rc3-estremoz/
END:VEVENT
END:VCALENDAR