BEGIN:VCALENDAR
VERSION:2.0
PRODID:-//Ordinariato Castrense - ECPv6.15.20//NONSGML v1.0//EN
CALSCALE:GREGORIAN
METHOD:PUBLISH
X-ORIGINAL-URL:https://ordinariato.castrense.pt
X-WR-CALDESC:Eventos para Ordinariato Castrense
REFRESH-INTERVAL;VALUE=DURATION:PT1H
X-Robots-Tag:noindex
X-PUBLISHED-TTL:PT1H
BEGIN:VTIMEZONE
TZID:UTC
BEGIN:STANDARD
TZOFFSETFROM:+0000
TZOFFSETTO:+0000
TZNAME:UTC
DTSTART:20150101T000000
END:STANDARD
END:VTIMEZONE
BEGIN:VEVENT
DTSTART;TZID=UTC:20160211T110000
DTEND;TZID=UTC:20160211T123000
DTSTAMP:20260425T113240
CREATED:20160114T172702Z
LAST-MODIFIED:20160206T110323Z
UID:1222-1455188400-1455193800@ordinariato.castrense.pt
SUMMARY:Dia Mundial do Doente
DESCRIPTION:Celebração da Missa e do Sacramento da Santa Unção no HFAR – Polo de Lisboa. às 11 horas.
URL:https://ordinariato.castrense.pt/evento/dia-mundial-do-doente/
END:VEVENT
BEGIN:VEVENT
DTSTART;TZID=UTC:20160210T180000
DTEND;TZID=UTC:20160210T190000
DTSTAMP:20260425T113240
CREATED:20160114T171148Z
LAST-MODIFIED:20160114T171148Z
UID:1214-1455127200-1455130800@ordinariato.castrense.pt
SUMMARY:Imposição das Cinzas
DESCRIPTION:Na igreja da Memória\, Sé do Ordinariato. Início da Quaresma. Preside o senhor Bispo.
URL:https://ordinariato.castrense.pt/evento/imposicao-das-cinzas/
END:VEVENT
BEGIN:VEVENT
DTSTART;TZID=UTC:20160210T023000
DTEND;TZID=UTC:20160210T173000
DTSTAMP:20260425T113240
CREATED:20160114T171040Z
LAST-MODIFIED:20160114T171040Z
UID:1213-1455071400-1455125400@ordinariato.castrense.pt
SUMMARY:Conselho de Consultores
DESCRIPTION:Na Capelania Mor.
URL:https://ordinariato.castrense.pt/evento/conselho-de-consultores-4/
END:VEVENT
BEGIN:VEVENT
DTSTART;VALUE=DATE:20160210
DTEND;VALUE=DATE:20160211
DTSTAMP:20260425T113240
CREATED:20160110T233952Z
LAST-MODIFIED:20160110T233952Z
UID:1179-1455062400-1455148799@ordinariato.castrense.pt
SUMMARY:Imposição das cinzas no RE3
DESCRIPTION:Espinho. Celebração Eucarística e imposição das cinzas. Hora a confirmar.
URL:https://ordinariato.castrense.pt/evento/imposicao-das-cinzas-no-re3/
END:VEVENT
BEGIN:VEVENT
DTSTART;VALUE=DATE:20160209
DTEND;VALUE=DATE:20160210
DTSTAMP:20260425T113240
CREATED:20160110T233857Z
LAST-MODIFIED:20160110T233857Z
UID:1178-1454976000-1455062399@ordinariato.castrense.pt
SUMMARY:Imposição das cinzas no AM1
DESCRIPTION:Celebração Eucarística e imposição das cinzas. Hora a confirmar.
URL:https://ordinariato.castrense.pt/evento/imposicao-das-cinzas-no-am1/
END:VEVENT
BEGIN:VEVENT
DTSTART;VALUE=DATE:20160207
DTEND;VALUE=DATE:20160208
DTSTAMP:20260425T113240
CREATED:20160114T172559Z
LAST-MODIFIED:20160114T172559Z
UID:1221-1454803200-1454889599@ordinariato.castrense.pt
SUMMARY:Ofertório para a UCP
DESCRIPTION:Um dos ofertórios consignados\, a nível nacional
URL:https://ordinariato.castrense.pt/evento/ofertorio-para-a-ucp/
END:VEVENT
BEGIN:VEVENT
DTSTART;TZID=UTC:20160204T180000
DTEND;TZID=UTC:20160204T190000
DTSTAMP:20260425T113240
CREATED:20160114T170918Z
LAST-MODIFIED:20160114T170918Z
UID:1212-1454608800-1454612400@ordinariato.castrense.pt
SUMMARY:Missa na Memória
DESCRIPTION:A costumada Missa da Primeira Quinta feira\, que congrega os sacerdotes disponíveis da zona pastoral de Lisboa
URL:https://ordinariato.castrense.pt/evento/missa-na-memoria/
END:VEVENT
BEGIN:VEVENT
DTSTART;TZID=UTC:20160204T100000
DTEND;TZID=UTC:20160204T160000
DTSTAMP:20260425T113240
CREATED:20160114T170800Z
LAST-MODIFIED:20160114T170800Z
UID:1211-1454580000-1454601600@ordinariato.castrense.pt
SUMMARY:Visita Pastoral a RA5
DESCRIPTION:Bispo faz visita pastoral ao Regimento de Artilharia Nº 5\, de Vendas Novas.
URL:https://ordinariato.castrense.pt/evento/visita-pastoral-a-ra5/
END:VEVENT
BEGIN:VEVENT
DTSTART;TZID=UTC:20160203T153000
DTEND;TZID=UTC:20160203T170000
DTSTAMP:20260425T113240
CREATED:20160105T114638Z
LAST-MODIFIED:20160108T121754Z
UID:1129-1454513400-1454518800@ordinariato.castrense.pt
SUMMARY:Conferência na OTA
DESCRIPTION:D. Manuel Linda profere uma palestra/encontro aos alunos deste Centro de Formação Militar e tècnica da Força Aérea.
URL:https://ordinariato.castrense.pt/evento/conferencia-na-ota/
END:VEVENT
BEGIN:VEVENT
DTSTART;TZID=UTC:20160202T093000
DTEND;TZID=UTC:20160202T170000
DTSTAMP:20260425T113240
CREATED:20160114T170550Z
LAST-MODIFIED:20160114T170550Z
UID:1210-1454405400-1454432400@ordinariato.castrense.pt
SUMMARY:Conselho Presbiteral
DESCRIPTION:Na Capelania Mor
URL:https://ordinariato.castrense.pt/evento/conselho-presbiteral/
END:VEVENT
BEGIN:VEVENT
DTSTART;VALUE=DATE:20160202
DTEND;VALUE=DATE:20160203
DTSTAMP:20260425T113240
CREATED:20160114T172453Z
LAST-MODIFIED:20160114T172453Z
UID:1220-1454371200-1454457599@ordinariato.castrense.pt
SUMMARY:Dia do Consagrado
DESCRIPTION:Na festa da Apresentação do Senhor no Templo. Chamamos consagrados aos “Religiosos”. No Ordinariato\, temos: P. Licínio Silva\, Passionista (Alfeite)\, Frei António Teixeira\, Franciscano (CAS Oeiras)\, P. Paulo Silva\, Verbo Divino (Beja) e P. Leonel Castro\, Salesiano (Academia da Força Aérea).
URL:https://ordinariato.castrense.pt/evento/dia-do-consagrado/
END:VEVENT
BEGIN:VEVENT
DTSTART;TZID=UTC:20160131T160000
DTEND;TZID=UTC:20160131T190000
DTSTAMP:20260425T113240
CREATED:20160105T102104Z
LAST-MODIFIED:20160105T102104Z
UID:1116-1454256000-1454266800@ordinariato.castrense.pt
SUMMARY:Ordenação Episcopal de D. Nuno Almeida
DESCRIPTION:Em Viseu\, o Bispo das Forças Armadas e das Forças de Segurança participa na Ordenação do novo Bispo Auxiliar de Braga. É uma sadia tradição que os bispos participem na ordenação dos novos bispos.
URL:https://ordinariato.castrense.pt/evento/ordenacao-episcopal-de-d-nuno-almeida/
END:VEVENT
BEGIN:VEVENT
DTSTART;TZID=UTC:20160124T100000
DTEND;TZID=UTC:20160124T100000
DTSTAMP:20260425T113240
CREATED:20160114T172004Z
LAST-MODIFIED:20160114T172004Z
UID:1219-1453629600-1453629600@ordinariato.castrense.pt
SUMMARY:Alfeite: abertura da «porta santa»
DESCRIPTION:O Capelão\, P. Licínio\, procede à abertura da porta santa desta igreja declarada por D. Manuel Linda como «igreja jubilar».
URL:https://ordinariato.castrense.pt/evento/alfeite-abertura-da-porta-santa/
END:VEVENT
BEGIN:VEVENT
DTSTART;VALUE=DATE:20160122
DTEND;VALUE=DATE:20160123
DTSTAMP:20260425T113240
CREATED:20151219T233712Z
LAST-MODIFIED:20151219T233712Z
UID:1061-1453420800-1453507199@ordinariato.castrense.pt
SUMMARY:Reunião Geral de Capelães
DESCRIPTION:No final do retiro\, o Bispo reúne com os seus capelães\, ao longo do dia\, para programação pastoral.
URL:https://ordinariato.castrense.pt/evento/reuniao-geral-de-capelaes/
END:VEVENT
BEGIN:VEVENT
DTSTART;VALUE=DATE:20160121
DTEND;VALUE=DATE:20160122
DTSTAMP:20260425T113240
CREATED:20151219T233615Z
LAST-MODIFIED:20151219T233615Z
UID:1060-1453334400-1453420799@ordinariato.castrense.pt
SUMMARY:Retiro dos Capelães
DESCRIPTION:Em Fátima. Orienta o Bispo Emérito de Portalegre e Castelo Branco\, D. Augusto César.
URL:https://ordinariato.castrense.pt/evento/retiro-dos-capelaes-4/
END:VEVENT
BEGIN:VEVENT
DTSTART;VALUE=DATE:20160120
DTEND;VALUE=DATE:20160121
DTSTAMP:20260425T113240
CREATED:20151219T233527Z
LAST-MODIFIED:20151219T233527Z
UID:1059-1453248000-1453334399@ordinariato.castrense.pt
SUMMARY:Retiro dos Capelães
DESCRIPTION:Em Fátima. Orienta o Bispo Emérito de Portalegre e Castelo Branco\, D. Augusto César.
URL:https://ordinariato.castrense.pt/evento/retiro-dos-capelaes-3/
END:VEVENT
BEGIN:VEVENT
DTSTART;VALUE=DATE:20160119
DTEND;VALUE=DATE:20160120
DTSTAMP:20260425T113240
CREATED:20151219T233500Z
LAST-MODIFIED:20151219T233500Z
UID:1058-1453161600-1453247999@ordinariato.castrense.pt
SUMMARY:Retiro dos Capelães
DESCRIPTION:Em Fátima. Orienta o Bispo Emérito de Portalegre e Castelo Branco\, D. Augusto César.
URL:https://ordinariato.castrense.pt/evento/retiro-dos-capelaes-2/
END:VEVENT
BEGIN:VEVENT
DTSTART;TZID=UTC:20160118T190000
DTEND;TZID=UTC:20160118T230000
DTSTAMP:20260425T113240
CREATED:20151219T233416Z
LAST-MODIFIED:20151219T233416Z
UID:1057-1453143600-1453158000@ordinariato.castrense.pt
SUMMARY:Retiro dos Capelães
DESCRIPTION:Início às 19h00. Em Fátima. Orienta o Bispo Emérito de Portalegre e Castelo Branco\, D. Augusto César.
URL:https://ordinariato.castrense.pt/evento/retiro-dos-capelaes/
END:VEVENT
BEGIN:VEVENT
DTSTART;TZID=UTC:20160118T150000
DTEND;TZID=UTC:20160118T190000
DTSTAMP:20260425T113240
CREATED:20151219T233129Z
LAST-MODIFIED:20151219T233129Z
UID:1056-1453129200-1453143600@ordinariato.castrense.pt
SUMMARY:Conselho de Consultores
DESCRIPTION:Desta vez\, reúne em Fátima\, imediatamente antes do retiro dos capelães.
URL:https://ordinariato.castrense.pt/evento/conselho-de-consultores-3/
END:VEVENT
BEGIN:VEVENT
DTSTART;VALUE=DATE:20160118
DTEND;VALUE=DATE:20160126
DTSTAMP:20260425T113240
CREATED:20160105T101618Z
LAST-MODIFIED:20160105T101618Z
UID:1115-1453075200-1453766399@ordinariato.castrense.pt
SUMMARY:Oitavário pela Unidade dos Cristãos
DESCRIPTION:De 18 a 25 de Janeiro\, festa litúrgica da conversão de S. Paulo\, rezamos para que nós\, que acreditamos em Cristo\, formemos uma só Igreja\, pois também temos um só Pastor\, No último dia\, haverá uma celebração ecuménica nacional\, na Figueira da Foz.
URL:https://ordinariato.castrense.pt/evento/oitavario-pela-unidade-dos-cristaos/
END:VEVENT
BEGIN:VEVENT
DTSTART;VALUE=DATE:20160117
DTEND;VALUE=DATE:20160118
DTSTAMP:20260425T113240
CREATED:20160105T213756Z
LAST-MODIFIED:20160105T213756Z
UID:1144-1452988800-1453075199@ordinariato.castrense.pt
SUMMARY:Dia Mundial do Migrante e do Refugiado
DESCRIPTION:Celebra-se o Dia Mundial do Migrante e do Refugiado. Este ano\, o tema é: “Igreja sem fronteiras\, mãe de todos“.
URL:https://ordinariato.castrense.pt/evento/dia-mundial-do-migrante-e-do-refugiado/
END:VEVENT
BEGIN:VEVENT
DTSTART;TZID=UTC:20160115T153000
DTEND;TZID=UTC:20160115T173000
DTSTAMP:20260425T113240
CREATED:20160105T100620Z
LAST-MODIFIED:20160105T125306Z
UID:1113-1452871800-1452879000@ordinariato.castrense.pt
SUMMARY:Padroeira da Força Aérea
DESCRIPTION:A festa litúrgica de Nossa Senhora do Ar\, Padroeira da Força Aérea\, este ano\, será celebrada na Estação de Radar Nº 2\, em Paços de Ferreira. Para além de uma liturgia mariana e possível procissão\, haverá bênção e entronização da imagem de Nossa Senhora do Ar. Estarão presentes uma Alta Entidade militar\, o bispo e todos os capelães da Força Aérea.
URL:https://ordinariato.castrense.pt/evento/padroeira-da-forca-aerea/
END:VEVENT
BEGIN:VEVENT
DTSTART;VALUE=DATE:20160115
DTEND;VALUE=DATE:20160116
DTSTAMP:20260425T113240
CREATED:20160106T191554Z
LAST-MODIFIED:20160106T191554Z
UID:1151-1452816000-1452902399@ordinariato.castrense.pt
SUMMARY:Missa no Comando Aéreo
DESCRIPTION:No Comando Aéreo (Monsanto) decorrerá a Missa da Especialidade ADMAER
URL:https://ordinariato.castrense.pt/evento/missa-no-comando-aereo/
END:VEVENT
BEGIN:VEVENT
DTSTART;TZID=UTC:20160112T110000
DTEND;TZID=UTC:20160112T110000
DTSTAMP:20260425T113240
CREATED:20160108T121408Z
LAST-MODIFIED:20160108T121408Z
UID:1177-1452596400-1452596400@ordinariato.castrense.pt
SUMMARY:Fiéis Defuntos da Academia Militar
DESCRIPTION:Celebração da Missa pelos Antigos Alunos e servidores da AM já falecidos. Capela do Paço da Rainha.
URL:https://ordinariato.castrense.pt/evento/fieis-defuntos-da-academia-militar/
END:VEVENT
BEGIN:VEVENT
DTSTART;VALUE=DATE:20160112
DTEND;VALUE=DATE:20160113
DTSTAMP:20260425T113240
CREATED:20160106T191328Z
LAST-MODIFIED:20160106T191328Z
UID:1150-1452556800-1452643199@ordinariato.castrense.pt
SUMMARY:Esquadra Falcon: Missa de acção de graças
DESCRIPTION:Figo Maduro: Missa de aniversário da ESQ 504 – Falcon
URL:https://ordinariato.castrense.pt/evento/esquadra-falcon-missa-de-accao-de-gracas/
END:VEVENT
BEGIN:VEVENT
DTSTART;TZID=UTC:20160111T000000
DTEND;TZID=UTC:20160111T140000
DTSTAMP:20260425T113240
CREATED:20151219T233001Z
LAST-MODIFIED:20151219T233001Z
UID:1055-1452470400-1452520800@ordinariato.castrense.pt
SUMMARY:Reunião das Academias
DESCRIPTION:O senhor Bispo reúne com os Comandantes do Corpo de alunos dos Estabelecimentos de Ensino Superior Militar e Policial. Estarão presentes os Capelães destas Escolas e os Capelães Adjuntos dos Ramos/Forças.
URL:https://ordinariato.castrense.pt/evento/reuniao-das-academias/
END:VEVENT
BEGIN:VEVENT
DTSTART;VALUE=DATE:20160109
DTEND;VALUE=DATE:20160110
DTSTAMP:20260425T113240
CREATED:20160106T191115Z
LAST-MODIFIED:20160106T191115Z
UID:1149-1452297600-1452383999@ordinariato.castrense.pt
SUMMARY:Figo Maduro: Missa de acção de graças
DESCRIPTION:AT1\, a Eucaristia de acção de graças e comemorativa da incorporação de militares
URL:https://ordinariato.castrense.pt/evento/figo-maduro-missa-de-accao-de-gracas/
END:VEVENT
BEGIN:VEVENT
DTSTART;TZID=UTC:20160108T180000
DTEND;TZID=UTC:20160108T200000
DTSTAMP:20260425T113240
CREATED:20151219T232638Z
LAST-MODIFIED:20151219T232638Z
UID:1054-1452276000-1452283200@ordinariato.castrense.pt
SUMMARY:Imagem Peregrina no EPM
DESCRIPTION:A imagem peregrina de Nossa Senhora de Fátima vai entrar no Estabelecimento Prisional Militar. Preside o Bispo das Forças Armadas e das Forças de Segurança.
URL:https://ordinariato.castrense.pt/evento/imagem-peregrina-no-epm/
END:VEVENT
BEGIN:VEVENT
DTSTART;TZID=UTC:20160107T180000
DTEND;TZID=UTC:20160107T190000
DTSTAMP:20260425T113240
CREATED:20151103T192309Z
LAST-MODIFIED:20151103T192309Z
UID:603-1452189600-1452193200@ordinariato.castrense.pt
SUMMARY:Jubileu dos encarcerados
DESCRIPTION:Aproveitando a visita da imagem peregrina de Nossa Senhora de Fátima\, O Ordinariato Castrense celebra\, no Estabelecimento Prisional Militar de Tomar o Jubileu dos encarcerados\, no âmbito do Ano da Misericórdia. \n 
URL:https://ordinariato.castrense.pt/evento/jubileu-dos-encarcerados/
END:VEVENT
BEGIN:VEVENT
DTSTART;TZID=UTC:20160107T160000
DTEND;TZID=UTC:20160107T170000
DTSTAMP:20260425T113240
CREATED:20151222T213911Z
LAST-MODIFIED:20151222T213911Z
UID:1095-1452182400-1452186000@ordinariato.castrense.pt
SUMMARY:Tancos: Nossa Senhora no RE1
DESCRIPTION:Celebração mariana no Regimento de Engenharia Nº 1\, por ocasião da vista da imagem peregrina de Nossa Senhora de Fátima. Preside D. Manuel Linda
URL:https://ordinariato.castrense.pt/evento/tancos-nossa-senhora-no-re1/
END:VEVENT
END:VCALENDAR