BEGIN:VCALENDAR
VERSION:2.0
PRODID:-//Ordinariato Castrense - ECPv6.15.20//NONSGML v1.0//EN
CALSCALE:GREGORIAN
METHOD:PUBLISH
X-ORIGINAL-URL:https://ordinariato.castrense.pt
X-WR-CALDESC:Eventos para Ordinariato Castrense
REFRESH-INTERVAL;VALUE=DURATION:PT1H
X-Robots-Tag:noindex
X-PUBLISHED-TTL:PT1H
BEGIN:VTIMEZONE
TZID:UTC
BEGIN:STANDARD
TZOFFSETFROM:+0000
TZOFFSETTO:+0000
TZNAME:UTC
DTSTART:20140101T000000
END:STANDARD
END:VTIMEZONE
BEGIN:VEVENT
DTSTART;TZID=UTC:20160107T153000
DTEND;TZID=UTC:20160107T170000
DTSTAMP:20260425T154432
CREATED:20151219T232432Z
LAST-MODIFIED:20151219T232432Z
UID:1053-1452180600-1452186000@ordinariato.castrense.pt
SUMMARY:Imagem Peregrina na BrigRR
DESCRIPTION:Em Tancos\, a imagem peregrina de Nossa Senhora de Fátima será acolhida na Brigada de Reacção Rápida. Preside o Bispo das Forças Armadas e das Forças de Segurança.
URL:https://ordinariato.castrense.pt/evento/imagem-peregrina-na-brigrr/
END:VEVENT
BEGIN:VEVENT
DTSTART;TZID=UTC:20160107T110000
DTEND;TZID=UTC:20160107T130000
DTSTAMP:20260425T154432
CREATED:20151222T213723Z
LAST-MODIFIED:20151222T213723Z
UID:1094-1452164400-1452171600@ordinariato.castrense.pt
SUMMARY:Imagem Peregrina no RMan (Entroncamento)
DESCRIPTION:Missa no Regimento de Manutenção\, por ocasião da vista da imagem peregrina de Nossa Senhora de Fátima. Preside D. Manuel Linda \n 
URL:https://ordinariato.castrense.pt/evento/imagem-peregrina-no-rman-entroncamento/
END:VEVENT
BEGIN:VEVENT
DTSTART;VALUE=DATE:20160101
DTEND;VALUE=DATE:20160102
DTSTAMP:20260425T154432
CREATED:20151219T231453Z
LAST-MODIFIED:20151219T231453Z
UID:1049-1451606400-1451692799@ordinariato.castrense.pt
SUMMARY:Dia Mundial da Paz
DESCRIPTION:Convida-se a ler a importante mensagem do Papa Francisco\, publicada na subsecção “Santo Padre”\, da secção “Ser Igreja”
URL:https://ordinariato.castrense.pt/evento/dia-mundial-da-paz/
END:VEVENT
BEGIN:VEVENT
DTSTART;VALUE=DATE:20151231
DTEND;VALUE=DATE:20160101
DTSTAMP:20260425T154432
CREATED:20151219T232024Z
LAST-MODIFIED:20151219T232024Z
UID:1052-1451520000-1451606399@ordinariato.castrense.pt
SUMMARY:Dia de Acção de Graças
DESCRIPTION:O último dia do ano do calendário civil deveria ser um dia de acção de graças pela vida e dons recebidos ao longo de 2015.
URL:https://ordinariato.castrense.pt/evento/dia-de-accao-de-gracas/
END:VEVENT
BEGIN:VEVENT
DTSTART;VALUE=DATE:20151227
DTEND;VALUE=DATE:20151228
DTSTAMP:20260425T154432
CREATED:20151219T231847Z
LAST-MODIFIED:20151219T231847Z
UID:1051-1451174400-1451260799@ordinariato.castrense.pt
SUMMARY:Dia da Sagrada Família
DESCRIPTION:Ao recordarmos a Sagrada Família de Jesus\, Maria e José\, comprometemo-nos a a fazer da nossa mais… família.
URL:https://ordinariato.castrense.pt/evento/dia-da-sagrada-familia/
END:VEVENT
BEGIN:VEVENT
DTSTART;VALUE=DATE:20151225
DTEND;VALUE=DATE:20151226
DTSTAMP:20260425T154432
CREATED:20151219T231702Z
LAST-MODIFIED:20151219T231703Z
UID:1050-1451001600-1451087999@ordinariato.castrense.pt
SUMMARY:Natal do Senhor
DESCRIPTION:Este não é um Natal qualquer: é o Natal vivido em Ano Jubilar da Misericórdia: Deus é tão misericordioso para connosco que nos dá o seu Filho Jesus
URL:https://ordinariato.castrense.pt/evento/natal-do-senhor/
END:VEVENT
BEGIN:VEVENT
DTSTART;TZID=UTC:20151221T160000
DTEND;TZID=UTC:20151221T200000
DTSTAMP:20260425T154432
CREATED:20151122T124102Z
LAST-MODIFIED:20151122T124102Z
UID:670-1450713600-1450728000@ordinariato.castrense.pt
SUMMARY:Visita à Prisão de Évora
DESCRIPTION:D. Manuel Linda visita oficialmente o Estabelecimento Prisional de Évora onde se encontram pessoas que perderam a condição de membros das Forças Armadas e das Forças de Segurança. Celebra\, aí\, a Missa de natal.
URL:https://ordinariato.castrense.pt/evento/visita-a-prisao-de-evora/
END:VEVENT
BEGIN:VEVENT
DTSTART;TZID=UTC:20151218T110000
DTEND;TZID=UTC:20151218T110000
DTSTAMP:20260425T154432
CREATED:20151122T123843Z
LAST-MODIFIED:20151122T123843Z
UID:669-1450436400-1450436400@ordinariato.castrense.pt
SUMMARY:Missa de Natal da Guarda
DESCRIPTION:O Bispo das Forças Armadas e das Forças de Segurança celebra a Missa de Natal do Comando-Geral da Guarda Nacional Republicana\, na Basílica dos Mártires (Lisboa)
URL:https://ordinariato.castrense.pt/evento/missa-de-natal-da-guarda/
END:VEVENT
BEGIN:VEVENT
DTSTART;TZID=UTC:20151217T180000
DTEND;TZID=UTC:20151217T220000
DTSTAMP:20260425T154432
CREATED:20151122T123654Z
LAST-MODIFIED:20151122T123654Z
UID:668-1450375200-1450389600@ordinariato.castrense.pt
SUMMARY:Natal na Academia Militar
DESCRIPTION:D. Manuel Linda celebra a Eucaristia de Natal na sede da Academia Militar (Capela do Paço da Rainha).
URL:https://ordinariato.castrense.pt/evento/natal-na-academia-militar/
END:VEVENT
BEGIN:VEVENT
DTSTART;TZID=UTC:20151217T060000
DTEND;TZID=UTC:20151217T130000
DTSTAMP:20260425T154432
CREATED:20151122T123527Z
LAST-MODIFIED:20151122T123527Z
UID:667-1450332000-1450357200@ordinariato.castrense.pt
SUMMARY:Visita Pastoral à Madeira
DESCRIPTION:D. Manuel Linda visita oficialmente as Forças Armadas e as Forças de Segurança em serviço na Região Autónoma da Madeira\, bem como as autoridades políticas\, administrativas e religiosas.
URL:https://ordinariato.castrense.pt/evento/visita-pastoral-a-madeira-4/
END:VEVENT
BEGIN:VEVENT
DTSTART;TZID=UTC:20151216T060000
DTEND;TZID=UTC:20151216T230000
DTSTAMP:20260425T154432
CREATED:20151122T123447Z
LAST-MODIFIED:20151122T123447Z
UID:666-1450245600-1450306800@ordinariato.castrense.pt
SUMMARY:Visita Pastoral à Madeira
DESCRIPTION:D. Manuel Linda visita oficialmente as Forças Armadas e as Forças de Segurança em serviço na Região Autónoma da Madeira\, bem como as autoridades políticas\, administrativas e religiosas.
URL:https://ordinariato.castrense.pt/evento/visita-pastoral-a-madeira-3/
END:VEVENT
BEGIN:VEVENT
DTSTART;TZID=UTC:20151215T060000
DTEND;TZID=UTC:20151215T230000
DTSTAMP:20260425T154432
CREATED:20151122T123405Z
LAST-MODIFIED:20151122T123405Z
UID:665-1450159200-1450220400@ordinariato.castrense.pt
SUMMARY:Visita Pastoral à Madeira
DESCRIPTION:D. Manuel Linda visita oficialmente as Forças Armadas e as Forças de Segurança em serviço na Região Autónoma da Madeira\, bem como as autoridades políticas\, administrativas e religiosas.
URL:https://ordinariato.castrense.pt/evento/visita-pastoral-a-madeira-2/
END:VEVENT
BEGIN:VEVENT
DTSTART;TZID=UTC:20151214T060000
DTEND;TZID=UTC:20151214T230000
DTSTAMP:20260425T154432
CREATED:20151122T123308Z
LAST-MODIFIED:20151122T123308Z
UID:664-1450072800-1450134000@ordinariato.castrense.pt
SUMMARY:Visita Pastoral à Madeira
DESCRIPTION:D. Manuel Linda visita oficialmente as Forças Armadas e as Forças de Segurança em serviço na Região Autónoma da Madeira\, bem como as autoridades políticas\, administrativas e religiosas.
URL:https://ordinariato.castrense.pt/evento/visita-pastoral-a-madeira/
END:VEVENT
BEGIN:VEVENT
DTSTART;TZID=UTC:20151211T093000
DTEND;TZID=UTC:20151211T113000
DTSTAMP:20260425T154432
CREATED:20151122T122627Z
LAST-MODIFIED:20151122T122627Z
UID:662-1449826200-1449833400@ordinariato.castrense.pt
SUMMARY:Reunião dos Capelães da Marinha
DESCRIPTION:O Bispo das Forças das Forças Armadas e das Forças de Segurança reúne oficialmente com os capelães que prestam serviço na Marinha e no HFAR\, Polo de Lisboa
URL:https://ordinariato.castrense.pt/evento/reuniao-dos-capelaes-da-marinha/
END:VEVENT
BEGIN:VEVENT
DTSTART;TZID=UTC:20151211T000000
DTEND;TZID=UTC:20151211T150000
DTSTAMP:20260425T154432
CREATED:20151122T123028Z
LAST-MODIFIED:20151122T123028Z
UID:663-1449792000-1449846000@ordinariato.castrense.pt
SUMMARY:DGRDN: Missa e almoço de Natal
DESCRIPTION:Na continuação de uma veneranda tradição\, o Bispo das Forças das Forças Armadas e das Forças de Segurança celebra a Eucaristia (Igreja da Memória) e participa no almoço da Direcção Geral de recursos da Defesa Nacional.
URL:https://ordinariato.castrense.pt/evento/dgrdn-missa-e-almoco-de-natal/
END:VEVENT
BEGIN:VEVENT
DTSTART;TZID=UTC:20151210T190000
DTEND;TZID=UTC:20151210T220000
DTSTAMP:20260425T154432
CREATED:20151122T122424Z
LAST-MODIFIED:20151122T122424Z
UID:661-1449774000-1449784800@ordinariato.castrense.pt
SUMMARY:Ceia de Natal dos Capelães da Zona de Lisboa
DESCRIPTION:Como família sacerdotal\, os Capelães da zona de Lisboa reúnem-se para celebrar a sua «consoada».
URL:https://ordinariato.castrense.pt/evento/ceia-de-natal-dos-capelaes-da-zona-de-lisboa/
END:VEVENT
BEGIN:VEVENT
DTSTART;TZID=UTC:20151210T093000
DTEND;TZID=UTC:20151210T130000
DTSTAMP:20260425T154432
CREATED:20151122T122223Z
LAST-MODIFIED:20151122T122223Z
UID:660-1449739800-1449752400@ordinariato.castrense.pt
SUMMARY:Conselho de Consultores
DESCRIPTION:Reúne com o capelão Chefe.
URL:https://ordinariato.castrense.pt/evento/conselho-de-consultores-2/
END:VEVENT
BEGIN:VEVENT
DTSTART;VALUE=DATE:20151210
DTEND;VALUE=DATE:20151211
DTSTAMP:20260425T154432
CREATED:20151205T123613Z
LAST-MODIFIED:20151205T123613Z
UID:947-1449705600-1449791999@ordinariato.castrense.pt
SUMMARY:Abertura da «Porta Santa»
DESCRIPTION:Na igreja da Memória\, nossa Catedral\, no dia 10 de Dezembro\, Quinta-feira\, com o seguinte programa: \n– 14h30 – Celebração penitencial e confissões; \n– 15h30 – Procissão do exterior e abertura da porta santa; \n– 15h45 – Celebração da Missa. \n– 16h30 – Lançamento da página do Ordinariato Castrense.
URL:https://ordinariato.castrense.pt/evento/abertura-da-porta-santa/
END:VEVENT
BEGIN:VEVENT
DTSTART;TZID=UTC:20151208T110000
DTEND;TZID=UTC:20151208T110000
DTSTAMP:20260425T154432
CREATED:20151122T124818Z
LAST-MODIFIED:20151122T124818Z
UID:672-1449572400-1449572400@ordinariato.castrense.pt
SUMMARY:Vila Real: ex-Combatentes
DESCRIPTION:Integrada na cerimonia de homenagem aos ex-combatentes\,  será celebrada uma Eucaristia na Capela Nova\, Vila Real\, pelo Capelão do RI 13
URL:https://ordinariato.castrense.pt/evento/vila-real-ex-combatentes/
END:VEVENT
BEGIN:VEVENT
DTSTART;TZID=UTC:20151208T080000
DTEND;TZID=UTC:20151208T170000
DTSTAMP:20260425T154432
CREATED:20151122T122113Z
LAST-MODIFIED:20151122T122113Z
UID:659-1449561600-1449594000@ordinariato.castrense.pt
SUMMARY:Roma: Imaculada Conceição
DESCRIPTION:O Bispo das Forças das Forças Armadas e das Forças de Segurança preside à celebração da Imaculada Conceição na igreja nacional portuguesa na Itália: igreja do Instituto de Santo António dos Portugueses em Roma.
URL:https://ordinariato.castrense.pt/evento/roma-imaculada-conceicao/
END:VEVENT
BEGIN:VEVENT
DTSTART;TZID=UTC:20151205T080000
DTEND;TZID=UTC:20151205T170000
DTSTAMP:20260425T154432
CREATED:20151122T120533Z
LAST-MODIFIED:20151122T120533Z
UID:653-1449302400-1449334800@ordinariato.castrense.pt
SUMMARY:Chaves: Associação de Comandos
DESCRIPTION:O Capelão da Brigada Mecanizada celebra a Eucaristia de Natal da Associação de Comandos de Chaves.
URL:https://ordinariato.castrense.pt/evento/chaves-associacao-de-comandos/
END:VEVENT
BEGIN:VEVENT
DTSTART;TZID=UTC:20151204T080000
DTEND;TZID=UTC:20151204T170000
DTSTAMP:20260425T154432
CREATED:20151122T121924Z
LAST-MODIFIED:20151122T121924Z
UID:658-1449216000-1449248400@ordinariato.castrense.pt
SUMMARY:Alverca: inauguração do Presépio
DESCRIPTION:O Bispo das Forças das Forças Armadas e das Forças de Segurança visita oficialmente o Depósito Geral de Material da Força Aérea e o REA (Alverca) e procede à inauguração do Presépio.
URL:https://ordinariato.castrense.pt/evento/alverca-inauguracao-do-presepio/
END:VEVENT
BEGIN:VEVENT
DTSTART;TZID=UTC:20151203T180000
DTEND;TZID=UTC:20151203T190000
DTSTAMP:20260425T154432
CREATED:20151122T121749Z
LAST-MODIFIED:20151122T121749Z
UID:657-1449165600-1449169200@ordinariato.castrense.pt
SUMMARY:Memória: Missa da Primeira Quinta feira
DESCRIPTION:Como é habitual às primeiras Quintas feiras de cada mês\, os Capelães da Zona de Lisboa concelebram com o seu Bispo ou\, na impossibilidade deste\, com o Vigário Geral do Ordinariato.
URL:https://ordinariato.castrense.pt/evento/memoria-missa-da-primeira-quinta-feira/
END:VEVENT
BEGIN:VEVENT
DTSTART;TZID=UTC:20151203T080000
DTEND;TZID=UTC:20151203T170000
DTSTAMP:20260425T154432
CREATED:20151122T121550Z
LAST-MODIFIED:20151122T121550Z
UID:656-1449129600-1449162000@ordinariato.castrense.pt
SUMMARY:Visita Pastoral ao Lar da Runa
DESCRIPTION:O Bispo das Forças das Forças Armadas e das Forças de Segurança visita o Lar da Runa (IASFA) e administra o Sacramento da Santa Unção.
URL:https://ordinariato.castrense.pt/evento/visita-pastoral-ao-lar-da-runa/
END:VEVENT
BEGIN:VEVENT
DTSTART;TZID=UTC:20151202T080000
DTEND;TZID=UTC:20151202T170000
DTSTAMP:20260425T154432
CREATED:20151122T121135Z
LAST-MODIFIED:20151122T121135Z
UID:655-1449043200-1449075600@ordinariato.castrense.pt
SUMMARY:Reunião de Capelães da GNR
DESCRIPTION:O Bispos das Forças Armadas e das Forças de Segurança reúne com os Capelães em serviço na GNR\, na Unidade de Honras de Estado (Lisboa).
URL:https://ordinariato.castrense.pt/evento/reuniao-de-capelaes-da-gnr/
END:VEVENT
BEGIN:VEVENT
DTSTART;TZID=UTC:20151128T080000
DTEND;TZID=UTC:20151128T170000
DTSTAMP:20260425T154432
CREATED:20151122T120737Z
LAST-MODIFIED:20151122T120737Z
UID:654-1448697600-1448730000@ordinariato.castrense.pt
SUMMARY:Chaves: Bodo do Combatente
DESCRIPTION:Eucaristia no Regimento de Infantaria N 19\, no tradicional Bodo do Combatente.
URL:https://ordinariato.castrense.pt/evento/chaves-bodo-do-combatente/
END:VEVENT
BEGIN:VEVENT
DTSTART;TZID=UTC:20151125T143000
DTEND;TZID=UTC:20151125T153000
DTSTAMP:20260425T154432
CREATED:20151122T124624Z
LAST-MODIFIED:20151122T124624Z
UID:671-1448461800-1448465400@ordinariato.castrense.pt
SUMMARY:Missa por alma do GEN Jaime Neves
DESCRIPTION:Em São Martinho de Anta (Vila Real)\, vai realizar-se uma Homenagem ao Major General Jaime Neves. O capelão do RI 13 preside a uma Celebração Eucarística\, integrada nessas cerimonias.
URL:https://ordinariato.castrense.pt/evento/missa-por-alma-do-gen-jaime-neves/
END:VEVENT
BEGIN:VEVENT
DTSTART;TZID=UTC:20151120T090000
DTEND;TZID=UTC:20151120T100000
DTSTAMP:20260425T154432
CREATED:20151103T230003Z
LAST-MODIFIED:20151103T230003Z
UID:619-1448010000-1448013600@ordinariato.castrense.pt
SUMMARY:Missa no Dia do Comando de Pessoal
DESCRIPTION:Na igreja da Lapa (Porto)\, integrada no Dia do Comando de Pessoal. Preside D. Manuel Linda.
URL:https://ordinariato.castrense.pt/evento/missa-no-dia-do-comando-de-pessoal/
END:VEVENT
BEGIN:VEVENT
DTSTART;TZID=UTC:20151119T100000
DTEND;TZID=UTC:20151119T170000
DTSTAMP:20260425T154432
CREATED:20151103T225839Z
LAST-MODIFIED:20151103T225839Z
UID:618-1447927200-1447952400@ordinariato.castrense.pt
SUMMARY:Reunião de Capelães do Norte
DESCRIPTION:Bispo e Capelão Adjunto para o Exército reúnem com os capelães em serviço no norte do país.
URL:https://ordinariato.castrense.pt/evento/reuniao-de-capelaes-do-norte/
END:VEVENT
BEGIN:VEVENT
DTSTART;TZID=UTC:20151118T190000
DTEND;TZID=UTC:20151118T200000
DTSTAMP:20260425T154432
CREATED:20151103T225641Z
LAST-MODIFIED:20151103T225641Z
UID:617-1447873200-1447876800@ordinariato.castrense.pt
SUMMARY:Imagem Peregrina na GNR de Évora
DESCRIPTION:A imagem peregrina de Nossa Senhora de Fátima será recebida no Comando Distrital da Guarda\, em Évora. Estará presente o Bispo das Forças Armadas e Forças de Segurança e o Capelão Adjunto para a GNR.
URL:https://ordinariato.castrense.pt/evento/imagem-peregrina-na-gnr-de-evora/
END:VEVENT
END:VCALENDAR