BEGIN:VCALENDAR
VERSION:2.0
PRODID:-//Ordinariato Castrense - ECPv6.15.20//NONSGML v1.0//EN
CALSCALE:GREGORIAN
METHOD:PUBLISH
X-ORIGINAL-URL:https://ordinariato.castrense.pt
X-WR-CALDESC:Eventos para Ordinariato Castrense
REFRESH-INTERVAL;VALUE=DURATION:PT1H
X-Robots-Tag:noindex
X-PUBLISHED-TTL:PT1H
BEGIN:VTIMEZONE
TZID:UTC
BEGIN:STANDARD
TZOFFSETFROM:+0000
TZOFFSETTO:+0000
TZNAME:UTC
DTSTART:20140101T000000
END:STANDARD
END:VTIMEZONE
BEGIN:VEVENT
DTSTART;TZID=UTC:20151205T080000
DTEND;TZID=UTC:20151205T170000
DTSTAMP:20260425T185515
CREATED:20151122T120533Z
LAST-MODIFIED:20151122T120533Z
UID:653-1449302400-1449334800@ordinariato.castrense.pt
SUMMARY:Chaves: Associação de Comandos
DESCRIPTION:O Capelão da Brigada Mecanizada celebra a Eucaristia de Natal da Associação de Comandos de Chaves.
URL:https://ordinariato.castrense.pt/evento/chaves-associacao-de-comandos/
END:VEVENT
BEGIN:VEVENT
DTSTART;TZID=UTC:20151204T080000
DTEND;TZID=UTC:20151204T170000
DTSTAMP:20260425T185515
CREATED:20151122T121924Z
LAST-MODIFIED:20151122T121924Z
UID:658-1449216000-1449248400@ordinariato.castrense.pt
SUMMARY:Alverca: inauguração do Presépio
DESCRIPTION:O Bispo das Forças das Forças Armadas e das Forças de Segurança visita oficialmente o Depósito Geral de Material da Força Aérea e o REA (Alverca) e procede à inauguração do Presépio.
URL:https://ordinariato.castrense.pt/evento/alverca-inauguracao-do-presepio/
END:VEVENT
BEGIN:VEVENT
DTSTART;TZID=UTC:20151203T180000
DTEND;TZID=UTC:20151203T190000
DTSTAMP:20260425T185515
CREATED:20151122T121749Z
LAST-MODIFIED:20151122T121749Z
UID:657-1449165600-1449169200@ordinariato.castrense.pt
SUMMARY:Memória: Missa da Primeira Quinta feira
DESCRIPTION:Como é habitual às primeiras Quintas feiras de cada mês\, os Capelães da Zona de Lisboa concelebram com o seu Bispo ou\, na impossibilidade deste\, com o Vigário Geral do Ordinariato.
URL:https://ordinariato.castrense.pt/evento/memoria-missa-da-primeira-quinta-feira/
END:VEVENT
BEGIN:VEVENT
DTSTART;TZID=UTC:20151203T080000
DTEND;TZID=UTC:20151203T170000
DTSTAMP:20260425T185515
CREATED:20151122T121550Z
LAST-MODIFIED:20151122T121550Z
UID:656-1449129600-1449162000@ordinariato.castrense.pt
SUMMARY:Visita Pastoral ao Lar da Runa
DESCRIPTION:O Bispo das Forças das Forças Armadas e das Forças de Segurança visita o Lar da Runa (IASFA) e administra o Sacramento da Santa Unção.
URL:https://ordinariato.castrense.pt/evento/visita-pastoral-ao-lar-da-runa/
END:VEVENT
BEGIN:VEVENT
DTSTART;TZID=UTC:20151202T080000
DTEND;TZID=UTC:20151202T170000
DTSTAMP:20260425T185515
CREATED:20151122T121135Z
LAST-MODIFIED:20151122T121135Z
UID:655-1449043200-1449075600@ordinariato.castrense.pt
SUMMARY:Reunião de Capelães da GNR
DESCRIPTION:O Bispos das Forças Armadas e das Forças de Segurança reúne com os Capelães em serviço na GNR\, na Unidade de Honras de Estado (Lisboa).
URL:https://ordinariato.castrense.pt/evento/reuniao-de-capelaes-da-gnr/
END:VEVENT
BEGIN:VEVENT
DTSTART;TZID=UTC:20151128T080000
DTEND;TZID=UTC:20151128T170000
DTSTAMP:20260425T185515
CREATED:20151122T120737Z
LAST-MODIFIED:20151122T120737Z
UID:654-1448697600-1448730000@ordinariato.castrense.pt
SUMMARY:Chaves: Bodo do Combatente
DESCRIPTION:Eucaristia no Regimento de Infantaria N 19\, no tradicional Bodo do Combatente.
URL:https://ordinariato.castrense.pt/evento/chaves-bodo-do-combatente/
END:VEVENT
BEGIN:VEVENT
DTSTART;TZID=UTC:20151125T143000
DTEND;TZID=UTC:20151125T153000
DTSTAMP:20260425T185515
CREATED:20151122T124624Z
LAST-MODIFIED:20151122T124624Z
UID:671-1448461800-1448465400@ordinariato.castrense.pt
SUMMARY:Missa por alma do GEN Jaime Neves
DESCRIPTION:Em São Martinho de Anta (Vila Real)\, vai realizar-se uma Homenagem ao Major General Jaime Neves. O capelão do RI 13 preside a uma Celebração Eucarística\, integrada nessas cerimonias.
URL:https://ordinariato.castrense.pt/evento/missa-por-alma-do-gen-jaime-neves/
END:VEVENT
BEGIN:VEVENT
DTSTART;TZID=UTC:20151120T090000
DTEND;TZID=UTC:20151120T100000
DTSTAMP:20260425T185515
CREATED:20151103T230003Z
LAST-MODIFIED:20151103T230003Z
UID:619-1448010000-1448013600@ordinariato.castrense.pt
SUMMARY:Missa no Dia do Comando de Pessoal
DESCRIPTION:Na igreja da Lapa (Porto)\, integrada no Dia do Comando de Pessoal. Preside D. Manuel Linda.
URL:https://ordinariato.castrense.pt/evento/missa-no-dia-do-comando-de-pessoal/
END:VEVENT
BEGIN:VEVENT
DTSTART;TZID=UTC:20151119T100000
DTEND;TZID=UTC:20151119T170000
DTSTAMP:20260425T185515
CREATED:20151103T225839Z
LAST-MODIFIED:20151103T225839Z
UID:618-1447927200-1447952400@ordinariato.castrense.pt
SUMMARY:Reunião de Capelães do Norte
DESCRIPTION:Bispo e Capelão Adjunto para o Exército reúnem com os capelães em serviço no norte do país.
URL:https://ordinariato.castrense.pt/evento/reuniao-de-capelaes-do-norte/
END:VEVENT
BEGIN:VEVENT
DTSTART;TZID=UTC:20151118T190000
DTEND;TZID=UTC:20151118T200000
DTSTAMP:20260425T185515
CREATED:20151103T225641Z
LAST-MODIFIED:20151103T225641Z
UID:617-1447873200-1447876800@ordinariato.castrense.pt
SUMMARY:Imagem Peregrina na GNR de Évora
DESCRIPTION:A imagem peregrina de Nossa Senhora de Fátima será recebida no Comando Distrital da Guarda\, em Évora. Estará presente o Bispo das Forças Armadas e Forças de Segurança e o Capelão Adjunto para a GNR.
URL:https://ordinariato.castrense.pt/evento/imagem-peregrina-na-gnr-de-evora/
END:VEVENT
BEGIN:VEVENT
DTSTART;TZID=UTC:20151118T093000
DTEND;TZID=UTC:20151118T140000
DTSTAMP:20260425T185515
CREATED:20151103T225434Z
LAST-MODIFIED:20151103T225434Z
UID:616-1447839000-1447855200@ordinariato.castrense.pt
SUMMARY:Visita Pastoral à Unidade Costeira
DESCRIPTION:D. Manuel Linda procede à visita pastoral a esta Unidade da Guarda Nacional Republicana.
URL:https://ordinariato.castrense.pt/evento/visita-pastoral-a-unidade-costeira/
END:VEVENT
BEGIN:VEVENT
DTSTART;TZID=UTC:20151117T093000
DTEND;TZID=UTC:20151117T170000
DTSTAMP:20260425T185515
CREATED:20151103T225146Z
LAST-MODIFIED:20151103T225146Z
UID:615-1447752600-1447779600@ordinariato.castrense.pt
SUMMARY:Conselho de Consultores
DESCRIPTION:Reúne na Capelania Mor. É constituído pelos Capelães Adjuntos\, como órgão de aconselhamento do Bispo.
URL:https://ordinariato.castrense.pt/evento/conselho-de-consultores/
END:VEVENT
BEGIN:VEVENT
DTSTART;TZID=UTC:20151116T180000
DTEND;TZID=UTC:20151116T190000
DTSTAMP:20260425T185515
CREATED:20151111T234927Z
LAST-MODIFIED:20151111T235246Z
UID:640-1447696800-1447700400@ordinariato.castrense.pt
SUMMARY:Padre Amorim: Missa de 1º mês
DESCRIPTION:Na próxima segunda feira\, às 18 horas\, na Igreja da Memória\, o Bispo das Forças Armadas e das Forças de Segurança preside à celebração da Missa de primeiro mês do falecimento do P. Manuel da Costa Amorim. Convidam-se todos os que puderem participar.
URL:https://ordinariato.castrense.pt/evento/padre-amorim-missa-de-1o-mes/
END:VEVENT
BEGIN:VEVENT
DTSTART;TZID=UTC:20151113T100000
DTEND;TZID=UTC:20151113T170000
DTSTAMP:20260425T185515
CREATED:20151103T225014Z
LAST-MODIFIED:20151103T225014Z
UID:614-1447408800-1447434000@ordinariato.castrense.pt
SUMMARY:Reunião de Capelães da Força Aérea
DESCRIPTION:De manhã\, na Base de Monte Real\, reunem os capelães da Força Aérea com D. Manuel Linda. De tarde\, o Bispo procede a visita pastoral à Base.
URL:https://ordinariato.castrense.pt/evento/reuniao-de-capelaes-da-forca-aerea/
END:VEVENT
BEGIN:VEVENT
DTSTART;TZID=UTC:20151111T101500
DTEND;TZID=UTC:20151111T123000
DTSTAMP:20260425T185515
CREATED:20151103T224836Z
LAST-MODIFIED:20151103T224836Z
UID:613-1447236900-1447245000@ordinariato.castrense.pt
SUMMARY:Bênção da Capela do Combatente
DESCRIPTION:A Liga dos Combatentes promove a comemoração do Armistício e o fim da guerra do Ultramar. Este ano\, haverá a bênção de uma capela ou espaço/memorial onde se colocará uma urna com os restos mortais de um combatente caído na guerra do Ultramar. A bênção será feita por D. Manuel Linda \n 
URL:https://ordinariato.castrense.pt/evento/bencao-da-capela-do-combatente/
END:VEVENT
BEGIN:VEVENT
DTSTART;TZID=UTC:20151108T100000
DTEND;TZID=UTC:20151108T140000
DTSTAMP:20260425T185515
CREATED:20151103T224447Z
LAST-MODIFIED:20151103T224447Z
UID:612-1446976800-1446991200@ordinariato.castrense.pt
SUMMARY:Encontro de Casais
DESCRIPTION:O tradicional encontro dos casais cristãos do Ordinariato realiza-se na manha do Domingo\, 8/11. O Casal coordenador nacional da Pastoral da Família apresentará temas debatidos no recente Sínodo dos Bispos. Depois\, a Eucaristia\, celebrada por D\, Manuel Linda. O encontro termina com o almoço. As incrições devem fazer-se junto das Capelanias das Unidades. \n 
URL:https://ordinariato.castrense.pt/evento/encontro-de-casais/
END:VEVENT
BEGIN:VEVENT
DTSTART;TZID=UTC:20151104T113000
DTEND;TZID=UTC:20151104T123000
DTSTAMP:20260425T185515
CREATED:20151103T223436Z
LAST-MODIFIED:20151103T223436Z
UID:609-1446636600-1446640200@ordinariato.castrense.pt
SUMMARY:Fiéis Defuntos do Ordinariato
DESCRIPTION:Na igreja de Santa Maria de Belém (Mosteiro dos Jerónimos)\, será celebrada a tradicional Missa pelos defuntos das Forças Armadas e das Forças de Segurança\, seus familiares e civis que para elas trabalharam.
URL:https://ordinariato.castrense.pt/evento/fieis-defuntos-do-ordinariato/
END:VEVENT
BEGIN:VEVENT
DTSTART;TZID=UTC:20151104T100000
DTEND;TZID=UTC:20151104T110000
DTSTAMP:20260425T185515
CREATED:20151103T223759Z
LAST-MODIFIED:20151103T223759Z
UID:610-1446631200-1446634800@ordinariato.castrense.pt
SUMMARY:Comemoração da Grande Guerra
DESCRIPTION:Correspondendo ao pedido do Papa Francisco\, o Ordinariato comemora o centenário da Grande Guerra com uma Conferência proferida pelo Patriarca de Lisboa\, Card. D. Manuel Clemente\, subordinada ao tema: “Bento XV e a a paz”. No Museu de Marinha (edifício do Mosteiro dos Jerónimos”. Entrada livre.
URL:https://ordinariato.castrense.pt/evento/comemoracao-da-grande-guerra/
END:VEVENT
BEGIN:VEVENT
DTSTART;TZID=UTC:20151101T080000
DTEND;TZID=UTC:20151101T170000
DTSTAMP:20260425T185515
CREATED:20151021T214246Z
LAST-MODIFIED:20151021T214257Z
UID:421-1446364800-1446397200@ordinariato.castrense.pt
SUMMARY:Dia de Todos os Santos
DESCRIPTION:Solenidade do Dia de Todos os Santos
URL:https://ordinariato.castrense.pt/evento/dia-de-todos-os-santos/
END:VEVENT
BEGIN:VEVENT
DTSTART;VALUE=DATE:20151030
DTEND;VALUE=DATE:20151031
DTSTAMP:20260425T185515
CREATED:20151021T220906Z
LAST-MODIFIED:20151021T220906Z
UID:434-1446163200-1446249599@ordinariato.castrense.pt
SUMMARY:Zona Pastoral de Lisboa
DESCRIPTION:Reunião dos Capelães da Zona Pastoral de Lisboa (Exército) com o Bispo e o Capelão Adjunto.
URL:https://ordinariato.castrense.pt/evento/zona-pastoral-de-lisboa/
END:VEVENT
BEGIN:VEVENT
DTSTART;VALUE=DATE:20151029
DTEND;VALUE=DATE:20151030
DTSTAMP:20260425T185515
CREATED:20151021T220722Z
LAST-MODIFIED:20151021T220747Z
UID:433-1446076800-1446163199@ordinariato.castrense.pt
SUMMARY:Zona Pastoral de Santa Margarida
DESCRIPTION:Reunião dos Capelães da Zona Pastoral de Santa Margarida com o Bispo e o Capelão Adjunto para o Exército.
URL:https://ordinariato.castrense.pt/evento/zona-pastoral-de-santa-margarida/
END:VEVENT
BEGIN:VEVENT
DTSTART;TZID=UTC:20151028T100000
DTEND;TZID=UTC:20151028T140000
DTSTAMP:20260425T185515
CREATED:20151021T220346Z
LAST-MODIFIED:20151021T220346Z
UID:431-1446026400-1446040800@ordinariato.castrense.pt
SUMMARY:Conselho Nacional das Missões
DESCRIPTION:Reúne\, em Fátima\, com os delegados diocesanos.
URL:https://ordinariato.castrense.pt/evento/conselho-nacional-das-missoes/
END:VEVENT
BEGIN:VEVENT
DTSTART;TZID=UTC:20151027T080000
DTEND;TZID=UTC:20151027T170000
DTSTAMP:20260425T185515
CREATED:20151021T215905Z
LAST-MODIFIED:20151021T215916Z
UID:428-1445932800-1445965200@ordinariato.castrense.pt
SUMMARY:Nova Evangelização
DESCRIPTION:Reunião dos bispos e delegados diocesanos da pastoral sobre o tema da nova evangelização. Preside D. Manuel Linda. Participa o Vigário Geral\, P. José Ilídio. Em Fátima
URL:https://ordinariato.castrense.pt/evento/nova-evangelizacao/
END:VEVENT
BEGIN:VEVENT
DTSTART;VALUE=DATE:20151027
DTEND;VALUE=DATE:20151103
DTSTAMP:20260425T185515
CREATED:20151021T220225Z
LAST-MODIFIED:20151021T221232Z
UID:430-1445904000-1446508799@ordinariato.castrense.pt
SUMMARY:Reunião de Comissão Episcopal
DESCRIPTION:Reúne\, em Fátima\, a Comissão Episcopal da Missão e Nova Evangelização\, presidida por D. Manuel Linda. Compreende os sectores das Missões\, Nova Evangelização\, Ecumenismo e Diálogo Inter-religioso.
URL:https://ordinariato.castrense.pt/evento/reuniao-de-comissao-episcopal/
END:VEVENT
BEGIN:VEVENT
DTSTART;TZID=UTC:20151026T180000
DTEND;TZID=UTC:20151026T180000
DTSTAMP:20260425T185515
CREATED:20151021T215203Z
LAST-MODIFIED:20151021T222000Z
UID:425-1445882400-1445882400@ordinariato.castrense.pt
SUMMARY:Homenagem a D. Manuel Martins
DESCRIPTION:D. Manuel Linda participa na sessão de homenagem ao antigo Bispo de Setúbal por motivo dos seus 40 anos de episcopado.
URL:https://ordinariato.castrense.pt/evento/imagem-peregrina-visita-ba/
LOCATION:Montijo\, Montijo\, Portugal
END:VEVENT
BEGIN:VEVENT
DTSTART;TZID=UTC:20151026T000000
DTEND;TZID=UTC:20151026T170000
DTSTAMP:20260425T185515
CREATED:20151021T221858Z
LAST-MODIFIED:20151021T221858Z
UID:435-1445817600-1445878800@ordinariato.castrense.pt
SUMMARY:Imagem Peregrina na BA6 - Montijo
DESCRIPTION:Chefe de Estado-Maior da Força Aérea\, Comandante da BA6\, Bispo das Forças Armadas e das Forças de Segurança e Capelães recebem\, no Montijo\, a Imagem Peregrina de Nossa Senhora de Fátima.
URL:https://ordinariato.castrense.pt/evento/imagem-peregrina-na-ba6-montijo/
END:VEVENT
BEGIN:VEVENT
DTSTART;TZID=UTC:20151025T220000
DTEND;TZID=UTC:20151025T220000
DTSTAMP:20260425T185515
CREATED:20151021T224443Z
LAST-MODIFIED:20151021T224630Z
UID:440-1445810400-1445810400@ordinariato.castrense.pt
SUMMARY:Missa por alma do P. Amorim no Alfeite
DESCRIPTION:Na capela da Base Naval de Lisboa\, no Alfeite\, onde o P. Manuel Amorim tanto trabalhou.
URL:https://ordinariato.castrense.pt/evento/missa-por-alma-do-p-amorim/
END:VEVENT
BEGIN:VEVENT
DTSTART;TZID=UTC:20151025T080000
DTEND;TZID=UTC:20151025T160000
DTSTAMP:20260425T185515
CREATED:20151021T214946Z
LAST-MODIFIED:20151021T214957Z
UID:424-1445760000-1445788800@ordinariato.castrense.pt
SUMMARY:Ordenação do Bispo de Setúbal
DESCRIPTION:Às 16h00\, D. Manuel Linda participa na Ordenação de D. José Ornelas\, novo Bispo de Setúbal.
URL:https://ordinariato.castrense.pt/evento/ordenacao-do-bispo-de-setubal/
END:VEVENT
BEGIN:VEVENT
DTSTART;TZID=UTC:20151024T110000
DTEND;TZID=UTC:20151024T170000
DTSTAMP:20260425T185515
CREATED:20151021T214743Z
LAST-MODIFIED:20151021T214750Z
UID:423-1445684400-1445706000@ordinariato.castrense.pt
SUMMARY:Dia do Exército
DESCRIPTION:Celebração da Eucaristia\, pelo Ordinário Militar para Portugal\, na igreja de Santa Cruz de Coimbra\, no Dia do Exército.
URL:https://ordinariato.castrense.pt/evento/dia-do-exercito/
END:VEVENT
BEGIN:VEVENT
DTSTART;TZID=UTC:20151022T180000
DTEND;TZID=UTC:20151022T180000
DTSTAMP:20260425T185515
CREATED:20151021T224829Z
LAST-MODIFIED:20151021T225021Z
UID:442-1445536800-1445536800@ordinariato.castrense.pt
SUMMARY:Missa de 7º dia na Memória
DESCRIPTION:Por alma do P. Amorim. Preside o Vigário Geral em virtude de o senhor Bispo se encontrar em Santa Margarida\, na recepção da imagem peregrina de Nossa Senhora de Fátima.
URL:https://ordinariato.castrense.pt/evento/missa-de-7o-dia-na-memoria/
END:VEVENT
END:VCALENDAR