BEGIN:VCALENDAR
VERSION:2.0
PRODID:-//Ordinariato Castrense - ECPv6.15.20//NONSGML v1.0//EN
CALSCALE:GREGORIAN
METHOD:PUBLISH
X-WR-CALNAME:Ordinariato Castrense
X-ORIGINAL-URL:https://ordinariato.castrense.pt
X-WR-CALDESC:Eventos para Ordinariato Castrense
REFRESH-INTERVAL;VALUE=DURATION:PT1H
X-Robots-Tag:noindex
X-PUBLISHED-TTL:PT1H
BEGIN:VTIMEZONE
TZID:UTC
BEGIN:STANDARD
TZOFFSETFROM:+0000
TZOFFSETTO:+0000
TZNAME:UTC
DTSTART:20140101T000000
END:STANDARD
END:VTIMEZONE
BEGIN:VEVENT
DTSTART;TZID=UTC:20151022T080000
DTEND;TZID=UTC:20151022T170000
DTSTAMP:20260425T232902
CREATED:20151021T214500Z
LAST-MODIFIED:20151021T214511Z
UID:422-1445500800-1445533200@ordinariato.castrense.pt
SUMMARY:Visita da Imagem Peregrina
DESCRIPTION:Imagem Peregrina de Nossa Senhora de Fátima visita o Campo Militar de Santa Margarida
URL:https://ordinariato.castrense.pt/evento/visita-da-imagem-peregrina/
END:VEVENT
END:VCALENDAR