BEGIN:VCALENDAR
VERSION:2.0
PRODID:-//Ordinariato Castrense - ECPv6.15.20//NONSGML v1.0//EN
CALSCALE:GREGORIAN
METHOD:PUBLISH
X-ORIGINAL-URL:https://ordinariato.castrense.pt
X-WR-CALDESC:Eventos para Ordinariato Castrense
REFRESH-INTERVAL;VALUE=DURATION:PT1H
X-Robots-Tag:noindex
X-PUBLISHED-TTL:PT1H
BEGIN:VTIMEZONE
TZID:UTC
BEGIN:STANDARD
TZOFFSETFROM:+0000
TZOFFSETTO:+0000
TZNAME:UTC
DTSTART:20170101T000000
END:STANDARD
END:VTIMEZONE
BEGIN:VEVENT
DTSTART;TZID=UTC:20190303T123000
DTEND;TZID=UTC:20190303T140000
DTSTAMP:20260423T014759
CREATED:20190227T123706Z
LAST-MODIFIED:20190227T123721Z
UID:6305-1551616200-1551621600@ordinariato.castrense.pt
SUMMARY:Missa no Colégio Militar
DESCRIPTION:Igreja de S. Domingos \nPreside D. Rui Valério
URL:https://ordinariato.castrense.pt/evento/missa-no-colegio-militar/
END:VEVENT
BEGIN:VEVENT
DTSTART;TZID=UTC:20190302T100000
DTEND;TZID=UTC:20190302T123000
DTSTAMP:20260423T014759
CREATED:20190227T123429Z
LAST-MODIFIED:20190227T123507Z
UID:6303-1551520800-1551529800@ordinariato.castrense.pt
SUMMARY:Missa na Igreja da Memória
DESCRIPTION:Igreja da Memória
URL:https://ordinariato.castrense.pt/evento/missa-na-igreja-da-memoria-2/
END:VEVENT
BEGIN:VEVENT
DTSTART;VALUE=DATE:20190223
DTEND;VALUE=DATE:20190302
DTSTAMP:20260423T014759
CREATED:20190207T135014Z
LAST-MODIFIED:20190207T135014Z
UID:6129-1550880000-1551484799@ordinariato.castrense.pt
SUMMARY:Visita Unidades Militares nos Açores
DESCRIPTION:Visita Unidades Militares nos Açores
URL:https://ordinariato.castrense.pt/evento/visita-unidades-militares-nos-acores/
END:VEVENT
BEGIN:VEVENT
DTSTART;VALUE=DATE:20190220
DTEND;VALUE=DATE:20190221
DTSTAMP:20260423T014759
CREATED:20190207T134735Z
LAST-MODIFIED:20190207T134735Z
UID:6127-1550620800-1550707199@ordinariato.castrense.pt
SUMMARY:Visita ao Comando da Instrução e Doutrina - Évora
DESCRIPTION:Visita ao Comando da Instrução e Doutrina – Évora
URL:https://ordinariato.castrense.pt/evento/visita-ao-comando-da-instrucao-e-doutrina-evora/
END:VEVENT
BEGIN:VEVENT
DTSTART;VALUE=DATE:20190219
DTEND;VALUE=DATE:20190220
DTSTAMP:20260423T014759
CREATED:20190207T134351Z
LAST-MODIFIED:20190207T134351Z
UID:6125-1550534400-1550620799@ordinariato.castrense.pt
SUMMARY:Visita BA5 - Monte Real
DESCRIPTION:Visita BA5 – Monte Real
URL:https://ordinariato.castrense.pt/evento/visita-ba5-monte-real/
END:VEVENT
BEGIN:VEVENT
DTSTART;VALUE=DATE:20190218
DTEND;VALUE=DATE:20190219
DTSTAMP:20260423T014759
CREATED:20190207T134244Z
LAST-MODIFIED:20190207T134244Z
UID:6123-1550448000-1550534399@ordinariato.castrense.pt
SUMMARY:Bênção de Helicópteros - FAP
DESCRIPTION:Bênção de Helicópteros – FAP
URL:https://ordinariato.castrense.pt/evento/bencao-de-helicopteros-fap/
END:VEVENT
BEGIN:VEVENT
DTSTART;VALUE=DATE:20190217
DTEND;VALUE=DATE:20190218
DTSTAMP:20260423T014759
CREATED:20190207T134052Z
LAST-MODIFIED:20190207T134052Z
UID:6121-1550361600-1550447999@ordinariato.castrense.pt
SUMMARY:Tomada de Posse de D. Nuno Brás - Madeira
DESCRIPTION:Tomada de Posse de D. Nuno Brás – Madeira
URL:https://ordinariato.castrense.pt/evento/tomada-de-posse-de-d-nuno-bras-madeira/
END:VEVENT
BEGIN:VEVENT
DTSTART;VALUE=DATE:20190215
DTEND;VALUE=DATE:20190216
DTSTAMP:20260423T014759
CREATED:20190207T133922Z
LAST-MODIFIED:20190207T133922Z
UID:6119-1550188800-1550275199@ordinariato.castrense.pt
SUMMARY:Despedida do CEMFA
DESCRIPTION:Despedida do CEMFA
URL:https://ordinariato.castrense.pt/evento/despedida-do-cemfa/
END:VEVENT
BEGIN:VEVENT
DTSTART;VALUE=DATE:20190214
DTEND;VALUE=DATE:20190215
DTSTAMP:20260423T014759
CREATED:20190207T132109Z
LAST-MODIFIED:20190207T132109Z
UID:6117-1550102400-1550188799@ordinariato.castrense.pt
SUMMARY:Visita ao Museu Militar - Elvas
DESCRIPTION:Visita ao Museu Militar – Elvas
URL:https://ordinariato.castrense.pt/evento/visita-ao-museu-militar-elvas/
END:VEVENT
BEGIN:VEVENT
DTSTART;VALUE=DATE:20190214
DTEND;VALUE=DATE:20190215
DTSTAMP:20260423T014759
CREATED:20190207T131931Z
LAST-MODIFIED:20190207T131938Z
UID:6115-1550102400-1550188799@ordinariato.castrense.pt
SUMMARY:Visita ao RC3 - Estremoz
DESCRIPTION:Visita ao RC3 – Estremoz
URL:https://ordinariato.castrense.pt/evento/visita-ao-rc3-estremoz/
END:VEVENT
BEGIN:VEVENT
DTSTART;VALUE=DATE:20190212
DTEND;VALUE=DATE:20190213
DTSTAMP:20260423T014759
CREATED:20190207T124407Z
LAST-MODIFIED:20190207T124414Z
UID:6113-1549929600-1550015999@ordinariato.castrense.pt
SUMMARY:Reunião Capelães do Exército  - Gaia
DESCRIPTION:Reunião Capelães do Exército – Gaia \nComando de Pessoal – Frente a Igreja da Lapa
URL:https://ordinariato.castrense.pt/evento/reuniao-capelaes-do-exercito-gaia/
END:VEVENT
BEGIN:VEVENT
DTSTART;VALUE=DATE:20190211
DTEND;VALUE=DATE:20190212
DTSTAMP:20260423T014759
CREATED:20181204T142834Z
LAST-MODIFIED:20181204T142921Z
UID:5617-1549843200-1549929599@ordinariato.castrense.pt
SUMMARY:Dia Mundial do Doente no Hospital das Forças Armadas
DESCRIPTION:Preside D. Rui Valério\, Bispo das Forças Armadas e de Segurança \nHFAR
URL:https://ordinariato.castrense.pt/evento/dia-mundial-do-doente-no-hospital-militar-das-forcas-armadas/
END:VEVENT
BEGIN:VEVENT
DTSTART;VALUE=DATE:20190208
DTEND;VALUE=DATE:20190209
DTSTAMP:20260423T014759
CREATED:20190207T124139Z
LAST-MODIFIED:20190207T124150Z
UID:6111-1549584000-1549670399@ordinariato.castrense.pt
SUMMARY:Cerimónia de Entrega do Estandarte Nacional da 5ª FND/CONJ/MINUSCA - RCA
DESCRIPTION:Regimento de Comandos – Carregueira \nCerimónia de Entrega do Estandarte Nacional da 5ª Força Nacional Destacada para o Teatro de Operações da RCA
URL:https://ordinariato.castrense.pt/evento/cerimonia-de-entrega-do-estandarte-nacional-da-5a-fnd-conj-minusca-rca/
END:VEVENT
BEGIN:VEVENT
DTSTART;TZID=UTC:20190207T180000
DTEND;TZID=UTC:20190207T193000
DTSTAMP:20260423T014759
CREATED:20180920T092315Z
LAST-MODIFIED:20180920T092359Z
UID:5335-1549562400-1549567800@ordinariato.castrense.pt
SUMMARY:Missa da 1ª Quinta feira
DESCRIPTION:Igreja da Memória
URL:https://ordinariato.castrense.pt/evento/missa-da-1a-quinta-feira-11/
END:VEVENT
BEGIN:VEVENT
DTSTART;VALUE=DATE:20190207
DTEND;VALUE=DATE:20190208
DTSTAMP:20260423T014759
CREATED:20190207T123725Z
LAST-MODIFIED:20190207T123732Z
UID:6109-1549497600-1549583999@ordinariato.castrense.pt
SUMMARY:RL2 - Dia da Unidade
DESCRIPTION:
URL:https://ordinariato.castrense.pt/evento/rl2-dia-da-unidade/
END:VEVENT
BEGIN:VEVENT
DTSTART;TZID=UTC:20190121T153000
DTEND;TZID=UTC:20190121T193000
DTSTAMP:20260423T014759
CREATED:20180920T091625Z
LAST-MODIFIED:20180920T091650Z
UID:5331-1548084600-1548099000@ordinariato.castrense.pt
SUMMARY:Conselho de Consultores
DESCRIPTION:Domus Carmeli
URL:https://ordinariato.castrense.pt/evento/conselho-de-consultores-30/
END:VEVENT
BEGIN:VEVENT
DTSTART;VALUE=DATE:20190121
DTEND;VALUE=DATE:20190125
DTSTAMP:20260423T014759
CREATED:20180920T091852Z
LAST-MODIFIED:20190117T115953Z
UID:5333-1548028800-1548374399@ordinariato.castrense.pt
SUMMARY:Retiro e reunião Geral de Capelães
DESCRIPTION:(D. José Traquina) \nDomus Carmeli \nTodos os capelães
URL:https://ordinariato.castrense.pt/evento/retiro-e-reuniao-geral-de-capelaes/
END:VEVENT
BEGIN:VEVENT
DTSTART;VALUE=DATE:20190115
DTEND;VALUE=DATE:20190116
DTSTAMP:20260423T014759
CREATED:20180920T091421Z
LAST-MODIFIED:20180920T091449Z
UID:5329-1547510400-1547596799@ordinariato.castrense.pt
SUMMARY:Dia de Nossa Senhora do Ar
DESCRIPTION:(FAP)
URL:https://ordinariato.castrense.pt/evento/dia-de-nossa-senhora-do-ar/
END:VEVENT
BEGIN:VEVENT
DTSTART;TZID=UTC:20190103T180000
DTEND;TZID=UTC:20190103T193000
DTSTAMP:20260423T014759
CREATED:20180920T091210Z
LAST-MODIFIED:20180920T091230Z
UID:5327-1546538400-1546543800@ordinariato.castrense.pt
SUMMARY:Missa da 1ª Quinta feira
DESCRIPTION:Igreja da Memória
URL:https://ordinariato.castrense.pt/evento/missa-da-1a-quinta-feira-10/
END:VEVENT
BEGIN:VEVENT
DTSTART;TZID=UTC:20181221T000000
DTEND;TZID=UTC:20181221T130000
DTSTAMP:20260423T014759
CREATED:20181204T142459Z
LAST-MODIFIED:20181204T142459Z
UID:5615-1545350400-1545397200@ordinariato.castrense.pt
SUMMARY:Celebração de Natal na Escola das Armas
DESCRIPTION:A Eucaristia será celebrada por Sua Excelência Reverendíssima D. Rui Valério\, Bispo das Forças Armadas e de Segurança \nMafra
URL:https://ordinariato.castrense.pt/evento/celebracao-de-natal-na-escola-das-armas/
END:VEVENT
BEGIN:VEVENT
DTSTART;VALUE=DATE:20181220
DTEND;VALUE=DATE:20181221
DTSTAMP:20260423T014759
CREATED:20181204T142330Z
LAST-MODIFIED:20181204T142330Z
UID:5613-1545264000-1545350399@ordinariato.castrense.pt
SUMMARY:Celebração de Natal na Guarda Nacional Republicana
DESCRIPTION:A Eucaristia será celebrada por Sua Excelência Reverendíssima D. Rui Valério\, Bispo das Forças Armadas e de Segurança \nBasílica dos Mártires
URL:https://ordinariato.castrense.pt/evento/celebracao-de-natal-na-guarda-nacional-republicana/
END:VEVENT
BEGIN:VEVENT
DTSTART;VALUE=DATE:20181219
DTEND;VALUE=DATE:20181220
DTSTAMP:20260423T014759
CREATED:20181204T142138Z
LAST-MODIFIED:20181204T142138Z
UID:5611-1545177600-1545263999@ordinariato.castrense.pt
SUMMARY:Celebração de Natal na Escola Naval
DESCRIPTION:A Eucaristia será celebrada por Sua Excelência Reverendíssima D. Rui Valério\, Bispo das Forças Armadas e de Segurança \nEscola Naval
URL:https://ordinariato.castrense.pt/evento/celebracao-de-natal-na-escola-naval/
END:VEVENT
BEGIN:VEVENT
DTSTART;TZID=UTC:20181218T110000
DTEND;TZID=UTC:20181218T130000
DTSTAMP:20260423T014759
CREATED:20180801T095742Z
LAST-MODIFIED:20181204T141601Z
UID:5298-1545130800-1545138000@ordinariato.castrense.pt
SUMMARY:Celebração de Natal no Estabelecimento Prisional de Tomar
DESCRIPTION:A Eucaristia será celebrada por Sua Excelência Reverendíssima D. Rui Valério\, Bispo das Forças Armadas e de Segurança \nEPT
URL:https://ordinariato.castrense.pt/evento/celebracao-de-natal-no-estabelecimento-prisional-de-tomar/
END:VEVENT
BEGIN:VEVENT
DTSTART;VALUE=DATE:20181218
DTEND;VALUE=DATE:20181219
DTSTAMP:20260423T014759
CREATED:20181204T141906Z
LAST-MODIFIED:20181204T141906Z
UID:5609-1545091200-1545177599@ordinariato.castrense.pt
SUMMARY:Celebração de Natal no Regimento de Apoio Militar de Emergência\, Abrantes
DESCRIPTION:A Eucaristia será celebrada por Sua Excelência Reverendíssima D. Rui Valério\, Bispo das Forças Armadas e de Segurança \nRAME
URL:https://ordinariato.castrense.pt/evento/celebracao-de-natal-no-regimento-de-apoio-militar-de-emergencia-abrantes/
END:VEVENT
BEGIN:VEVENT
DTSTART;TZID=UTC:20181214T120000
DTEND;TZID=UTC:20181214T130000
DTSTAMP:20260423T014759
CREATED:20181026T111021Z
LAST-MODIFIED:20181026T111050Z
UID:5445-1544788800-1544792400@ordinariato.castrense.pt
SUMMARY:Missa de Natal da DGRDN
DESCRIPTION:Igreja da Memória
URL:https://ordinariato.castrense.pt/evento/missa-de-natal-da-dgrdn/
END:VEVENT
BEGIN:VEVENT
DTSTART;TZID=UTC:20181210T180000
DTEND;TZID=UTC:20181210T230000
DTSTAMP:20260423T014759
CREATED:20180801T095616Z
LAST-MODIFIED:20180801T095616Z
UID:5296-1544464800-1544482800@ordinariato.castrense.pt
SUMMARY:Missa e Ceia de Natal dos Capelães
DESCRIPTION:Igreja da Memória
URL:https://ordinariato.castrense.pt/evento/missa-e-ceia-de-natal-dos-capelaes-2/
END:VEVENT
BEGIN:VEVENT
DTSTART;TZID=UTC:20181210T143000
DTEND;TZID=UTC:20181210T173000
DTSTAMP:20260423T014759
CREATED:20180801T095430Z
LAST-MODIFIED:20180801T095430Z
UID:5294-1544452200-1544463000@ordinariato.castrense.pt
SUMMARY:Conselho de Consultores
DESCRIPTION:MDN
URL:https://ordinariato.castrense.pt/evento/conselho-de-consultores-29/
END:VEVENT
BEGIN:VEVENT
DTSTART;TZID=UTC:20181206T180000
DTEND;TZID=UTC:20181206T183000
DTSTAMP:20260423T014759
CREATED:20180801T095328Z
LAST-MODIFIED:20180801T095328Z
UID:5292-1544119200-1544121000@ordinariato.castrense.pt
SUMMARY:Missa da 1ª Quinta-feira
DESCRIPTION:Igreja da Memória
URL:https://ordinariato.castrense.pt/evento/missa-da-1a-quinta-feira-9/
END:VEVENT
BEGIN:VEVENT
DTSTART;VALUE=DATE:20181202
DTEND;VALUE=DATE:20181203
DTSTAMP:20260423T014759
CREATED:20180801T094911Z
LAST-MODIFIED:20181113T144432Z
UID:5288-1543708800-1543795199@ordinariato.castrense.pt
SUMMARY:Encontro de Famílias Militares
DESCRIPTION:Colónia de Férias da GNR
URL:https://ordinariato.castrense.pt/evento/encontro-de-familias-militares-2/
END:VEVENT
BEGIN:VEVENT
DTSTART;TZID=UTC:20181112T143000
DTEND;TZID=UTC:20181112T173000
DTSTAMP:20260423T014759
CREATED:20180801T094751Z
LAST-MODIFIED:20180801T094751Z
UID:5286-1542033000-1542043800@ordinariato.castrense.pt
SUMMARY:Conselho de Consultores
DESCRIPTION:MDN
URL:https://ordinariato.castrense.pt/evento/conselho-de-consultores-28/
END:VEVENT
END:VCALENDAR